BEGIN:VCALENDAR
VERSION:2.0
PRODID:-//Everett Community - ECPv6.15.20//NONSGML v1.0//EN
CALSCALE:GREGORIAN
METHOD:PUBLISH
X-ORIGINAL-URL:https://cal.everettcommunity.org
X-WR-CALDESC:Events for Everett Community
REFRESH-INTERVAL;VALUE=DURATION:PT1H
X-Robots-Tag:noindex
X-PUBLISHED-TTL:PT1H
BEGIN:VTIMEZONE
TZID:America/Los_Angeles
BEGIN:DAYLIGHT
TZOFFSETFROM:-0800
TZOFFSETTO:-0700
TZNAME:PDT
DTSTART:20250309T100000
END:DAYLIGHT
BEGIN:STANDARD
TZOFFSETFROM:-0700
TZOFFSETTO:-0800
TZNAME:PST
DTSTART:20251102T090000
END:STANDARD
BEGIN:DAYLIGHT
TZOFFSETFROM:-0800
TZOFFSETTO:-0700
TZNAME:PDT
DTSTART:20260308T100000
END:DAYLIGHT
BEGIN:STANDARD
TZOFFSETFROM:-0700
TZOFFSETTO:-0800
TZNAME:PST
DTSTART:20261101T090000
END:STANDARD
BEGIN:DAYLIGHT
TZOFFSETFROM:-0800
TZOFFSETTO:-0700
TZNAME:PDT
DTSTART:20270314T100000
END:DAYLIGHT
BEGIN:STANDARD
TZOFFSETFROM:-0700
TZOFFSETTO:-0800
TZNAME:PST
DTSTART:20271107T090000
END:STANDARD
END:VTIMEZONE
BEGIN:VEVENT
DTSTART;TZID=America/Los_Angeles:20260114T190000
DTEND;TZID=America/Los_Angeles:20260114T210000
DTSTAMP:20260421T014913
CREATED:20251223T082030Z
LAST-MODIFIED:20251231T081308Z
UID:10000848-1768417200-1768424400@cal.everettcommunity.org
SUMMARY:Everett Silvertips vs. Moose Jaw Warriors
DESCRIPTION:The Everett Silvertips are back on our home ice for the 2025–26 regular season. Don’t miss your chance to see top-tier WHL hockey live here in Everett.
URL:https://cal.everettcommunity.org/event/everett-silvertips-vs-moose-jaw-warriors/
LOCATION:Angel of the Winds Arena\, 2000 Hewitt Ave\, Everett\, WA\, 98201\, United States
CATEGORIES:Sports & Fitness
ATTACH;FMTTYPE=image/png:https://cal.everettcommunity.org/wp-content/uploads/2025/12/thumb-gm20-b3890b2602.png
END:VEVENT
BEGIN:VEVENT
DTSTART;TZID=America/Los_Angeles:20260103T180000
DTEND;TZID=America/Los_Angeles:20260103T200000
DTSTAMP:20260421T014913
CREATED:20251223T080559Z
LAST-MODIFIED:20251231T081238Z
UID:10000843-1767463200-1767470400@cal.everettcommunity.org
SUMMARY:Everett Silvertips vs. Wenatchee Wild
DESCRIPTION:The Everett Silvertips are back on our home ice for the 2025–26 regular season. Don’t miss your chance to see top-tier WHL hockey live here in Everett.
URL:https://cal.everettcommunity.org/event/everett-silvertips-vs-wenatchee-wild/
LOCATION:Angel of the Winds Arena\, 2000 Hewitt Ave\, Everett\, WA\, 98201\, United States
CATEGORIES:Sports & Fitness
ATTACH;FMTTYPE=image/png:https://cal.everettcommunity.org/wp-content/uploads/2025/12/thumb-gm19-72bc60f495.png
END:VEVENT
END:VCALENDAR