BEGIN:VCALENDAR
VERSION:2.0
PRODID:-//Everett Community - ECPv6.15.20//NONSGML v1.0//EN
CALSCALE:GREGORIAN
METHOD:PUBLISH
X-WR-CALNAME:Everett Community
X-ORIGINAL-URL:https://cal.everettcommunity.org
X-WR-CALDESC:Events for Everett Community
REFRESH-INTERVAL;VALUE=DURATION:PT1H
X-Robots-Tag:noindex
X-PUBLISHED-TTL:PT1H
BEGIN:VTIMEZONE
TZID:America/Los_Angeles
BEGIN:DAYLIGHT
TZOFFSETFROM:-0800
TZOFFSETTO:-0700
TZNAME:PDT
DTSTART:20250309T100000
END:DAYLIGHT
BEGIN:STANDARD
TZOFFSETFROM:-0700
TZOFFSETTO:-0800
TZNAME:PST
DTSTART:20251102T090000
END:STANDARD
BEGIN:DAYLIGHT
TZOFFSETFROM:-0800
TZOFFSETTO:-0700
TZNAME:PDT
DTSTART:20260308T100000
END:DAYLIGHT
BEGIN:STANDARD
TZOFFSETFROM:-0700
TZOFFSETTO:-0800
TZNAME:PST
DTSTART:20261101T090000
END:STANDARD
BEGIN:DAYLIGHT
TZOFFSETFROM:-0800
TZOFFSETTO:-0700
TZNAME:PDT
DTSTART:20270314T100000
END:DAYLIGHT
BEGIN:STANDARD
TZOFFSETFROM:-0700
TZOFFSETTO:-0800
TZNAME:PST
DTSTART:20271107T090000
END:STANDARD
END:VTIMEZONE
BEGIN:VEVENT
DTSTART;TZID=America/Los_Angeles:20260207T180000
DTEND;TZID=America/Los_Angeles:20260207T210000
DTSTAMP:20260421T014914
CREATED:20260126T073647Z
LAST-MODIFIED:20260126T074504Z
UID:10001349-1770487200-1770498000@cal.everettcommunity.org
SUMMARY:Everett Silvertips vs. Victoria Royals
DESCRIPTION:The Everett Silvertips are back on our home ice for the 2025–26 regular season. Don’t miss your chance to see top-tier WHL hockey live here in Everett.
URL:https://cal.everettcommunity.org/event/everett-silvertips-vs-victoria-royals/
LOCATION:Angel of the Winds Arena\, 2000 Hewitt Ave\, Everett\, WA\, 98201\, United States
CATEGORIES:Sports & Fitness
ATTACH;FMTTYPE=image/png:https://cal.everettcommunity.org/wp-content/uploads/2026/01/thumb-gm28-bb7f703d7f.png
END:VEVENT
BEGIN:VEVENT
DTSTART;TZID=America/Los_Angeles:20260206T190000
DTEND;TZID=America/Los_Angeles:20260206T220000
DTSTAMP:20260421T014914
CREATED:20260126T073544Z
LAST-MODIFIED:20260126T074438Z
UID:10001348-1770404400-1770415200@cal.everettcommunity.org
SUMMARY:Everett Silvertips vs. Kamloops Blazers
DESCRIPTION:The Everett Silvertips are back on our home ice for the 2025–26 regular season. Don’t miss your chance to see top-tier WHL hockey live here in Everett.
URL:https://cal.everettcommunity.org/event/everett-silvertips-vs-kamloops-blazers/
LOCATION:Angel of the Winds Arena\, 2000 Hewitt Ave\, Everett\, WA\, 98201\, United States
CATEGORIES:Sports & Fitness
ATTACH;FMTTYPE=image/png:https://cal.everettcommunity.org/wp-content/uploads/2026/01/thumb-gm27-055a65be7a.png
END:VEVENT
BEGIN:VEVENT
DTSTART;TZID=America/Los_Angeles:20260201T160000
DTEND;TZID=America/Los_Angeles:20260201T190000
DTSTAMP:20260421T014914
CREATED:20260126T073335Z
LAST-MODIFIED:20260126T074406Z
UID:10001347-1769961600-1769972400@cal.everettcommunity.org
SUMMARY:Everett Silvertips vs. Tri-City Americans
DESCRIPTION:The Everett Silvertips are back on our home ice for the 2025–26 regular season. Don’t miss your chance to see top-tier WHL hockey live here in Everett.
URL:https://cal.everettcommunity.org/event/everett-silvertips-vs-tri-city-americans/
LOCATION:Angel of the Winds Arena\, 2000 Hewitt Ave\, Everett\, WA\, 98201\, United States
CATEGORIES:Sports & Fitness
ATTACH;FMTTYPE=image/png:https://cal.everettcommunity.org/wp-content/uploads/2026/01/thumb-gm26-9beece16f1.png
END:VEVENT
BEGIN:VEVENT
DTSTART;TZID=America/Los_Angeles:20260130T190000
DTEND;TZID=America/Los_Angeles:20260130T220000
DTSTAMP:20260421T014914
CREATED:20251231T075707Z
LAST-MODIFIED:20251231T075707Z
UID:10000853-1769799600-1769810400@cal.everettcommunity.org
SUMMARY:X-Treme International Ice Racing at Angel of the Winds Arena
DESCRIPTION:Get ready for a night of adrenaline-pumping action as X-Treme International Ice Racing takes over Everett! Watch fearless racers battle it out on high-powered motorcycles and quads on a slick ice track with no brakes! With speed\, skill\, and plenty of edge-of-your-seat excitement\, this family-friendly event delivers nonstop thrills you won’t want to miss!
URL:https://cal.everettcommunity.org/event/x-treme-international-ice-racing-at-angel-of-the-winds-arena/
LOCATION:Angel of the Winds Arena\, 2000 Hewitt Ave\, Everett\, WA\, 98201\, United States
CATEGORIES:Sports & Fitness
ATTACH;FMTTYPE=image/webp:https://cal.everettcommunity.org/wp-content/uploads/2025/12/iceracingh.webp
END:VEVENT
BEGIN:VEVENT
DTSTART;TZID=America/Los_Angeles:20260125T150000
DTEND;TZID=America/Los_Angeles:20260125T190000
DTSTAMP:20260421T014914
CREATED:20251231T081039Z
LAST-MODIFIED:20251231T081039Z
UID:10000859-1769353200-1769367600@cal.everettcommunity.org
SUMMARY:The Harlem Globetrotters 100 Year Tour
DESCRIPTION:Join us for an unforgettable night of basketball magic as the world-famous Harlem Globetrotters bring their legendary 100 Year Tour to the Arena on January 25! \nCelebrating a century of breaking barriers\, making history\, and wowing fans around the globe\, this once-in-a-lifetime event is packed with jaw-dropping dunks\, dazzling trick shots\, and laugh-out-loud moments for fans of all ages. \nFeel the energy\, relive the legacy\, and experience the joy that only the Globetrotters can deliver in this epic centennial celebration. Don’t miss your chance to be part of history! \nFor the first time\, the team will also debut their new 100 Year jerseys\, honoring a century of global impact\, as they face off against their longtime rivals\, the Washington Generals. Fans can also expect all-new surprises like the Golden Basketball by Spalding®\, epic pre-game Magic Pass experiences\, and an unforgettable 5th Quarter Autograph session (FREE for ALL FANS!)—making this a celebration unlike any other.
URL:https://cal.everettcommunity.org/event/the-harlem-globetrotters-100-year-tour/
LOCATION:Angel of the Winds Arena\, 2000 Hewitt Ave\, Everett\, WA\, 98201\, United States
CATEGORIES:Sports & Fitness
ATTACH;FMTTYPE=image/png:https://cal.everettcommunity.org/wp-content/uploads/2025/12/1180x660_HGI_Everett-WA-291998c967.png
END:VEVENT
BEGIN:VEVENT
DTSTART;TZID=America/Los_Angeles:20260124T180000
DTEND;TZID=America/Los_Angeles:20260124T200000
DTSTAMP:20260421T014914
CREATED:20251231T080909Z
LAST-MODIFIED:20251231T080917Z
UID:10000858-1769277600-1769284800@cal.everettcommunity.org
SUMMARY:Everett Silvertips vs. Seattle Thunderbirds
DESCRIPTION:The Everett Silvertips are back on our home ice for the 2025–26 regular season. Don’t miss your chance to see top-tier WHL hockey live here in Everett.
URL:https://cal.everettcommunity.org/event/everett-silvertips-vs-seattle-thunderbirds/
LOCATION:Angel of the Winds Arena\, 2000 Hewitt Ave\, Everett\, WA\, 98201\, United States
CATEGORIES:Sports & Fitness
ATTACH;FMTTYPE=image/png:https://cal.everettcommunity.org/wp-content/uploads/2025/12/thumb-gm25-31f957ff7f.png
END:VEVENT
BEGIN:VEVENT
DTSTART;TZID=America/Los_Angeles:20260123T190000
DTEND;TZID=America/Los_Angeles:20260123T210000
DTSTAMP:20260421T014914
CREATED:20251231T080750Z
LAST-MODIFIED:20251231T080750Z
UID:10000857-1769194800-1769202000@cal.everettcommunity.org
SUMMARY:Everett Silvertips vs. Brandon Wheat Kings
DESCRIPTION:The Everett Silvertips are back on our home ice for the 2025–26 regular season. Don’t miss your chance to see top-tier WHL hockey live here in Everett.
URL:https://cal.everettcommunity.org/event/everett-silvertips-vs-brandon-wheat-kings/
LOCATION:Angel of the Winds Arena\, 2000 Hewitt Ave\, Everett\, WA\, 98201\, United States
CATEGORIES:Sports & Fitness
ATTACH;FMTTYPE=image/png:https://cal.everettcommunity.org/wp-content/uploads/2025/12/thumb-gm24-bf1fe1310c.png
END:VEVENT
BEGIN:VEVENT
DTSTART;TZID=America/Los_Angeles:20260121T190000
DTEND;TZID=America/Los_Angeles:20260121T210000
DTSTAMP:20260421T014914
CREATED:20251231T080618Z
LAST-MODIFIED:20251231T080618Z
UID:10000856-1769022000-1769029200@cal.everettcommunity.org
SUMMARY:Everett Silvertips vs. Kelowna Rockets
DESCRIPTION:The Everett Silvertips are back on our home ice for the 2025–26 regular season. Don’t miss your chance to see top-tier WHL hockey live here in Everett.
URL:https://cal.everettcommunity.org/event/everett-silvertips-vs-kelowna-rockets/
LOCATION:Angel of the Winds Arena\, 2000 Hewitt Ave\, Everett\, WA\, 98201\, United States
CATEGORIES:Sports & Fitness
ATTACH;FMTTYPE=image/png:https://cal.everettcommunity.org/wp-content/uploads/2025/12/thumb-gm23-fb18a3a03d.png
END:VEVENT
BEGIN:VEVENT
DTSTART;TZID=America/Los_Angeles:20260117T180000
DTEND;TZID=America/Los_Angeles:20260117T200000
DTSTAMP:20260421T014914
CREATED:20251231T080434Z
LAST-MODIFIED:20251231T080434Z
UID:10000855-1768672800-1768680000@cal.everettcommunity.org
SUMMARY:Everett Silvertips vs. Vancouver Giants
DESCRIPTION:The Everett Silvertips are back on our home ice for the 2025–26 regular season. Don’t miss your chance to see top-tier WHL hockey live here in Everett.
URL:https://cal.everettcommunity.org/event/everett-silvertips-vs-vancouver-giants/
LOCATION:Angel of the Winds Arena\, 2000 Hewitt Ave\, Everett\, WA\, 98201\, United States
CATEGORIES:Sports & Fitness
ATTACH;FMTTYPE=image/png:https://cal.everettcommunity.org/wp-content/uploads/2025/12/thumb-gm22-49b3a4ad80.png
END:VEVENT
BEGIN:VEVENT
DTSTART;TZID=America/Los_Angeles:20260116T190000
DTEND;TZID=America/Los_Angeles:20260116T210000
DTSTAMP:20260421T014914
CREATED:20251231T080310Z
LAST-MODIFIED:20251231T080310Z
UID:10000854-1768590000-1768597200@cal.everettcommunity.org
SUMMARY:Everett Silvertips vs. Spokane Chiefs
DESCRIPTION:The Everett Silvertips are back on our home ice for the 2025–26 regular season. Don’t miss your chance to see top-tier WHL hockey live here in Everett.
URL:https://cal.everettcommunity.org/event/everett-silvertips-vs-spokane-chiefs/
LOCATION:Angel of the Winds Arena\, 2000 Hewitt Ave\, Everett\, WA\, 98201\, United States
CATEGORIES:Sports & Fitness
ATTACH;FMTTYPE=image/png:https://cal.everettcommunity.org/wp-content/uploads/2025/12/thumb-gm21-bab6773581.png
END:VEVENT
BEGIN:VEVENT
DTSTART;TZID=America/Los_Angeles:20260114T190000
DTEND;TZID=America/Los_Angeles:20260114T210000
DTSTAMP:20260421T014914
CREATED:20251223T082030Z
LAST-MODIFIED:20251231T081308Z
UID:10000848-1768417200-1768424400@cal.everettcommunity.org
SUMMARY:Everett Silvertips vs. Moose Jaw Warriors
DESCRIPTION:The Everett Silvertips are back on our home ice for the 2025–26 regular season. Don’t miss your chance to see top-tier WHL hockey live here in Everett.
URL:https://cal.everettcommunity.org/event/everett-silvertips-vs-moose-jaw-warriors/
LOCATION:Angel of the Winds Arena\, 2000 Hewitt Ave\, Everett\, WA\, 98201\, United States
CATEGORIES:Sports & Fitness
ATTACH;FMTTYPE=image/png:https://cal.everettcommunity.org/wp-content/uploads/2025/12/thumb-gm20-b3890b2602.png
END:VEVENT
BEGIN:VEVENT
DTSTART;TZID=America/Los_Angeles:20260103T180000
DTEND;TZID=America/Los_Angeles:20260103T200000
DTSTAMP:20260421T014914
CREATED:20251223T080559Z
LAST-MODIFIED:20251231T081238Z
UID:10000843-1767463200-1767470400@cal.everettcommunity.org
SUMMARY:Everett Silvertips vs. Wenatchee Wild
DESCRIPTION:The Everett Silvertips are back on our home ice for the 2025–26 regular season. Don’t miss your chance to see top-tier WHL hockey live here in Everett.
URL:https://cal.everettcommunity.org/event/everett-silvertips-vs-wenatchee-wild/
LOCATION:Angel of the Winds Arena\, 2000 Hewitt Ave\, Everett\, WA\, 98201\, United States
CATEGORIES:Sports & Fitness
ATTACH;FMTTYPE=image/png:https://cal.everettcommunity.org/wp-content/uploads/2025/12/thumb-gm19-72bc60f495.png
END:VEVENT
END:VCALENDAR