BEGIN:VCALENDAR
VERSION:2.0
PRODID:-//Everett Community - ECPv6.15.20//NONSGML v1.0//EN
CALSCALE:GREGORIAN
METHOD:PUBLISH
X-WR-CALNAME:Everett Community
X-ORIGINAL-URL:https://cal.everettcommunity.org
X-WR-CALDESC:Events for Everett Community
REFRESH-INTERVAL;VALUE=DURATION:PT1H
X-Robots-Tag:noindex
X-PUBLISHED-TTL:PT1H
BEGIN:VTIMEZONE
TZID:America/Los_Angeles
BEGIN:DAYLIGHT
TZOFFSETFROM:-0800
TZOFFSETTO:-0700
TZNAME:PDT
DTSTART:20250309T100000
END:DAYLIGHT
BEGIN:STANDARD
TZOFFSETFROM:-0700
TZOFFSETTO:-0800
TZNAME:PST
DTSTART:20251102T090000
END:STANDARD
BEGIN:DAYLIGHT
TZOFFSETFROM:-0800
TZOFFSETTO:-0700
TZNAME:PDT
DTSTART:20260308T100000
END:DAYLIGHT
BEGIN:STANDARD
TZOFFSETFROM:-0700
TZOFFSETTO:-0800
TZNAME:PST
DTSTART:20261101T090000
END:STANDARD
BEGIN:DAYLIGHT
TZOFFSETFROM:-0800
TZOFFSETTO:-0700
TZNAME:PDT
DTSTART:20270314T100000
END:DAYLIGHT
BEGIN:STANDARD
TZOFFSETFROM:-0700
TZOFFSETTO:-0800
TZNAME:PST
DTSTART:20271107T090000
END:STANDARD
BEGIN:DAYLIGHT
TZOFFSETFROM:-0800
TZOFFSETTO:-0700
TZNAME:PDT
DTSTART:20280312T100000
END:DAYLIGHT
BEGIN:STANDARD
TZOFFSETFROM:-0700
TZOFFSETTO:-0800
TZNAME:PST
DTSTART:20281105T090000
END:STANDARD
END:VTIMEZONE
BEGIN:VEVENT
DTSTART;TZID=America/Los_Angeles:20261130T170000
DTEND;TZID=America/Los_Angeles:20261130T200000
DTSTAMP:20260421T105555
CREATED:20260223T192439Z
LAST-MODIFIED:20260223T192439Z
UID:10001716-1796058000-1796068800@cal.everettcommunity.org
SUMMARY:Everett Poetry Night
DESCRIPTION:Join local and featured poets every Monday evening for thoughtful and powerful words.
URL:https://cal.everettcommunity.org/event/everett-poetry-night/2026-11-30/
LOCATION:The Sisters Restaurant\, 2804 Grand Ave\, Everett\, WA\, 98201\, United States
CATEGORIES:Art & Performances
ATTACH;FMTTYPE=image/jpeg:https://cal.everettcommunity.org/wp-content/uploads/2026/02/poetrynight.jpg
END:VEVENT
BEGIN:VEVENT
DTSTART;TZID=America/Los_Angeles:20261203T183000
DTEND;TZID=America/Los_Angeles:20261203T200000
DTSTAMP:20260421T105555
CREATED:20260131T201304Z
LAST-MODIFIED:20260131T201304Z
UID:10001489-1796322600-1796328000@cal.everettcommunity.org
SUMMARY:Silent Book Club at Artisans
DESCRIPTION:Grab a drink/snack and settle in for silent reading during a quiet hour at Artisans\, every first Thursday.
URL:https://cal.everettcommunity.org/event/silent-book-club-at-artisans/2026-12-03/
LOCATION:Artisans Books & Coffee\, 1802 Hewitt Ave\, Everett\, WA\, 98201\, United States
CATEGORIES:Art & Performances
ATTACH;FMTTYPE=image/jpeg:https://cal.everettcommunity.org/wp-content/uploads/2026/01/silent.jpg
END:VEVENT
BEGIN:VEVENT
DTSTART;TZID=America/Los_Angeles:20261205T180000
DTEND;TZID=America/Los_Angeles:20261205T200000
DTSTAMP:20260421T105555
CREATED:20260131T201026Z
LAST-MODIFIED:20260131T201026Z
UID:10001429-1796493600-1796500800@cal.everettcommunity.org
SUMMARY:Stab & Gab at Artisans
DESCRIPTION:Join fellow fiber artists on the first Saturday of every month to work on your projects.
URL:https://cal.everettcommunity.org/event/stab-gab-at-artisans/2026-12-05/
LOCATION:Artisans Books & Coffee\, 1802 Hewitt Ave\, Everett\, WA\, 98201\, United States
CATEGORIES:Art & Performances
ATTACH;FMTTYPE=image/jpeg:https://cal.everettcommunity.org/wp-content/uploads/2026/01/gab.jpg
END:VEVENT
BEGIN:VEVENT
DTSTART;TZID=America/Los_Angeles:20261207T170000
DTEND;TZID=America/Los_Angeles:20261207T200000
DTSTAMP:20260421T105555
CREATED:20260223T192439Z
LAST-MODIFIED:20260223T192439Z
UID:10001717-1796662800-1796673600@cal.everettcommunity.org
SUMMARY:Everett Poetry Night
DESCRIPTION:Join local and featured poets every Monday evening for thoughtful and powerful words.
URL:https://cal.everettcommunity.org/event/everett-poetry-night/2026-12-07/
LOCATION:The Sisters Restaurant\, 2804 Grand Ave\, Everett\, WA\, 98201\, United States
CATEGORIES:Art & Performances
ATTACH;FMTTYPE=image/jpeg:https://cal.everettcommunity.org/wp-content/uploads/2026/02/poetrynight.jpg
END:VEVENT
BEGIN:VEVENT
DTSTART;TZID=America/Los_Angeles:20261214T170000
DTEND;TZID=America/Los_Angeles:20261214T200000
DTSTAMP:20260421T105555
CREATED:20260223T192439Z
LAST-MODIFIED:20260223T192439Z
UID:10001718-1797267600-1797278400@cal.everettcommunity.org
SUMMARY:Everett Poetry Night
DESCRIPTION:Join local and featured poets every Monday evening for thoughtful and powerful words.
URL:https://cal.everettcommunity.org/event/everett-poetry-night/2026-12-14/
LOCATION:The Sisters Restaurant\, 2804 Grand Ave\, Everett\, WA\, 98201\, United States
CATEGORIES:Art & Performances
ATTACH;FMTTYPE=image/jpeg:https://cal.everettcommunity.org/wp-content/uploads/2026/02/poetrynight.jpg
END:VEVENT
BEGIN:VEVENT
DTSTART;TZID=America/Los_Angeles:20261217T170000
DTEND;TZID=America/Los_Angeles:20261217T190000
DTSTAMP:20260421T105555
CREATED:20260113T040850Z
LAST-MODIFIED:20260223T074741Z
UID:10001622-1797526800-1797534000@cal.everettcommunity.org
SUMMARY:Schack Art Center Teen Night
DESCRIPTION:Teens 13+ have an opportunity to create unique artwork inspired by a monthly theme. Free snacks and supplies provided. Parent/guardian must register at the website link.
URL:https://cal.everettcommunity.org/event/schack-art-center-teen-night/2026-12-17/
LOCATION:Schack Art Center\, 2921 Hoyt Ave\, Everett\, WA\, 98201\, United States
CATEGORIES:Art & Performances
ATTACH;FMTTYPE=image/jpeg:https://cal.everettcommunity.org/wp-content/uploads/2026/01/teen-night.jpg
END:VEVENT
BEGIN:VEVENT
DTSTART;TZID=America/Los_Angeles:20261221T170000
DTEND;TZID=America/Los_Angeles:20261221T200000
DTSTAMP:20260421T105555
CREATED:20260223T192439Z
LAST-MODIFIED:20260223T192439Z
UID:10001719-1797872400-1797883200@cal.everettcommunity.org
SUMMARY:Everett Poetry Night
DESCRIPTION:Join local and featured poets every Monday evening for thoughtful and powerful words.
URL:https://cal.everettcommunity.org/event/everett-poetry-night/2026-12-21/
LOCATION:The Sisters Restaurant\, 2804 Grand Ave\, Everett\, WA\, 98201\, United States
CATEGORIES:Art & Performances
ATTACH;FMTTYPE=image/jpeg:https://cal.everettcommunity.org/wp-content/uploads/2026/02/poetrynight.jpg
END:VEVENT
BEGIN:VEVENT
DTSTART;TZID=America/Los_Angeles:20261225T180000
DTEND;TZID=America/Los_Angeles:20261225T200000
DTSTAMP:20260421T105555
CREATED:20260127T005257Z
LAST-MODIFIED:20260127T005257Z
UID:10001369-1798221600-1798228800@cal.everettcommunity.org
SUMMARY:Open Mic Night at Recovery Cafe
DESCRIPTION:Come join our open mic night for fun\, karaoke\, and fellowship on the last Friday of the month at 6pm!
URL:https://cal.everettcommunity.org/event/open-mic-night-at-recovery-cafe/2026-12-25/
LOCATION:Everett Recovery Cafe\, 1212 California St\, Everett\, WA\, 98201\, United States
CATEGORIES:Art & Performances
ATTACH;FMTTYPE=image/jpeg:https://cal.everettcommunity.org/wp-content/uploads/2026/01/mic.jpg
END:VEVENT
BEGIN:VEVENT
DTSTART;TZID=America/Los_Angeles:20261228T170000
DTEND;TZID=America/Los_Angeles:20261228T200000
DTSTAMP:20260421T105555
CREATED:20260223T192439Z
LAST-MODIFIED:20260223T192439Z
UID:10001720-1798477200-1798488000@cal.everettcommunity.org
SUMMARY:Everett Poetry Night
DESCRIPTION:Join local and featured poets every Monday evening for thoughtful and powerful words.
URL:https://cal.everettcommunity.org/event/everett-poetry-night/2026-12-28/
LOCATION:The Sisters Restaurant\, 2804 Grand Ave\, Everett\, WA\, 98201\, United States
CATEGORIES:Art & Performances
ATTACH;FMTTYPE=image/jpeg:https://cal.everettcommunity.org/wp-content/uploads/2026/02/poetrynight.jpg
END:VEVENT
BEGIN:VEVENT
DTSTART;TZID=America/Los_Angeles:20270102T180000
DTEND;TZID=America/Los_Angeles:20270102T200000
DTSTAMP:20260421T105555
CREATED:20260131T201026Z
LAST-MODIFIED:20260131T201026Z
UID:10001430-1798912800-1798920000@cal.everettcommunity.org
SUMMARY:Stab & Gab at Artisans
DESCRIPTION:Join fellow fiber artists on the first Saturday of every month to work on your projects.
URL:https://cal.everettcommunity.org/event/stab-gab-at-artisans/2027-01-02/
LOCATION:Artisans Books & Coffee\, 1802 Hewitt Ave\, Everett\, WA\, 98201\, United States
CATEGORIES:Art & Performances
ATTACH;FMTTYPE=image/jpeg:https://cal.everettcommunity.org/wp-content/uploads/2026/01/gab.jpg
END:VEVENT
BEGIN:VEVENT
DTSTART;TZID=America/Los_Angeles:20270104T170000
DTEND;TZID=America/Los_Angeles:20270104T200000
DTSTAMP:20260421T105555
CREATED:20260223T192439Z
LAST-MODIFIED:20260223T192439Z
UID:10001721-1799082000-1799092800@cal.everettcommunity.org
SUMMARY:Everett Poetry Night
DESCRIPTION:Join local and featured poets every Monday evening for thoughtful and powerful words.
URL:https://cal.everettcommunity.org/event/everett-poetry-night/2027-01-04/
LOCATION:The Sisters Restaurant\, 2804 Grand Ave\, Everett\, WA\, 98201\, United States
CATEGORIES:Art & Performances
ATTACH;FMTTYPE=image/jpeg:https://cal.everettcommunity.org/wp-content/uploads/2026/02/poetrynight.jpg
END:VEVENT
BEGIN:VEVENT
DTSTART;TZID=America/Los_Angeles:20270107T183000
DTEND;TZID=America/Los_Angeles:20270107T200000
DTSTAMP:20260421T105555
CREATED:20260131T201304Z
LAST-MODIFIED:20260131T201304Z
UID:10001490-1799346600-1799352000@cal.everettcommunity.org
SUMMARY:Silent Book Club at Artisans
DESCRIPTION:Grab a drink/snack and settle in for silent reading during a quiet hour at Artisans\, every first Thursday.
URL:https://cal.everettcommunity.org/event/silent-book-club-at-artisans/2027-01-07/
LOCATION:Artisans Books & Coffee\, 1802 Hewitt Ave\, Everett\, WA\, 98201\, United States
CATEGORIES:Art & Performances
ATTACH;FMTTYPE=image/jpeg:https://cal.everettcommunity.org/wp-content/uploads/2026/01/silent.jpg
END:VEVENT
BEGIN:VEVENT
DTSTART;TZID=America/Los_Angeles:20270111T170000
DTEND;TZID=America/Los_Angeles:20270111T200000
DTSTAMP:20260421T105555
CREATED:20260223T192439Z
LAST-MODIFIED:20260223T192439Z
UID:10001722-1799686800-1799697600@cal.everettcommunity.org
SUMMARY:Everett Poetry Night
DESCRIPTION:Join local and featured poets every Monday evening for thoughtful and powerful words.
URL:https://cal.everettcommunity.org/event/everett-poetry-night/2027-01-11/
LOCATION:The Sisters Restaurant\, 2804 Grand Ave\, Everett\, WA\, 98201\, United States
CATEGORIES:Art & Performances
ATTACH;FMTTYPE=image/jpeg:https://cal.everettcommunity.org/wp-content/uploads/2026/02/poetrynight.jpg
END:VEVENT
BEGIN:VEVENT
DTSTART;TZID=America/Los_Angeles:20270118T170000
DTEND;TZID=America/Los_Angeles:20270118T200000
DTSTAMP:20260421T105555
CREATED:20260223T192439Z
LAST-MODIFIED:20260223T192439Z
UID:10001723-1800291600-1800302400@cal.everettcommunity.org
SUMMARY:Everett Poetry Night
DESCRIPTION:Join local and featured poets every Monday evening for thoughtful and powerful words.
URL:https://cal.everettcommunity.org/event/everett-poetry-night/2027-01-18/
LOCATION:The Sisters Restaurant\, 2804 Grand Ave\, Everett\, WA\, 98201\, United States
CATEGORIES:Art & Performances
ATTACH;FMTTYPE=image/jpeg:https://cal.everettcommunity.org/wp-content/uploads/2026/02/poetrynight.jpg
END:VEVENT
BEGIN:VEVENT
DTSTART;TZID=America/Los_Angeles:20270121T170000
DTEND;TZID=America/Los_Angeles:20270121T190000
DTSTAMP:20260421T105555
CREATED:20260113T040850Z
LAST-MODIFIED:20260223T074741Z
UID:10001623-1800550800-1800558000@cal.everettcommunity.org
SUMMARY:Schack Art Center Teen Night
DESCRIPTION:Teens 13+ have an opportunity to create unique artwork inspired by a monthly theme. Free snacks and supplies provided. Parent/guardian must register at the website link.
URL:https://cal.everettcommunity.org/event/schack-art-center-teen-night/2027-01-21/
LOCATION:Schack Art Center\, 2921 Hoyt Ave\, Everett\, WA\, 98201\, United States
CATEGORIES:Art & Performances
ATTACH;FMTTYPE=image/jpeg:https://cal.everettcommunity.org/wp-content/uploads/2026/01/teen-night.jpg
END:VEVENT
BEGIN:VEVENT
DTSTART;TZID=America/Los_Angeles:20270125T170000
DTEND;TZID=America/Los_Angeles:20270125T200000
DTSTAMP:20260421T105555
CREATED:20260223T192439Z
LAST-MODIFIED:20260223T192439Z
UID:10001724-1800896400-1800907200@cal.everettcommunity.org
SUMMARY:Everett Poetry Night
DESCRIPTION:Join local and featured poets every Monday evening for thoughtful and powerful words.
URL:https://cal.everettcommunity.org/event/everett-poetry-night/2027-01-25/
LOCATION:The Sisters Restaurant\, 2804 Grand Ave\, Everett\, WA\, 98201\, United States
CATEGORIES:Art & Performances
ATTACH;FMTTYPE=image/jpeg:https://cal.everettcommunity.org/wp-content/uploads/2026/02/poetrynight.jpg
END:VEVENT
BEGIN:VEVENT
DTSTART;TZID=America/Los_Angeles:20270129T180000
DTEND;TZID=America/Los_Angeles:20270129T200000
DTSTAMP:20260421T105555
CREATED:20260127T005257Z
LAST-MODIFIED:20260127T005257Z
UID:10001370-1801245600-1801252800@cal.everettcommunity.org
SUMMARY:Open Mic Night at Recovery Cafe
DESCRIPTION:Come join our open mic night for fun\, karaoke\, and fellowship on the last Friday of the month at 6pm!
URL:https://cal.everettcommunity.org/event/open-mic-night-at-recovery-cafe/2027-01-29/
LOCATION:Everett Recovery Cafe\, 1212 California St\, Everett\, WA\, 98201\, United States
CATEGORIES:Art & Performances
ATTACH;FMTTYPE=image/jpeg:https://cal.everettcommunity.org/wp-content/uploads/2026/01/mic.jpg
END:VEVENT
BEGIN:VEVENT
DTSTART;TZID=America/Los_Angeles:20270201T170000
DTEND;TZID=America/Los_Angeles:20270201T200000
DTSTAMP:20260421T105555
CREATED:20260223T192439Z
LAST-MODIFIED:20260223T192439Z
UID:10001725-1801501200-1801512000@cal.everettcommunity.org
SUMMARY:Everett Poetry Night
DESCRIPTION:Join local and featured poets every Monday evening for thoughtful and powerful words.
URL:https://cal.everettcommunity.org/event/everett-poetry-night/2027-02-01/
LOCATION:The Sisters Restaurant\, 2804 Grand Ave\, Everett\, WA\, 98201\, United States
CATEGORIES:Art & Performances
ATTACH;FMTTYPE=image/jpeg:https://cal.everettcommunity.org/wp-content/uploads/2026/02/poetrynight.jpg
END:VEVENT
BEGIN:VEVENT
DTSTART;TZID=America/Los_Angeles:20270204T183000
DTEND;TZID=America/Los_Angeles:20270204T200000
DTSTAMP:20260421T105555
CREATED:20260131T201304Z
LAST-MODIFIED:20260131T201304Z
UID:10001491-1801765800-1801771200@cal.everettcommunity.org
SUMMARY:Silent Book Club at Artisans
DESCRIPTION:Grab a drink/snack and settle in for silent reading during a quiet hour at Artisans\, every first Thursday.
URL:https://cal.everettcommunity.org/event/silent-book-club-at-artisans/2027-02-04/
LOCATION:Artisans Books & Coffee\, 1802 Hewitt Ave\, Everett\, WA\, 98201\, United States
CATEGORIES:Art & Performances
ATTACH;FMTTYPE=image/jpeg:https://cal.everettcommunity.org/wp-content/uploads/2026/01/silent.jpg
END:VEVENT
BEGIN:VEVENT
DTSTART;TZID=America/Los_Angeles:20270206T180000
DTEND;TZID=America/Los_Angeles:20270206T200000
DTSTAMP:20260421T105555
CREATED:20260131T201026Z
LAST-MODIFIED:20260131T201026Z
UID:10001431-1801936800-1801944000@cal.everettcommunity.org
SUMMARY:Stab & Gab at Artisans
DESCRIPTION:Join fellow fiber artists on the first Saturday of every month to work on your projects.
URL:https://cal.everettcommunity.org/event/stab-gab-at-artisans/2027-02-06/
LOCATION:Artisans Books & Coffee\, 1802 Hewitt Ave\, Everett\, WA\, 98201\, United States
CATEGORIES:Art & Performances
ATTACH;FMTTYPE=image/jpeg:https://cal.everettcommunity.org/wp-content/uploads/2026/01/gab.jpg
END:VEVENT
BEGIN:VEVENT
DTSTART;TZID=America/Los_Angeles:20270208T170000
DTEND;TZID=America/Los_Angeles:20270208T200000
DTSTAMP:20260421T105555
CREATED:20260223T192439Z
LAST-MODIFIED:20260223T192439Z
UID:10001726-1802106000-1802116800@cal.everettcommunity.org
SUMMARY:Everett Poetry Night
DESCRIPTION:Join local and featured poets every Monday evening for thoughtful and powerful words.
URL:https://cal.everettcommunity.org/event/everett-poetry-night/2027-02-08/
LOCATION:The Sisters Restaurant\, 2804 Grand Ave\, Everett\, WA\, 98201\, United States
CATEGORIES:Art & Performances
ATTACH;FMTTYPE=image/jpeg:https://cal.everettcommunity.org/wp-content/uploads/2026/02/poetrynight.jpg
END:VEVENT
BEGIN:VEVENT
DTSTART;TZID=America/Los_Angeles:20270215T170000
DTEND;TZID=America/Los_Angeles:20270215T200000
DTSTAMP:20260421T105555
CREATED:20260223T192439Z
LAST-MODIFIED:20260223T192439Z
UID:10001727-1802710800-1802721600@cal.everettcommunity.org
SUMMARY:Everett Poetry Night
DESCRIPTION:Join local and featured poets every Monday evening for thoughtful and powerful words.
URL:https://cal.everettcommunity.org/event/everett-poetry-night/2027-02-15/
LOCATION:The Sisters Restaurant\, 2804 Grand Ave\, Everett\, WA\, 98201\, United States
CATEGORIES:Art & Performances
ATTACH;FMTTYPE=image/jpeg:https://cal.everettcommunity.org/wp-content/uploads/2026/02/poetrynight.jpg
END:VEVENT
BEGIN:VEVENT
DTSTART;TZID=America/Los_Angeles:20270218T170000
DTEND;TZID=America/Los_Angeles:20270218T190000
DTSTAMP:20260421T105555
CREATED:20260113T040850Z
LAST-MODIFIED:20260223T074741Z
UID:10001624-1802970000-1802977200@cal.everettcommunity.org
SUMMARY:Schack Art Center Teen Night
DESCRIPTION:Teens 13+ have an opportunity to create unique artwork inspired by a monthly theme. Free snacks and supplies provided. Parent/guardian must register at the website link.
URL:https://cal.everettcommunity.org/event/schack-art-center-teen-night/2027-02-18/
LOCATION:Schack Art Center\, 2921 Hoyt Ave\, Everett\, WA\, 98201\, United States
CATEGORIES:Art & Performances
ATTACH;FMTTYPE=image/jpeg:https://cal.everettcommunity.org/wp-content/uploads/2026/01/teen-night.jpg
END:VEVENT
BEGIN:VEVENT
DTSTART;TZID=America/Los_Angeles:20270222T170000
DTEND;TZID=America/Los_Angeles:20270222T200000
DTSTAMP:20260421T105555
CREATED:20260223T192439Z
LAST-MODIFIED:20260223T192439Z
UID:10001728-1803315600-1803326400@cal.everettcommunity.org
SUMMARY:Everett Poetry Night
DESCRIPTION:Join local and featured poets every Monday evening for thoughtful and powerful words.
URL:https://cal.everettcommunity.org/event/everett-poetry-night/2027-02-22/
LOCATION:The Sisters Restaurant\, 2804 Grand Ave\, Everett\, WA\, 98201\, United States
CATEGORIES:Art & Performances
ATTACH;FMTTYPE=image/jpeg:https://cal.everettcommunity.org/wp-content/uploads/2026/02/poetrynight.jpg
END:VEVENT
BEGIN:VEVENT
DTSTART;TZID=America/Los_Angeles:20270226T180000
DTEND;TZID=America/Los_Angeles:20270226T200000
DTSTAMP:20260421T105555
CREATED:20260127T005257Z
LAST-MODIFIED:20260127T005257Z
UID:10001371-1803664800-1803672000@cal.everettcommunity.org
SUMMARY:Open Mic Night at Recovery Cafe
DESCRIPTION:Come join our open mic night for fun\, karaoke\, and fellowship on the last Friday of the month at 6pm!
URL:https://cal.everettcommunity.org/event/open-mic-night-at-recovery-cafe/2027-02-26/
LOCATION:Everett Recovery Cafe\, 1212 California St\, Everett\, WA\, 98201\, United States
CATEGORIES:Art & Performances
ATTACH;FMTTYPE=image/jpeg:https://cal.everettcommunity.org/wp-content/uploads/2026/01/mic.jpg
END:VEVENT
BEGIN:VEVENT
DTSTART;TZID=America/Los_Angeles:20270301T170000
DTEND;TZID=America/Los_Angeles:20270301T200000
DTSTAMP:20260421T105555
CREATED:20260223T192439Z
LAST-MODIFIED:20260223T192439Z
UID:10001729-1803920400-1803931200@cal.everettcommunity.org
SUMMARY:Everett Poetry Night
DESCRIPTION:Join local and featured poets every Monday evening for thoughtful and powerful words.
URL:https://cal.everettcommunity.org/event/everett-poetry-night/2027-03-01/
LOCATION:The Sisters Restaurant\, 2804 Grand Ave\, Everett\, WA\, 98201\, United States
CATEGORIES:Art & Performances
ATTACH;FMTTYPE=image/jpeg:https://cal.everettcommunity.org/wp-content/uploads/2026/02/poetrynight.jpg
END:VEVENT
BEGIN:VEVENT
DTSTART;TZID=America/Los_Angeles:20270304T183000
DTEND;TZID=America/Los_Angeles:20270304T200000
DTSTAMP:20260421T105555
CREATED:20260131T201304Z
LAST-MODIFIED:20260131T201304Z
UID:10001492-1804185000-1804190400@cal.everettcommunity.org
SUMMARY:Silent Book Club at Artisans
DESCRIPTION:Grab a drink/snack and settle in for silent reading during a quiet hour at Artisans\, every first Thursday.
URL:https://cal.everettcommunity.org/event/silent-book-club-at-artisans/2027-03-04/
LOCATION:Artisans Books & Coffee\, 1802 Hewitt Ave\, Everett\, WA\, 98201\, United States
CATEGORIES:Art & Performances
ATTACH;FMTTYPE=image/jpeg:https://cal.everettcommunity.org/wp-content/uploads/2026/01/silent.jpg
END:VEVENT
BEGIN:VEVENT
DTSTART;TZID=America/Los_Angeles:20270306T180000
DTEND;TZID=America/Los_Angeles:20270306T200000
DTSTAMP:20260421T105555
CREATED:20260131T201026Z
LAST-MODIFIED:20260131T201026Z
UID:10001432-1804356000-1804363200@cal.everettcommunity.org
SUMMARY:Stab & Gab at Artisans
DESCRIPTION:Join fellow fiber artists on the first Saturday of every month to work on your projects.
URL:https://cal.everettcommunity.org/event/stab-gab-at-artisans/2027-03-06/
LOCATION:Artisans Books & Coffee\, 1802 Hewitt Ave\, Everett\, WA\, 98201\, United States
CATEGORIES:Art & Performances
ATTACH;FMTTYPE=image/jpeg:https://cal.everettcommunity.org/wp-content/uploads/2026/01/gab.jpg
END:VEVENT
BEGIN:VEVENT
DTSTART;TZID=America/Los_Angeles:20270308T170000
DTEND;TZID=America/Los_Angeles:20270308T200000
DTSTAMP:20260421T105555
CREATED:20260223T192439Z
LAST-MODIFIED:20260223T192439Z
UID:10001730-1804525200-1804536000@cal.everettcommunity.org
SUMMARY:Everett Poetry Night
DESCRIPTION:Join local and featured poets every Monday evening for thoughtful and powerful words.
URL:https://cal.everettcommunity.org/event/everett-poetry-night/2027-03-08/
LOCATION:The Sisters Restaurant\, 2804 Grand Ave\, Everett\, WA\, 98201\, United States
CATEGORIES:Art & Performances
ATTACH;FMTTYPE=image/jpeg:https://cal.everettcommunity.org/wp-content/uploads/2026/02/poetrynight.jpg
END:VEVENT
BEGIN:VEVENT
DTSTART;TZID=America/Los_Angeles:20270315T170000
DTEND;TZID=America/Los_Angeles:20270315T200000
DTSTAMP:20260421T105555
CREATED:20260223T192439Z
LAST-MODIFIED:20260223T192439Z
UID:10001731-1805130000-1805140800@cal.everettcommunity.org
SUMMARY:Everett Poetry Night
DESCRIPTION:Join local and featured poets every Monday evening for thoughtful and powerful words.
URL:https://cal.everettcommunity.org/event/everett-poetry-night/2027-03-15/
LOCATION:The Sisters Restaurant\, 2804 Grand Ave\, Everett\, WA\, 98201\, United States
CATEGORIES:Art & Performances
ATTACH;FMTTYPE=image/jpeg:https://cal.everettcommunity.org/wp-content/uploads/2026/02/poetrynight.jpg
END:VEVENT
END:VCALENDAR