BEGIN:VCALENDAR
VERSION:2.0
PRODID:-//Everett Community - ECPv6.15.20//NONSGML v1.0//EN
CALSCALE:GREGORIAN
METHOD:PUBLISH
X-ORIGINAL-URL:https://cal.everettcommunity.org
X-WR-CALDESC:Events for Everett Community
REFRESH-INTERVAL;VALUE=DURATION:PT1H
X-Robots-Tag:noindex
X-PUBLISHED-TTL:PT1H
BEGIN:VTIMEZONE
TZID:America/Los_Angeles
BEGIN:DAYLIGHT
TZOFFSETFROM:-0800
TZOFFSETTO:-0700
TZNAME:PDT
DTSTART:20250309T100000
END:DAYLIGHT
BEGIN:STANDARD
TZOFFSETFROM:-0700
TZOFFSETTO:-0800
TZNAME:PST
DTSTART:20251102T090000
END:STANDARD
BEGIN:DAYLIGHT
TZOFFSETFROM:-0800
TZOFFSETTO:-0700
TZNAME:PDT
DTSTART:20260308T100000
END:DAYLIGHT
BEGIN:STANDARD
TZOFFSETFROM:-0700
TZOFFSETTO:-0800
TZNAME:PST
DTSTART:20261101T090000
END:STANDARD
BEGIN:DAYLIGHT
TZOFFSETFROM:-0800
TZOFFSETTO:-0700
TZNAME:PDT
DTSTART:20270314T100000
END:DAYLIGHT
BEGIN:STANDARD
TZOFFSETFROM:-0700
TZOFFSETTO:-0800
TZNAME:PST
DTSTART:20271107T090000
END:STANDARD
END:VTIMEZONE
BEGIN:VEVENT
DTSTART;TZID=America/Los_Angeles:20260327T180000
DTEND;TZID=America/Los_Angeles:20260327T200000
DTSTAMP:20260421T031244
CREATED:20260127T005257Z
LAST-MODIFIED:20260127T005257Z
UID:10001360-1774634400-1774641600@cal.everettcommunity.org
SUMMARY:Open Mic Night at Recovery Cafe
DESCRIPTION:Come join our open mic night for fun\, karaoke\, and fellowship on the last Friday of the month at 6pm!
URL:https://cal.everettcommunity.org/event/open-mic-night-at-recovery-cafe/2026-03-27/
LOCATION:Everett Recovery Cafe\, 1212 California St\, Everett\, WA\, 98201\, United States
CATEGORIES:Art & Performances
ATTACH;FMTTYPE=image/jpeg:https://cal.everettcommunity.org/wp-content/uploads/2026/01/mic.jpg
END:VEVENT
BEGIN:VEVENT
DTSTART;TZID=America/Los_Angeles:20260323T170000
DTEND;TZID=America/Los_Angeles:20260323T200000
DTSTAMP:20260421T031244
CREATED:20260223T192439Z
LAST-MODIFIED:20260223T192439Z
UID:10001680-1774285200-1774296000@cal.everettcommunity.org
SUMMARY:Everett Poetry Night
DESCRIPTION:Join local and featured poets every Monday evening for thoughtful and powerful words.
URL:https://cal.everettcommunity.org/event/everett-poetry-night/2026-03-23/
LOCATION:The Sisters Restaurant\, 2804 Grand Ave\, Everett\, WA\, 98201\, United States
CATEGORIES:Art & Performances
ATTACH;FMTTYPE=image/jpeg:https://cal.everettcommunity.org/wp-content/uploads/2026/02/poetrynight.jpg
END:VEVENT
BEGIN:VEVENT
DTSTART;TZID=America/Los_Angeles:20260319T170000
DTEND;TZID=America/Los_Angeles:20260319T190000
DTSTAMP:20260421T031244
CREATED:20260113T040850Z
LAST-MODIFIED:20260223T074741Z
UID:10001613-1773939600-1773946800@cal.everettcommunity.org
SUMMARY:Schack Art Center Teen Night
DESCRIPTION:Teens 13+ have an opportunity to create unique artwork inspired by a monthly theme. Free snacks and supplies provided. Parent/guardian must register at the website link.
URL:https://cal.everettcommunity.org/event/schack-art-center-teen-night/2026-03-19/
LOCATION:Schack Art Center\, 2921 Hoyt Ave\, Everett\, WA\, 98201\, United States
CATEGORIES:Art & Performances
ATTACH;FMTTYPE=image/jpeg:https://cal.everettcommunity.org/wp-content/uploads/2026/01/teen-night.jpg
END:VEVENT
BEGIN:VEVENT
DTSTART;TZID=America/Los_Angeles:20260316T170000
DTEND;TZID=America/Los_Angeles:20260316T200000
DTSTAMP:20260421T031244
CREATED:20260223T192439Z
LAST-MODIFIED:20260223T192439Z
UID:10001679-1773680400-1773691200@cal.everettcommunity.org
SUMMARY:Everett Poetry Night
DESCRIPTION:Join local and featured poets every Monday evening for thoughtful and powerful words.
URL:https://cal.everettcommunity.org/event/everett-poetry-night/2026-03-16/
LOCATION:The Sisters Restaurant\, 2804 Grand Ave\, Everett\, WA\, 98201\, United States
CATEGORIES:Art & Performances
ATTACH;FMTTYPE=image/jpeg:https://cal.everettcommunity.org/wp-content/uploads/2026/02/poetrynight.jpg
END:VEVENT
BEGIN:VEVENT
DTSTART;TZID=America/Los_Angeles:20260314T190000
DTEND;TZID=America/Los_Angeles:20260314T233000
DTSTAMP:20260421T031244
CREATED:20260311T040904Z
LAST-MODIFIED:20260311T040904Z
UID:10002221-1773514800-1773531000@cal.everettcommunity.org
SUMMARY:Drag Bingo! w/ Sara Femme & TS Mia
DESCRIPTION:Lucky Dime’s wildly entertaining Drag Bingo returns with outrageous commentary. Hosted by the fabulous Sara Femme and co-hosted by TS MIA bringing camp\, comedy\, and high-energy to a night of bingo like you’ve never experienced. \nEntry includes 8 rounds of bingo with prizes donated by local businesses. All drag events are 18+
URL:https://cal.everettcommunity.org/event/drag-bingo-w-sara-femme-ts-mia/
LOCATION:Lucky Dime\, 1618 Hewitt Ave\, Everett\, WA\, 98201\, United States
CATEGORIES:Art & Performances,Charity & Causes,Gaming
ATTACH;FMTTYPE=image/jpeg:https://cal.everettcommunity.org/wp-content/uploads/2026/03/drag-bingo.jpg
END:VEVENT
BEGIN:VEVENT
DTSTART;TZID=America/Los_Angeles:20260313T190000
DTEND;TZID=America/Los_Angeles:20260313T233000
DTSTAMP:20260421T031244
CREATED:20260311T040348Z
LAST-MODIFIED:20260311T040348Z
UID:10002220-1773428400-1773444600@cal.everettcommunity.org
SUMMARY:Laser Beam / Flesh Produce / Bad Noise Bears / Style King of the Week
DESCRIPTION:Join us for a Metal / Alternative / Noise Rock show\, to celebrate the release of a brand new EP from Laser Beam and revel in the daucherary of friday the 13th.
URL:https://cal.everettcommunity.org/event/laser-beam-flesh-produce-bad-noise-bears-style-king-of-the-week/
LOCATION:Lucky Dime\, 1618 Hewitt Ave\, Everett\, WA\, 98201\, United States
CATEGORIES:Art & Performances
ATTACH;FMTTYPE=image/jpeg:https://cal.everettcommunity.org/wp-content/uploads/2026/03/laserbeam.jpg
END:VEVENT
BEGIN:VEVENT
DTSTART;TZID=America/Los_Angeles:20260312T190000
DTEND;TZID=America/Los_Angeles:20260312T233000
DTSTAMP:20260421T031244
CREATED:20260311T040051Z
LAST-MODIFIED:20260311T040051Z
UID:10002219-1773342000-1773358200@cal.everettcommunity.org
SUMMARY:Tres Lenguas Throwback: Pop Disaster / D'Julo / Tigas Tito
DESCRIPTION:A multilingual pop punk throwback night celebrating the biggest hits of the 90s and 2000s across three languages. Expect nostalgia\, sing-alongs\, and high energy performances that bring the spirit of the early pop punk era back to life.
URL:https://cal.everettcommunity.org/event/tres-lenguas-throwback-pop-disaster-djulo-tigas-tito/
LOCATION:Lucky Dime\, 1618 Hewitt Ave\, Everett\, WA\, 98201\, United States
CATEGORIES:Art & Performances
ATTACH;FMTTYPE=image/jpeg:https://cal.everettcommunity.org/wp-content/uploads/2026/03/tres-lenguas.jpg
END:VEVENT
BEGIN:VEVENT
DTSTART;TZID=America/Los_Angeles:20260309T170000
DTEND;TZID=America/Los_Angeles:20260309T200000
DTSTAMP:20260421T031244
CREATED:20260223T192439Z
LAST-MODIFIED:20260223T192439Z
UID:10001678-1773075600-1773086400@cal.everettcommunity.org
SUMMARY:Everett Poetry Night
DESCRIPTION:Join local and featured poets every Monday evening for thoughtful and powerful words.
URL:https://cal.everettcommunity.org/event/everett-poetry-night/2026-03-09/
LOCATION:The Sisters Restaurant\, 2804 Grand Ave\, Everett\, WA\, 98201\, United States
CATEGORIES:Art & Performances
ATTACH;FMTTYPE=image/jpeg:https://cal.everettcommunity.org/wp-content/uploads/2026/02/poetrynight.jpg
END:VEVENT
BEGIN:VEVENT
DTSTART;TZID=America/Los_Angeles:20260308T140000
DTEND;TZID=America/Los_Angeles:20260308T170000
DTSTAMP:20260421T031244
CREATED:20260223T191034Z
LAST-MODIFIED:20260223T191034Z
UID:10001674-1772978400-1772989200@cal.everettcommunity.org
SUMMARY:Gay-Ncient Aliens Fight & Music
DESCRIPTION:Head over to Tony V’s for an afternoon of bar fights and music (including Bellingham band Gallowmaker)\, with all proceeds benefiting The Trevor Project.
URL:https://cal.everettcommunity.org/event/gay-ncient-aliens-fight-music/
LOCATION:Tony V’s Garage\, 1716 Hewitt Ave\, Everett\, WA\, 98201\, United States
CATEGORIES:Art & Performances,Charity & Causes
ATTACH;FMTTYPE=image/jpeg:https://cal.everettcommunity.org/wp-content/uploads/2026/02/aliens.jpg
END:VEVENT
BEGIN:VEVENT
DTSTART;TZID=America/Los_Angeles:20260307T190000
DTEND;TZID=America/Los_Angeles:20260307T220000
DTSTAMP:20260421T031244
CREATED:20260307T000109Z
LAST-MODIFIED:20260307T000109Z
UID:10002214-1772910000-1772920800@cal.everettcommunity.org
SUMMARY:Ponyboy/Puppy Feet/Maelstrom/Athazagora
DESCRIPTION:Come see Ponyboy\, Puppy Feet\, Maelstrom\, and Athazagora at The Bayside Cafe. All ages welcome\, doors at 7\, music at 7:30.
URL:https://cal.everettcommunity.org/event/ponyboy-puppy-feet-maelstrom-athazagora/
LOCATION:The Bayside Cafe\, 2913 W Marine View Dr\, Everett\, WA\, 98201\, United States
CATEGORIES:Art & Performances
ATTACH;FMTTYPE=image/jpeg:https://cal.everettcommunity.org/wp-content/uploads/2026/03/burning-bayside.jpg
END:VEVENT
BEGIN:VEVENT
DTSTART;TZID=America/Los_Angeles:20260307T180000
DTEND;TZID=America/Los_Angeles:20260307T200000
DTSTAMP:20260421T031244
CREATED:20260131T201026Z
LAST-MODIFIED:20260131T201026Z
UID:10001420-1772906400-1772913600@cal.everettcommunity.org
SUMMARY:Stab & Gab at Artisans
DESCRIPTION:Join fellow fiber artists on the first Saturday of every month to work on your projects.
URL:https://cal.everettcommunity.org/event/stab-gab-at-artisans/2026-03-07/
LOCATION:Artisans Books & Coffee\, 1802 Hewitt Ave\, Everett\, WA\, 98201\, United States
CATEGORIES:Art & Performances
ATTACH;FMTTYPE=image/jpeg:https://cal.everettcommunity.org/wp-content/uploads/2026/01/gab.jpg
END:VEVENT
BEGIN:VEVENT
DTSTART;TZID=America/Los_Angeles:20260306T180000
DTEND;TZID=America/Los_Angeles:20260306T203000
DTSTAMP:20260421T031244
CREATED:20260219T235349Z
LAST-MODIFIED:20260219T235349Z
UID:10001543-1772820000-1772829000@cal.everettcommunity.org
SUMMARY:American Teenager\, with Author Nico Lang
DESCRIPTION:American Teenager: How Trans Kids Are Surviving Hate and Finding Joy in a Turbulent Era paints a vivid portrait of what it’s actually like to grow up trans today. Media coverage tends to sensationalize the fight over how trans kids should be allowed to live\, but what is incredibly rare are the voices of the people at the heart of this debate: transgender and gender nonconforming kids themselves. For their groundbreaking new book\, journalist Nico Lang spent a year traveling the country to document the lives of transgender\, nonbinary\, and genderfluid teens and their families. Drawing on hundreds of hours of on-the-ground interviews with them and the people in their communities. \nNico Lang (they/them) is a nonbinary award-winning journalist with over a decade of experience covering the transgender community’s fight for equality. Their work has appeared in major publications\, including Rolling Stone\, Esquire\, The New York Times\, Vox\, The Wall Street Journal\, Salon\, Harper’s Bazaar\, Time\, The Washington Post\, and the Los Angeles Times. Lang is the creator of Queer News Daily and previously served as the deputy editor for Out magazine\, the news editor for Them\, the LGBTQ+ correspondent for VICE\, and the editor and cofounder of the literary journal In Our Words. Their industry-leading contributions to queer media have resulted in a GLAAD Media Award\, 10 awards from the National Association of LGBTQ Journalists (NLGJA)\, and three awards from the Los Angeles Press Club\, including the 2023 Online Journalist of the Year. Lang is also the first-ever recipient of the Visibility Award from the Transgender Legal Defense and Education Fund (TLDEF)\, an honor created to recognize their impactful contributions to reporting on the lives of LGBTQ+ people. \nThis book is available for sale\, or at your local library: https://search.worldcat.org/title/1420449131
URL:https://cal.everettcommunity.org/event/american-teenager-with-author-nico-lang/
LOCATION:Artisans Books & Coffee\, 1802 Hewitt Ave\, Everett\, WA\, 98201\, United States
CATEGORIES:Art & Performances
ATTACH;FMTTYPE=image/jpeg:https://cal.everettcommunity.org/wp-content/uploads/2026/02/amer-teen.jpg
END:VEVENT
BEGIN:VEVENT
DTSTART;TZID=America/Los_Angeles:20260305T183000
DTEND;TZID=America/Los_Angeles:20260305T200000
DTSTAMP:20260421T031244
CREATED:20260131T201304Z
LAST-MODIFIED:20260131T201304Z
UID:10001480-1772735400-1772740800@cal.everettcommunity.org
SUMMARY:Silent Book Club at Artisans
DESCRIPTION:Grab a drink/snack and settle in for silent reading during a quiet hour at Artisans\, every first Thursday.
URL:https://cal.everettcommunity.org/event/silent-book-club-at-artisans/2026-03-05/
LOCATION:Artisans Books & Coffee\, 1802 Hewitt Ave\, Everett\, WA\, 98201\, United States
CATEGORIES:Art & Performances
ATTACH;FMTTYPE=image/jpeg:https://cal.everettcommunity.org/wp-content/uploads/2026/01/silent.jpg
END:VEVENT
BEGIN:VEVENT
DTSTART;TZID=America/Los_Angeles:20260302T170000
DTEND;TZID=America/Los_Angeles:20260302T200000
DTSTAMP:20260421T031244
CREATED:20260223T192439Z
LAST-MODIFIED:20260223T192439Z
UID:10001677-1772470800-1772481600@cal.everettcommunity.org
SUMMARY:Everett Poetry Night
DESCRIPTION:Join local and featured poets every Monday evening for thoughtful and powerful words.
URL:https://cal.everettcommunity.org/event/everett-poetry-night/2026-03-02/
LOCATION:The Sisters Restaurant\, 2804 Grand Ave\, Everett\, WA\, 98201\, United States
CATEGORIES:Art & Performances
ATTACH;FMTTYPE=image/jpeg:https://cal.everettcommunity.org/wp-content/uploads/2026/02/poetrynight.jpg
END:VEVENT
BEGIN:VEVENT
DTSTART;TZID=America/Los_Angeles:20260228T193000
DTEND;TZID=America/Los_Angeles:20260228T213000
DTSTAMP:20260421T031244
CREATED:20260223T075640Z
LAST-MODIFIED:20260223T075640Z
UID:10001673-1772307000-1772314200@cal.everettcommunity.org
SUMMARY:Village Theatre Presents: Ken Ludwig's Baskerville
DESCRIPTION:Enjoy a fast-paced adventure about everyone’s favorite detective solving his most notorious case. The male heirs of the Baskerville line are being dispatched one by one. To find their killer\, Sherlock Holmes and Dr. Watson must crack the mystery of “The Hound of the Baskervilles” before a family curse dooms its newest heir. Watch as our intrepid investigators try to escape a dizzying web of clues\, silly accents\, disguises and deceit as five actors deftly portray more than 40 characters. Does a wild hellhound prowl the moors of Devonshire? Can our heroes discover the truth in time? Join the fun and see how far from elementary the truth can be. \nShowing in Everett from February 28 through March 22\, tickets start at $47.
URL:https://cal.everettcommunity.org/event/village-theatre-presents-ken-ludwigs-baskerville/
LOCATION:Everett Performing Arts Center\, 2710 Wetmore Ave\, Everett\, WA\, 98201\, United States
CATEGORIES:Art & Performances
ATTACH;FMTTYPE=image/jpeg:https://cal.everettcommunity.org/wp-content/uploads/2026/02/Baskerville.jpg
END:VEVENT
BEGIN:VEVENT
DTSTART;TZID=America/Los_Angeles:20260228T190000
DTEND;TZID=America/Los_Angeles:20260228T233000
DTSTAMP:20260421T031244
CREATED:20260223T071429Z
LAST-MODIFIED:20260223T071429Z
UID:10001551-1772305200-1772321400@cal.everettcommunity.org
SUMMARY:Living with a Bear / Someone's Daughter / Cat Positive
DESCRIPTION:Living With A Bear – Dynamic indie rock with big builds and intimate moments\, balancing vulnerability and drive with a sense of forward motion. \nSomeone’s Daughter – Moody\, hook-heavy songs rooted in alternative rock\, pulling from post-punk tension and heartfelt lyricism. \nCat Positive – Punchy and angular with a playful bite. Fast riffs\, sharp turns\, and a live energy that keeps things unpredictable. \n21+
URL:https://cal.everettcommunity.org/event/living-with-a-bear-someones-daughter-cat-positive/
LOCATION:Lucky Dime\, 1618 Hewitt Ave\, Everett\, WA\, 98201\, United States
CATEGORIES:Art & Performances
ATTACH;FMTTYPE=image/png:https://cal.everettcommunity.org/wp-content/uploads/2026/02/LD4.png
END:VEVENT
BEGIN:VEVENT
DTSTART;TZID=America/Los_Angeles:20260227T180000
DTEND;TZID=America/Los_Angeles:20260227T200000
DTSTAMP:20260421T031244
CREATED:20260127T005257Z
LAST-MODIFIED:20260127T005257Z
UID:10001359-1772215200-1772222400@cal.everettcommunity.org
SUMMARY:Open Mic Night at Recovery Cafe
DESCRIPTION:Come join our open mic night for fun\, karaoke\, and fellowship on the last Friday of the month at 6pm!
URL:https://cal.everettcommunity.org/event/open-mic-night-at-recovery-cafe/2026-02-27/
LOCATION:Everett Recovery Cafe\, 1212 California St\, Everett\, WA\, 98201\, United States
CATEGORIES:Art & Performances
ATTACH;FMTTYPE=image/jpeg:https://cal.everettcommunity.org/wp-content/uploads/2026/01/mic.jpg
END:VEVENT
BEGIN:VEVENT
DTSTART;TZID=America/Los_Angeles:20260223T170000
DTEND;TZID=America/Los_Angeles:20260223T200000
DTSTAMP:20260421T031244
CREATED:20260223T192439Z
LAST-MODIFIED:20260223T192439Z
UID:10001676-1771866000-1771876800@cal.everettcommunity.org
SUMMARY:Everett Poetry Night
DESCRIPTION:Join local and featured poets every Monday evening for thoughtful and powerful words.
URL:https://cal.everettcommunity.org/event/everett-poetry-night/2026-02-23/
LOCATION:The Sisters Restaurant\, 2804 Grand Ave\, Everett\, WA\, 98201\, United States
CATEGORIES:Art & Performances
ATTACH;FMTTYPE=image/jpeg:https://cal.everettcommunity.org/wp-content/uploads/2026/02/poetrynight.jpg
END:VEVENT
BEGIN:VEVENT
DTSTART;TZID=America/Los_Angeles:20260221T130000
DTEND;TZID=America/Los_Angeles:20260221T150000
DTSTAMP:20260421T031244
CREATED:20260113T070649Z
LAST-MODIFIED:20260113T070649Z
UID:10001338-1771678800-1771686000@cal.everettcommunity.org
SUMMARY:Lunar New Year Lion Dance
DESCRIPTION:Celebrate the Lunar New Year with a lion dance performance by Northwest Kung Fu and Fitness! The lion dance will bring a burst of energy\, vibrant colors\, and rich tradition to the Port of Everett’s Pacific Rim Plaza.
URL:https://cal.everettcommunity.org/event/lunar-new-year-lion-dance/
LOCATION:Pacific Rim Plaza\, 1398 Seiner Dr\, Everett\, WA\, 98201\, United States
CATEGORIES:Art & Performances
ATTACH;FMTTYPE=image/jpeg:https://cal.everettcommunity.org/wp-content/uploads/2026/01/lion-dance.jpg
END:VEVENT
BEGIN:VEVENT
DTSTART;TZID=America/Los_Angeles:20260207T180000
DTEND;TZID=America/Los_Angeles:20260207T200000
DTSTAMP:20260421T031244
CREATED:20260131T201026Z
LAST-MODIFIED:20260131T201026Z
UID:10001419-1770487200-1770494400@cal.everettcommunity.org
SUMMARY:Stab & Gab at Artisans
DESCRIPTION:Join fellow fiber artists on the first Saturday of every month to work on your projects.
URL:https://cal.everettcommunity.org/event/stab-gab-at-artisans/2026-02-07/
LOCATION:Artisans Books & Coffee\, 1802 Hewitt Ave\, Everett\, WA\, 98201\, United States
CATEGORIES:Art & Performances
ATTACH;FMTTYPE=image/jpeg:https://cal.everettcommunity.org/wp-content/uploads/2026/01/gab.jpg
END:VEVENT
BEGIN:VEVENT
DTSTART;TZID=America/Los_Angeles:20260205T183000
DTEND;TZID=America/Los_Angeles:20260205T200000
DTSTAMP:20260421T031244
CREATED:20260131T201304Z
LAST-MODIFIED:20260131T201304Z
UID:10001479-1770316200-1770321600@cal.everettcommunity.org
SUMMARY:Silent Book Club at Artisans
DESCRIPTION:Grab a drink/snack and settle in for silent reading during a quiet hour at Artisans\, every first Thursday.
URL:https://cal.everettcommunity.org/event/silent-book-club-at-artisans/2026-02-05/
LOCATION:Artisans Books & Coffee\, 1802 Hewitt Ave\, Everett\, WA\, 98201\, United States
CATEGORIES:Art & Performances
ATTACH;FMTTYPE=image/jpeg:https://cal.everettcommunity.org/wp-content/uploads/2026/01/silent.jpg
END:VEVENT
BEGIN:VEVENT
DTSTART;TZID=America/Los_Angeles:20260130T190000
DTEND;TZID=America/Los_Angeles:20260130T220000
DTSTAMP:20260421T031244
CREATED:20260126T075138Z
LAST-MODIFIED:20260126T075138Z
UID:10001355-1769799600-1769810400@cal.everettcommunity.org
SUMMARY:Hardcore Show at Lucky Dime
DESCRIPTION:Featuring Lilith / Picket Line / Smearing / Big Trouble
URL:https://cal.everettcommunity.org/event/hardcore-show-at-lucky-dime/
LOCATION:Lucky Dime\, 1618 Hewitt Ave\, Everett\, WA\, 98201\, United States
CATEGORIES:Art & Performances
ATTACH;FMTTYPE=image/jpeg:https://cal.everettcommunity.org/wp-content/uploads/2026/01/lucky-hc-lilith.jpg
END:VEVENT
BEGIN:VEVENT
DTSTART;TZID=America/Los_Angeles:20260130T180000
DTEND;TZID=America/Los_Angeles:20260130T200000
DTSTAMP:20260421T031244
CREATED:20260127T005257Z
LAST-MODIFIED:20260127T005257Z
UID:10001358-1769796000-1769803200@cal.everettcommunity.org
SUMMARY:Open Mic Night at Recovery Cafe
DESCRIPTION:Come join our open mic night for fun\, karaoke\, and fellowship on the last Friday of the month at 6pm!
URL:https://cal.everettcommunity.org/event/open-mic-night-at-recovery-cafe/2026-01-30/
LOCATION:Everett Recovery Cafe\, 1212 California St\, Everett\, WA\, 98201\, United States
CATEGORIES:Art & Performances
ATTACH;FMTTYPE=image/jpeg:https://cal.everettcommunity.org/wp-content/uploads/2026/01/mic.jpg
END:VEVENT
BEGIN:VEVENT
DTSTART;TZID=America/Los_Angeles:20260130T170000
DTEND;TZID=America/Los_Angeles:20260130T200000
DTSTAMP:20260421T031244
CREATED:20260127T184857Z
LAST-MODIFIED:20260127T184857Z
UID:10001418-1769792400-1769803200@cal.everettcommunity.org
SUMMARY:Artisans New Studio Reveal
DESCRIPTION:Join Artisans Books & Coffee for a fun event featuring food and drinks\, to celebrate the opening of their new art studio space in the PNW Gifts and Gallery shop.
URL:https://cal.everettcommunity.org/event/artisans-new-studio-reveal/
LOCATION:Artisans Books & Coffee\, 1802 Hewitt Ave\, Everett\, WA\, 98201\, United States
CATEGORIES:Art & Performances
ATTACH;FMTTYPE=image/jpeg:https://cal.everettcommunity.org/wp-content/uploads/2026/01/paint.jpg
END:VEVENT
BEGIN:VEVENT
DTSTART;TZID=America/Los_Angeles:20260129T183000
DTEND;TZID=America/Los_Angeles:20260129T210000
DTSTAMP:20260421T031244
CREATED:20260126T075952Z
LAST-MODIFIED:20260126T075952Z
UID:10001356-1769711400-1769720400@cal.everettcommunity.org
SUMMARY:Cafe Salon: A Literary Jam Session
DESCRIPTION:This communal evening event starts with a few professional pointers & prompts by Richard Porter\, followed by creating words & sharing words. All ages & abilities welcome! No criticism\, just the joy of written expression. Jazz\, coffee\, dessert & vibes on the side.
URL:https://cal.everettcommunity.org/event/cafe-salon-a-literary-jam-session/
LOCATION:Butter Notes Cafe\, 902 N Broadway\, Unit B\, Everett\, WA\, 98201\, United States
CATEGORIES:Art & Performances
ATTACH;FMTTYPE=image/jpeg:https://cal.everettcommunity.org/wp-content/uploads/2026/01/buttercafesalon.jpg
END:VEVENT
BEGIN:VEVENT
DTSTART;TZID=America/Los_Angeles:20260117T190000
DTEND;TZID=America/Los_Angeles:20260117T230000
DTSTAMP:20260421T031244
CREATED:20260113T033114Z
LAST-MODIFIED:20260113T033114Z
UID:10001333-1768676400-1768690800@cal.everettcommunity.org
SUMMARY:Drag Bingo
DESCRIPTION:Lucky Dime hosts Drag Bingo with Sara Femme and a special guest for a night of campy chaos\, playful shade\, and fabulous performances. Expect big laughs\, eight rounds of bingo\, and prizes served with a wink. Whether you’re there to win or just soak up the energy\, it’s always a good time. \nDoors at 7\, bingo at 8\, 18+
URL:https://cal.everettcommunity.org/event/drag-bingo/
LOCATION:Lucky Dime\, 1618 Hewitt Ave\, Everett\, WA\, 98201\, United States
CATEGORIES:Art & Performances,Gaming
ATTACH;FMTTYPE=image/jpeg:https://cal.everettcommunity.org/wp-content/uploads/2026/01/dragbingo.jpg
END:VEVENT
BEGIN:VEVENT
DTSTART;TZID=America/Los_Angeles:20260117T140000
DTEND;TZID=America/Los_Angeles:20260117T170000
DTSTAMP:20260421T031244
CREATED:20260104T102903Z
LAST-MODIFIED:20260104T102903Z
UID:10001067-1768658400-1768669200@cal.everettcommunity.org
SUMMARY:Film Screening: Taking of Pelham One Two Three
DESCRIPTION:SnoCo Movie Club will be screening The Taking of Pelham One Two Three (1974) at the Everett Public Library auditorium on Saturday\, January 17th at 2pm! \nSynopsis: Four armed men hijack a New York City subway car and demand a ransom for the passengers. The city’s police are faced with a conundrum: Even if it’s paid\, how could they get away? \nWatch the Trailer
URL:https://cal.everettcommunity.org/event/film-screening-taking-of-pelham-one-two-three/
LOCATION:Everett Public Library\, 2702 Hoyt Ave\, Everett\, WA\, 98201\, United States
CATEGORIES:Art & Performances
ATTACH;FMTTYPE=image/webp:https://cal.everettcommunity.org/wp-content/uploads/2026/01/t45r837ri7bg1.png.webp
END:VEVENT
BEGIN:VEVENT
DTSTART;TZID=America/Los_Angeles:20260115T170000
DTEND;TZID=America/Los_Angeles:20260115T200000
DTSTAMP:20260421T031244
CREATED:20260113T040123Z
LAST-MODIFIED:20260113T040123Z
UID:10001336-1768496400-1768507200@cal.everettcommunity.org
SUMMARY:Excellence in Fibers X Opening Reception
DESCRIPTION:This Excellence In Fibers is a 10th anniversary exhibition\, bringing the best of current international fiber and textiles to a growing global fiber art community. Artists are encouraged to push the boundaries in the areas of installations\, sculpture\, vessels\, wall/floor works\, and wearable art.
URL:https://cal.everettcommunity.org/event/excellence-in-fibers-x-opening-reception/
LOCATION:Schack Art Center\, 2921 Hoyt Ave\, Everett\, WA\, 98201\, United States
CATEGORIES:Art & Performances
ATTACH;FMTTYPE=image/png:https://cal.everettcommunity.org/wp-content/uploads/2026/01/fibers.png
END:VEVENT
BEGIN:VEVENT
DTSTART;TZID=America/Los_Angeles:20260110T203000
DTEND;TZID=America/Los_Angeles:20260110T233000
DTSTAMP:20260421T031245
CREATED:20251231T075313Z
LAST-MODIFIED:20251231T075313Z
UID:10000852-1768077000-1768087800@cal.everettcommunity.org
SUMMARY:Hypnotechs / Prelude to a Pistol / Shadowhouse / Eve's Black Heart at Horseshoe
DESCRIPTION:Enjoy a 21+ night of live music at The Horseshoe Bar featuring a stacked lineup!
URL:https://cal.everettcommunity.org/event/hypnotechs-prelude-to-a-pistol-shadowhouse-eves-black-heart-at-horseshoe/
LOCATION:Horseshoe Bar & Cabaret\, 1805 Hewitt Ave\, Everett\, WA\, 98201\, United States
CATEGORIES:Art & Performances
ATTACH;FMTTYPE=image/jpeg:https://cal.everettcommunity.org/wp-content/uploads/2025/12/horsecab.jpg
END:VEVENT
BEGIN:VEVENT
DTSTART;TZID=America/Los_Angeles:20260103T190000
DTEND;TZID=America/Los_Angeles:20260103T233000
DTSTAMP:20260421T031245
CREATED:20251231T074948Z
LAST-MODIFIED:20251231T084128Z
UID:10000851-1767466800-1767483000@cal.everettcommunity.org
SUMMARY:Last Try / Fleamale / Dying Off / DJ Hodaddy
DESCRIPTION:Start your year with a night of punk and hardcore at Lucky Dime! Last Try kicks things off with a punk and hardcore set\, Fleamale brings a fierce punk/metal set\, and Dying Off keeps the punk vibes going. Stick around for DJ Hodaddy and keep the party rolling.
URL:https://cal.everettcommunity.org/event/last-try-fleamale-dying-off-dj-hodaddy/
LOCATION:Lucky Dime\, 1618 Hewitt Ave\, Everett\, WA\, 98201\, United States
CATEGORIES:Art & Performances
ATTACH;FMTTYPE=image/webp:https://cal.everettcommunity.org/wp-content/uploads/2025/12/luclydime.webp
END:VEVENT
END:VCALENDAR