BEGIN:VCALENDAR
VERSION:2.0
PRODID:-//Everett Community - ECPv6.15.20//NONSGML v1.0//EN
CALSCALE:GREGORIAN
METHOD:PUBLISH
X-WR-CALNAME:Everett Community
X-ORIGINAL-URL:https://cal.everettcommunity.org
X-WR-CALDESC:Events for Everett Community
REFRESH-INTERVAL;VALUE=DURATION:PT1H
X-Robots-Tag:noindex
X-PUBLISHED-TTL:PT1H
BEGIN:VTIMEZONE
TZID:America/Los_Angeles
BEGIN:DAYLIGHT
TZOFFSETFROM:-0800
TZOFFSETTO:-0700
TZNAME:PDT
DTSTART:20270314T100000
END:DAYLIGHT
BEGIN:STANDARD
TZOFFSETFROM:-0700
TZOFFSETTO:-0800
TZNAME:PST
DTSTART:20271107T090000
END:STANDARD
BEGIN:DAYLIGHT
TZOFFSETFROM:-0800
TZOFFSETTO:-0700
TZNAME:PDT
DTSTART:20280312T100000
END:DAYLIGHT
BEGIN:STANDARD
TZOFFSETFROM:-0700
TZOFFSETTO:-0800
TZNAME:PST
DTSTART:20281105T090000
END:STANDARD
BEGIN:DAYLIGHT
TZOFFSETFROM:-0800
TZOFFSETTO:-0700
TZNAME:PDT
DTSTART:20290311T100000
END:DAYLIGHT
BEGIN:STANDARD
TZOFFSETFROM:-0700
TZOFFSETTO:-0800
TZNAME:PST
DTSTART:20291104T090000
END:STANDARD
BEGIN:DAYLIGHT
TZOFFSETFROM:-0800
TZOFFSETTO:-0700
TZNAME:PDT
DTSTART:20300310T100000
END:DAYLIGHT
BEGIN:STANDARD
TZOFFSETFROM:-0700
TZOFFSETTO:-0800
TZNAME:PST
DTSTART:20301103T090000
END:STANDARD
END:VTIMEZONE
BEGIN:VEVENT
DTSTART;TZID=America/Los_Angeles:20281127T170000
DTEND;TZID=America/Los_Angeles:20281127T200000
DTSTAMP:20260422T190707
CREATED:20260223T192439Z
LAST-MODIFIED:20260223T192439Z
UID:10001820-1858957200-1858968000@cal.everettcommunity.org
SUMMARY:Everett Poetry Night
DESCRIPTION:Join local and featured poets every Monday evening for thoughtful and powerful words.
URL:https://cal.everettcommunity.org/event/everett-poetry-night/2028-11-27/
LOCATION:The Sisters Restaurant\, 2804 Grand Ave\, Everett\, WA\, 98201\, United States
CATEGORIES:Art & Performances
ATTACH;FMTTYPE=image/jpeg:https://cal.everettcommunity.org/wp-content/uploads/2026/02/poetrynight.jpg
END:VEVENT
BEGIN:VEVENT
DTSTART;TZID=America/Los_Angeles:20281202T180000
DTEND;TZID=America/Los_Angeles:20281202T200000
DTSTAMP:20260422T190707
CREATED:20260131T201026Z
LAST-MODIFIED:20260131T201026Z
UID:10001453-1859392800-1859400000@cal.everettcommunity.org
SUMMARY:Stab & Gab at Artisans
DESCRIPTION:Join fellow fiber artists on the first Saturday of every month to work on your projects.
URL:https://cal.everettcommunity.org/event/stab-gab-at-artisans/2028-12-02/
LOCATION:Artisans Books & Coffee\, 1802 Hewitt Ave\, Everett\, WA\, 98201\, United States
CATEGORIES:Art & Performances
ATTACH;FMTTYPE=image/jpeg:https://cal.everettcommunity.org/wp-content/uploads/2026/01/gab.jpg
END:VEVENT
BEGIN:VEVENT
DTSTART;TZID=America/Los_Angeles:20281204T170000
DTEND;TZID=America/Los_Angeles:20281204T200000
DTSTAMP:20260422T190707
CREATED:20260223T192439Z
LAST-MODIFIED:20260223T192439Z
UID:10001821-1859562000-1859572800@cal.everettcommunity.org
SUMMARY:Everett Poetry Night
DESCRIPTION:Join local and featured poets every Monday evening for thoughtful and powerful words.
URL:https://cal.everettcommunity.org/event/everett-poetry-night/2028-12-04/
LOCATION:The Sisters Restaurant\, 2804 Grand Ave\, Everett\, WA\, 98201\, United States
CATEGORIES:Art & Performances
ATTACH;FMTTYPE=image/jpeg:https://cal.everettcommunity.org/wp-content/uploads/2026/02/poetrynight.jpg
END:VEVENT
BEGIN:VEVENT
DTSTART;TZID=America/Los_Angeles:20281207T183000
DTEND;TZID=America/Los_Angeles:20281207T200000
DTSTAMP:20260422T190707
CREATED:20260131T201304Z
LAST-MODIFIED:20260131T201304Z
UID:10001513-1859826600-1859832000@cal.everettcommunity.org
SUMMARY:Silent Book Club at Artisans
DESCRIPTION:Grab a drink/snack and settle in for silent reading during a quiet hour at Artisans\, every first Thursday.
URL:https://cal.everettcommunity.org/event/silent-book-club-at-artisans/2028-12-07/
LOCATION:Artisans Books & Coffee\, 1802 Hewitt Ave\, Everett\, WA\, 98201\, United States
CATEGORIES:Art & Performances
ATTACH;FMTTYPE=image/jpeg:https://cal.everettcommunity.org/wp-content/uploads/2026/01/silent.jpg
END:VEVENT
BEGIN:VEVENT
DTSTART;TZID=America/Los_Angeles:20281211T170000
DTEND;TZID=America/Los_Angeles:20281211T200000
DTSTAMP:20260422T190707
CREATED:20260223T192439Z
LAST-MODIFIED:20260223T192439Z
UID:10001822-1860166800-1860177600@cal.everettcommunity.org
SUMMARY:Everett Poetry Night
DESCRIPTION:Join local and featured poets every Monday evening for thoughtful and powerful words.
URL:https://cal.everettcommunity.org/event/everett-poetry-night/2028-12-11/
LOCATION:The Sisters Restaurant\, 2804 Grand Ave\, Everett\, WA\, 98201\, United States
CATEGORIES:Art & Performances
ATTACH;FMTTYPE=image/jpeg:https://cal.everettcommunity.org/wp-content/uploads/2026/02/poetrynight.jpg
END:VEVENT
BEGIN:VEVENT
DTSTART;TZID=America/Los_Angeles:20281218T170000
DTEND;TZID=America/Los_Angeles:20281218T200000
DTSTAMP:20260422T190707
CREATED:20260223T192439Z
LAST-MODIFIED:20260223T192439Z
UID:10001823-1860771600-1860782400@cal.everettcommunity.org
SUMMARY:Everett Poetry Night
DESCRIPTION:Join local and featured poets every Monday evening for thoughtful and powerful words.
URL:https://cal.everettcommunity.org/event/everett-poetry-night/2028-12-18/
LOCATION:The Sisters Restaurant\, 2804 Grand Ave\, Everett\, WA\, 98201\, United States
CATEGORIES:Art & Performances
ATTACH;FMTTYPE=image/jpeg:https://cal.everettcommunity.org/wp-content/uploads/2026/02/poetrynight.jpg
END:VEVENT
BEGIN:VEVENT
DTSTART;TZID=America/Los_Angeles:20281221T170000
DTEND;TZID=America/Los_Angeles:20281221T190000
DTSTAMP:20260422T190707
CREATED:20260113T040850Z
LAST-MODIFIED:20260223T074741Z
UID:10001646-1861030800-1861038000@cal.everettcommunity.org
SUMMARY:Schack Art Center Teen Night
DESCRIPTION:Teens 13+ have an opportunity to create unique artwork inspired by a monthly theme. Free snacks and supplies provided. Parent/guardian must register at the website link.
URL:https://cal.everettcommunity.org/event/schack-art-center-teen-night/2028-12-21/
LOCATION:Schack Art Center\, 2921 Hoyt Ave\, Everett\, WA\, 98201\, United States
CATEGORIES:Art & Performances
ATTACH;FMTTYPE=image/jpeg:https://cal.everettcommunity.org/wp-content/uploads/2026/01/teen-night.jpg
END:VEVENT
BEGIN:VEVENT
DTSTART;TZID=America/Los_Angeles:20281225T170000
DTEND;TZID=America/Los_Angeles:20281225T200000
DTSTAMP:20260422T190707
CREATED:20260223T192439Z
LAST-MODIFIED:20260223T192439Z
UID:10001824-1861376400-1861387200@cal.everettcommunity.org
SUMMARY:Everett Poetry Night
DESCRIPTION:Join local and featured poets every Monday evening for thoughtful and powerful words.
URL:https://cal.everettcommunity.org/event/everett-poetry-night/2028-12-25/
LOCATION:The Sisters Restaurant\, 2804 Grand Ave\, Everett\, WA\, 98201\, United States
CATEGORIES:Art & Performances
ATTACH;FMTTYPE=image/jpeg:https://cal.everettcommunity.org/wp-content/uploads/2026/02/poetrynight.jpg
END:VEVENT
BEGIN:VEVENT
DTSTART;TZID=America/Los_Angeles:20281229T180000
DTEND;TZID=America/Los_Angeles:20281229T200000
DTSTAMP:20260422T190707
CREATED:20260127T005257Z
LAST-MODIFIED:20260127T005257Z
UID:10001393-1861725600-1861732800@cal.everettcommunity.org
SUMMARY:Open Mic Night at Recovery Cafe
DESCRIPTION:Come join our open mic night for fun\, karaoke\, and fellowship on the last Friday of the month at 6pm!
URL:https://cal.everettcommunity.org/event/open-mic-night-at-recovery-cafe/2028-12-29/
LOCATION:Everett Recovery Cafe\, 1212 California St\, Everett\, WA\, 98201\, United States
CATEGORIES:Art & Performances
ATTACH;FMTTYPE=image/jpeg:https://cal.everettcommunity.org/wp-content/uploads/2026/01/mic.jpg
END:VEVENT
BEGIN:VEVENT
DTSTART;TZID=America/Los_Angeles:20290101T170000
DTEND;TZID=America/Los_Angeles:20290101T200000
DTSTAMP:20260422T190707
CREATED:20260223T192439Z
LAST-MODIFIED:20260223T192439Z
UID:10001825-1861981200-1861992000@cal.everettcommunity.org
SUMMARY:Everett Poetry Night
DESCRIPTION:Join local and featured poets every Monday evening for thoughtful and powerful words.
URL:https://cal.everettcommunity.org/event/everett-poetry-night/2029-01-01/
LOCATION:The Sisters Restaurant\, 2804 Grand Ave\, Everett\, WA\, 98201\, United States
CATEGORIES:Art & Performances
ATTACH;FMTTYPE=image/jpeg:https://cal.everettcommunity.org/wp-content/uploads/2026/02/poetrynight.jpg
END:VEVENT
BEGIN:VEVENT
DTSTART;TZID=America/Los_Angeles:20290104T183000
DTEND;TZID=America/Los_Angeles:20290104T200000
DTSTAMP:20260422T190707
CREATED:20260131T201304Z
LAST-MODIFIED:20260131T201304Z
UID:10001514-1862245800-1862251200@cal.everettcommunity.org
SUMMARY:Silent Book Club at Artisans
DESCRIPTION:Grab a drink/snack and settle in for silent reading during a quiet hour at Artisans\, every first Thursday.
URL:https://cal.everettcommunity.org/event/silent-book-club-at-artisans/2029-01-04/
LOCATION:Artisans Books & Coffee\, 1802 Hewitt Ave\, Everett\, WA\, 98201\, United States
CATEGORIES:Art & Performances
ATTACH;FMTTYPE=image/jpeg:https://cal.everettcommunity.org/wp-content/uploads/2026/01/silent.jpg
END:VEVENT
BEGIN:VEVENT
DTSTART;TZID=America/Los_Angeles:20290106T180000
DTEND;TZID=America/Los_Angeles:20290106T200000
DTSTAMP:20260422T190707
CREATED:20260131T201026Z
LAST-MODIFIED:20260131T201026Z
UID:10001454-1862416800-1862424000@cal.everettcommunity.org
SUMMARY:Stab & Gab at Artisans
DESCRIPTION:Join fellow fiber artists on the first Saturday of every month to work on your projects.
URL:https://cal.everettcommunity.org/event/stab-gab-at-artisans/2029-01-06/
LOCATION:Artisans Books & Coffee\, 1802 Hewitt Ave\, Everett\, WA\, 98201\, United States
CATEGORIES:Art & Performances
ATTACH;FMTTYPE=image/jpeg:https://cal.everettcommunity.org/wp-content/uploads/2026/01/gab.jpg
END:VEVENT
BEGIN:VEVENT
DTSTART;TZID=America/Los_Angeles:20290108T170000
DTEND;TZID=America/Los_Angeles:20290108T200000
DTSTAMP:20260422T190707
CREATED:20260223T192439Z
LAST-MODIFIED:20260223T192439Z
UID:10001826-1862586000-1862596800@cal.everettcommunity.org
SUMMARY:Everett Poetry Night
DESCRIPTION:Join local and featured poets every Monday evening for thoughtful and powerful words.
URL:https://cal.everettcommunity.org/event/everett-poetry-night/2029-01-08/
LOCATION:The Sisters Restaurant\, 2804 Grand Ave\, Everett\, WA\, 98201\, United States
CATEGORIES:Art & Performances
ATTACH;FMTTYPE=image/jpeg:https://cal.everettcommunity.org/wp-content/uploads/2026/02/poetrynight.jpg
END:VEVENT
BEGIN:VEVENT
DTSTART;TZID=America/Los_Angeles:20290115T170000
DTEND;TZID=America/Los_Angeles:20290115T200000
DTSTAMP:20260422T190707
CREATED:20260223T192439Z
LAST-MODIFIED:20260223T192439Z
UID:10001827-1863190800-1863201600@cal.everettcommunity.org
SUMMARY:Everett Poetry Night
DESCRIPTION:Join local and featured poets every Monday evening for thoughtful and powerful words.
URL:https://cal.everettcommunity.org/event/everett-poetry-night/2029-01-15/
LOCATION:The Sisters Restaurant\, 2804 Grand Ave\, Everett\, WA\, 98201\, United States
CATEGORIES:Art & Performances
ATTACH;FMTTYPE=image/jpeg:https://cal.everettcommunity.org/wp-content/uploads/2026/02/poetrynight.jpg
END:VEVENT
BEGIN:VEVENT
DTSTART;TZID=America/Los_Angeles:20290118T170000
DTEND;TZID=America/Los_Angeles:20290118T190000
DTSTAMP:20260422T190707
CREATED:20260113T040850Z
LAST-MODIFIED:20260223T074741Z
UID:10001647-1863450000-1863457200@cal.everettcommunity.org
SUMMARY:Schack Art Center Teen Night
DESCRIPTION:Teens 13+ have an opportunity to create unique artwork inspired by a monthly theme. Free snacks and supplies provided. Parent/guardian must register at the website link.
URL:https://cal.everettcommunity.org/event/schack-art-center-teen-night/2029-01-18/
LOCATION:Schack Art Center\, 2921 Hoyt Ave\, Everett\, WA\, 98201\, United States
CATEGORIES:Art & Performances
ATTACH;FMTTYPE=image/jpeg:https://cal.everettcommunity.org/wp-content/uploads/2026/01/teen-night.jpg
END:VEVENT
BEGIN:VEVENT
DTSTART;TZID=America/Los_Angeles:20290122T170000
DTEND;TZID=America/Los_Angeles:20290122T200000
DTSTAMP:20260422T190707
CREATED:20260223T192439Z
LAST-MODIFIED:20260223T192439Z
UID:10001828-1863795600-1863806400@cal.everettcommunity.org
SUMMARY:Everett Poetry Night
DESCRIPTION:Join local and featured poets every Monday evening for thoughtful and powerful words.
URL:https://cal.everettcommunity.org/event/everett-poetry-night/2029-01-22/
LOCATION:The Sisters Restaurant\, 2804 Grand Ave\, Everett\, WA\, 98201\, United States
CATEGORIES:Art & Performances
ATTACH;FMTTYPE=image/jpeg:https://cal.everettcommunity.org/wp-content/uploads/2026/02/poetrynight.jpg
END:VEVENT
BEGIN:VEVENT
DTSTART;TZID=America/Los_Angeles:20290126T180000
DTEND;TZID=America/Los_Angeles:20290126T200000
DTSTAMP:20260422T190707
CREATED:20260127T005257Z
LAST-MODIFIED:20260127T005257Z
UID:10001394-1864144800-1864152000@cal.everettcommunity.org
SUMMARY:Open Mic Night at Recovery Cafe
DESCRIPTION:Come join our open mic night for fun\, karaoke\, and fellowship on the last Friday of the month at 6pm!
URL:https://cal.everettcommunity.org/event/open-mic-night-at-recovery-cafe/2029-01-26/
LOCATION:Everett Recovery Cafe\, 1212 California St\, Everett\, WA\, 98201\, United States
CATEGORIES:Art & Performances
ATTACH;FMTTYPE=image/jpeg:https://cal.everettcommunity.org/wp-content/uploads/2026/01/mic.jpg
END:VEVENT
BEGIN:VEVENT
DTSTART;TZID=America/Los_Angeles:20290129T170000
DTEND;TZID=America/Los_Angeles:20290129T200000
DTSTAMP:20260422T190707
CREATED:20260223T192439Z
LAST-MODIFIED:20260223T192439Z
UID:10001829-1864400400-1864411200@cal.everettcommunity.org
SUMMARY:Everett Poetry Night
DESCRIPTION:Join local and featured poets every Monday evening for thoughtful and powerful words.
URL:https://cal.everettcommunity.org/event/everett-poetry-night/2029-01-29/
LOCATION:The Sisters Restaurant\, 2804 Grand Ave\, Everett\, WA\, 98201\, United States
CATEGORIES:Art & Performances
ATTACH;FMTTYPE=image/jpeg:https://cal.everettcommunity.org/wp-content/uploads/2026/02/poetrynight.jpg
END:VEVENT
BEGIN:VEVENT
DTSTART;TZID=America/Los_Angeles:20290201T183000
DTEND;TZID=America/Los_Angeles:20290201T200000
DTSTAMP:20260422T190707
CREATED:20260131T201304Z
LAST-MODIFIED:20260131T201304Z
UID:10001515-1864665000-1864670400@cal.everettcommunity.org
SUMMARY:Silent Book Club at Artisans
DESCRIPTION:Grab a drink/snack and settle in for silent reading during a quiet hour at Artisans\, every first Thursday.
URL:https://cal.everettcommunity.org/event/silent-book-club-at-artisans/2029-02-01/
LOCATION:Artisans Books & Coffee\, 1802 Hewitt Ave\, Everett\, WA\, 98201\, United States
CATEGORIES:Art & Performances
ATTACH;FMTTYPE=image/jpeg:https://cal.everettcommunity.org/wp-content/uploads/2026/01/silent.jpg
END:VEVENT
BEGIN:VEVENT
DTSTART;TZID=America/Los_Angeles:20290203T180000
DTEND;TZID=America/Los_Angeles:20290203T200000
DTSTAMP:20260422T190707
CREATED:20260131T201026Z
LAST-MODIFIED:20260131T201026Z
UID:10001455-1864836000-1864843200@cal.everettcommunity.org
SUMMARY:Stab & Gab at Artisans
DESCRIPTION:Join fellow fiber artists on the first Saturday of every month to work on your projects.
URL:https://cal.everettcommunity.org/event/stab-gab-at-artisans/2029-02-03/
LOCATION:Artisans Books & Coffee\, 1802 Hewitt Ave\, Everett\, WA\, 98201\, United States
CATEGORIES:Art & Performances
ATTACH;FMTTYPE=image/jpeg:https://cal.everettcommunity.org/wp-content/uploads/2026/01/gab.jpg
END:VEVENT
BEGIN:VEVENT
DTSTART;TZID=America/Los_Angeles:20290205T170000
DTEND;TZID=America/Los_Angeles:20290205T200000
DTSTAMP:20260422T190707
CREATED:20260223T192439Z
LAST-MODIFIED:20260223T192439Z
UID:10001830-1865005200-1865016000@cal.everettcommunity.org
SUMMARY:Everett Poetry Night
DESCRIPTION:Join local and featured poets every Monday evening for thoughtful and powerful words.
URL:https://cal.everettcommunity.org/event/everett-poetry-night/2029-02-05/
LOCATION:The Sisters Restaurant\, 2804 Grand Ave\, Everett\, WA\, 98201\, United States
CATEGORIES:Art & Performances
ATTACH;FMTTYPE=image/jpeg:https://cal.everettcommunity.org/wp-content/uploads/2026/02/poetrynight.jpg
END:VEVENT
BEGIN:VEVENT
DTSTART;TZID=America/Los_Angeles:20290212T170000
DTEND;TZID=America/Los_Angeles:20290212T200000
DTSTAMP:20260422T190707
CREATED:20260223T192439Z
LAST-MODIFIED:20260223T192439Z
UID:10001831-1865610000-1865620800@cal.everettcommunity.org
SUMMARY:Everett Poetry Night
DESCRIPTION:Join local and featured poets every Monday evening for thoughtful and powerful words.
URL:https://cal.everettcommunity.org/event/everett-poetry-night/2029-02-12/
LOCATION:The Sisters Restaurant\, 2804 Grand Ave\, Everett\, WA\, 98201\, United States
CATEGORIES:Art & Performances
ATTACH;FMTTYPE=image/jpeg:https://cal.everettcommunity.org/wp-content/uploads/2026/02/poetrynight.jpg
END:VEVENT
BEGIN:VEVENT
DTSTART;TZID=America/Los_Angeles:20290215T170000
DTEND;TZID=America/Los_Angeles:20290215T190000
DTSTAMP:20260422T190707
CREATED:20260113T040850Z
LAST-MODIFIED:20260223T074741Z
UID:10001648-1865869200-1865876400@cal.everettcommunity.org
SUMMARY:Schack Art Center Teen Night
DESCRIPTION:Teens 13+ have an opportunity to create unique artwork inspired by a monthly theme. Free snacks and supplies provided. Parent/guardian must register at the website link.
URL:https://cal.everettcommunity.org/event/schack-art-center-teen-night/2029-02-15/
LOCATION:Schack Art Center\, 2921 Hoyt Ave\, Everett\, WA\, 98201\, United States
CATEGORIES:Art & Performances
ATTACH;FMTTYPE=image/jpeg:https://cal.everettcommunity.org/wp-content/uploads/2026/01/teen-night.jpg
END:VEVENT
BEGIN:VEVENT
DTSTART;TZID=America/Los_Angeles:20290219T170000
DTEND;TZID=America/Los_Angeles:20290219T200000
DTSTAMP:20260422T190707
CREATED:20260223T192439Z
LAST-MODIFIED:20260223T192439Z
UID:10001832-1866214800-1866225600@cal.everettcommunity.org
SUMMARY:Everett Poetry Night
DESCRIPTION:Join local and featured poets every Monday evening for thoughtful and powerful words.
URL:https://cal.everettcommunity.org/event/everett-poetry-night/2029-02-19/
LOCATION:The Sisters Restaurant\, 2804 Grand Ave\, Everett\, WA\, 98201\, United States
CATEGORIES:Art & Performances
ATTACH;FMTTYPE=image/jpeg:https://cal.everettcommunity.org/wp-content/uploads/2026/02/poetrynight.jpg
END:VEVENT
BEGIN:VEVENT
DTSTART;TZID=America/Los_Angeles:20290223T180000
DTEND;TZID=America/Los_Angeles:20290223T200000
DTSTAMP:20260422T190707
CREATED:20260127T005257Z
LAST-MODIFIED:20260127T005257Z
UID:10001395-1866564000-1866571200@cal.everettcommunity.org
SUMMARY:Open Mic Night at Recovery Cafe
DESCRIPTION:Come join our open mic night for fun\, karaoke\, and fellowship on the last Friday of the month at 6pm!
URL:https://cal.everettcommunity.org/event/open-mic-night-at-recovery-cafe/2029-02-23/
LOCATION:Everett Recovery Cafe\, 1212 California St\, Everett\, WA\, 98201\, United States
CATEGORIES:Art & Performances
ATTACH;FMTTYPE=image/jpeg:https://cal.everettcommunity.org/wp-content/uploads/2026/01/mic.jpg
END:VEVENT
BEGIN:VEVENT
DTSTART;TZID=America/Los_Angeles:20290226T170000
DTEND;TZID=America/Los_Angeles:20290226T200000
DTSTAMP:20260422T190707
CREATED:20260223T192439Z
LAST-MODIFIED:20260223T192439Z
UID:10001833-1866819600-1866830400@cal.everettcommunity.org
SUMMARY:Everett Poetry Night
DESCRIPTION:Join local and featured poets every Monday evening for thoughtful and powerful words.
URL:https://cal.everettcommunity.org/event/everett-poetry-night/2029-02-26/
LOCATION:The Sisters Restaurant\, 2804 Grand Ave\, Everett\, WA\, 98201\, United States
CATEGORIES:Art & Performances
ATTACH;FMTTYPE=image/jpeg:https://cal.everettcommunity.org/wp-content/uploads/2026/02/poetrynight.jpg
END:VEVENT
BEGIN:VEVENT
DTSTART;TZID=America/Los_Angeles:20290301T183000
DTEND;TZID=America/Los_Angeles:20290301T200000
DTSTAMP:20260422T190707
CREATED:20260131T201304Z
LAST-MODIFIED:20260131T201304Z
UID:10001516-1867084200-1867089600@cal.everettcommunity.org
SUMMARY:Silent Book Club at Artisans
DESCRIPTION:Grab a drink/snack and settle in for silent reading during a quiet hour at Artisans\, every first Thursday.
URL:https://cal.everettcommunity.org/event/silent-book-club-at-artisans/2029-03-01/
LOCATION:Artisans Books & Coffee\, 1802 Hewitt Ave\, Everett\, WA\, 98201\, United States
CATEGORIES:Art & Performances
ATTACH;FMTTYPE=image/jpeg:https://cal.everettcommunity.org/wp-content/uploads/2026/01/silent.jpg
END:VEVENT
BEGIN:VEVENT
DTSTART;TZID=America/Los_Angeles:20290303T180000
DTEND;TZID=America/Los_Angeles:20290303T200000
DTSTAMP:20260422T190707
CREATED:20260131T201026Z
LAST-MODIFIED:20260131T201026Z
UID:10001456-1867255200-1867262400@cal.everettcommunity.org
SUMMARY:Stab & Gab at Artisans
DESCRIPTION:Join fellow fiber artists on the first Saturday of every month to work on your projects.
URL:https://cal.everettcommunity.org/event/stab-gab-at-artisans/2029-03-03/
LOCATION:Artisans Books & Coffee\, 1802 Hewitt Ave\, Everett\, WA\, 98201\, United States
CATEGORIES:Art & Performances
ATTACH;FMTTYPE=image/jpeg:https://cal.everettcommunity.org/wp-content/uploads/2026/01/gab.jpg
END:VEVENT
BEGIN:VEVENT
DTSTART;TZID=America/Los_Angeles:20290305T170000
DTEND;TZID=America/Los_Angeles:20290305T200000
DTSTAMP:20260422T190707
CREATED:20260223T192439Z
LAST-MODIFIED:20260223T192439Z
UID:10001834-1867424400-1867435200@cal.everettcommunity.org
SUMMARY:Everett Poetry Night
DESCRIPTION:Join local and featured poets every Monday evening for thoughtful and powerful words.
URL:https://cal.everettcommunity.org/event/everett-poetry-night/2029-03-05/
LOCATION:The Sisters Restaurant\, 2804 Grand Ave\, Everett\, WA\, 98201\, United States
CATEGORIES:Art & Performances
ATTACH;FMTTYPE=image/jpeg:https://cal.everettcommunity.org/wp-content/uploads/2026/02/poetrynight.jpg
END:VEVENT
BEGIN:VEVENT
DTSTART;TZID=America/Los_Angeles:20290312T170000
DTEND;TZID=America/Los_Angeles:20290312T200000
DTSTAMP:20260422T190707
CREATED:20260223T192439Z
LAST-MODIFIED:20260223T192439Z
UID:10001835-1868029200-1868040000@cal.everettcommunity.org
SUMMARY:Everett Poetry Night
DESCRIPTION:Join local and featured poets every Monday evening for thoughtful and powerful words.
URL:https://cal.everettcommunity.org/event/everett-poetry-night/2029-03-12/
LOCATION:The Sisters Restaurant\, 2804 Grand Ave\, Everett\, WA\, 98201\, United States
CATEGORIES:Art & Performances
ATTACH;FMTTYPE=image/jpeg:https://cal.everettcommunity.org/wp-content/uploads/2026/02/poetrynight.jpg
END:VEVENT
END:VCALENDAR