BEGIN:VCALENDAR
VERSION:2.0
PRODID:-//Everett Community - ECPv6.15.20//NONSGML v1.0//EN
CALSCALE:GREGORIAN
METHOD:PUBLISH
X-WR-CALNAME:Everett Community
X-ORIGINAL-URL:https://cal.everettcommunity.org
X-WR-CALDESC:Events for Everett Community
REFRESH-INTERVAL;VALUE=DURATION:PT1H
X-Robots-Tag:noindex
X-PUBLISHED-TTL:PT1H
BEGIN:VTIMEZONE
TZID:America/Los_Angeles
BEGIN:DAYLIGHT
TZOFFSETFROM:-0800
TZOFFSETTO:-0700
TZNAME:PDT
DTSTART:20270314T100000
END:DAYLIGHT
BEGIN:STANDARD
TZOFFSETFROM:-0700
TZOFFSETTO:-0800
TZNAME:PST
DTSTART:20271107T090000
END:STANDARD
BEGIN:DAYLIGHT
TZOFFSETFROM:-0800
TZOFFSETTO:-0700
TZNAME:PDT
DTSTART:20280312T100000
END:DAYLIGHT
BEGIN:STANDARD
TZOFFSETFROM:-0700
TZOFFSETTO:-0800
TZNAME:PST
DTSTART:20281105T090000
END:STANDARD
BEGIN:DAYLIGHT
TZOFFSETFROM:-0800
TZOFFSETTO:-0700
TZNAME:PDT
DTSTART:20290311T100000
END:DAYLIGHT
BEGIN:STANDARD
TZOFFSETFROM:-0700
TZOFFSETTO:-0800
TZNAME:PST
DTSTART:20291104T090000
END:STANDARD
END:VTIMEZONE
BEGIN:VEVENT
DTSTART;TZID=America/Los_Angeles:20280101T180000
DTEND;TZID=America/Los_Angeles:20280101T200000
DTSTAMP:20260422T092303
CREATED:20260131T201026Z
LAST-MODIFIED:20260131T201026Z
UID:10001442-1830362400-1830369600@cal.everettcommunity.org
SUMMARY:Stab & Gab at Artisans
DESCRIPTION:Join fellow fiber artists on the first Saturday of every month to work on your projects.
URL:https://cal.everettcommunity.org/event/stab-gab-at-artisans/2028-01-01/
LOCATION:Artisans Books & Coffee\, 1802 Hewitt Ave\, Everett\, WA\, 98201\, United States
CATEGORIES:Art & Performances
ATTACH;FMTTYPE=image/jpeg:https://cal.everettcommunity.org/wp-content/uploads/2026/01/gab.jpg
END:VEVENT
BEGIN:VEVENT
DTSTART;TZID=America/Los_Angeles:20280103T170000
DTEND;TZID=America/Los_Angeles:20280103T200000
DTSTAMP:20260422T092303
CREATED:20260223T192439Z
LAST-MODIFIED:20260223T192439Z
UID:10001773-1830531600-1830542400@cal.everettcommunity.org
SUMMARY:Everett Poetry Night
DESCRIPTION:Join local and featured poets every Monday evening for thoughtful and powerful words.
URL:https://cal.everettcommunity.org/event/everett-poetry-night/2028-01-03/
LOCATION:The Sisters Restaurant\, 2804 Grand Ave\, Everett\, WA\, 98201\, United States
CATEGORIES:Art & Performances
ATTACH;FMTTYPE=image/jpeg:https://cal.everettcommunity.org/wp-content/uploads/2026/02/poetrynight.jpg
END:VEVENT
BEGIN:VEVENT
DTSTART;TZID=America/Los_Angeles:20280106T183000
DTEND;TZID=America/Los_Angeles:20280106T200000
DTSTAMP:20260422T092303
CREATED:20260131T201304Z
LAST-MODIFIED:20260131T201304Z
UID:10001502-1830796200-1830801600@cal.everettcommunity.org
SUMMARY:Silent Book Club at Artisans
DESCRIPTION:Grab a drink/snack and settle in for silent reading during a quiet hour at Artisans\, every first Thursday.
URL:https://cal.everettcommunity.org/event/silent-book-club-at-artisans/2028-01-06/
LOCATION:Artisans Books & Coffee\, 1802 Hewitt Ave\, Everett\, WA\, 98201\, United States
CATEGORIES:Art & Performances
ATTACH;FMTTYPE=image/jpeg:https://cal.everettcommunity.org/wp-content/uploads/2026/01/silent.jpg
END:VEVENT
BEGIN:VEVENT
DTSTART;TZID=America/Los_Angeles:20280110T170000
DTEND;TZID=America/Los_Angeles:20280110T200000
DTSTAMP:20260422T092303
CREATED:20260223T192439Z
LAST-MODIFIED:20260223T192439Z
UID:10001774-1831136400-1831147200@cal.everettcommunity.org
SUMMARY:Everett Poetry Night
DESCRIPTION:Join local and featured poets every Monday evening for thoughtful and powerful words.
URL:https://cal.everettcommunity.org/event/everett-poetry-night/2028-01-10/
LOCATION:The Sisters Restaurant\, 2804 Grand Ave\, Everett\, WA\, 98201\, United States
CATEGORIES:Art & Performances
ATTACH;FMTTYPE=image/jpeg:https://cal.everettcommunity.org/wp-content/uploads/2026/02/poetrynight.jpg
END:VEVENT
BEGIN:VEVENT
DTSTART;TZID=America/Los_Angeles:20280117T170000
DTEND;TZID=America/Los_Angeles:20280117T200000
DTSTAMP:20260422T092303
CREATED:20260223T192439Z
LAST-MODIFIED:20260223T192439Z
UID:10001775-1831741200-1831752000@cal.everettcommunity.org
SUMMARY:Everett Poetry Night
DESCRIPTION:Join local and featured poets every Monday evening for thoughtful and powerful words.
URL:https://cal.everettcommunity.org/event/everett-poetry-night/2028-01-17/
LOCATION:The Sisters Restaurant\, 2804 Grand Ave\, Everett\, WA\, 98201\, United States
CATEGORIES:Art & Performances
ATTACH;FMTTYPE=image/jpeg:https://cal.everettcommunity.org/wp-content/uploads/2026/02/poetrynight.jpg
END:VEVENT
BEGIN:VEVENT
DTSTART;TZID=America/Los_Angeles:20280120T170000
DTEND;TZID=America/Los_Angeles:20280120T190000
DTSTAMP:20260422T092303
CREATED:20260113T040850Z
LAST-MODIFIED:20260223T074741Z
UID:10001635-1832000400-1832007600@cal.everettcommunity.org
SUMMARY:Schack Art Center Teen Night
DESCRIPTION:Teens 13+ have an opportunity to create unique artwork inspired by a monthly theme. Free snacks and supplies provided. Parent/guardian must register at the website link.
URL:https://cal.everettcommunity.org/event/schack-art-center-teen-night/2028-01-20/
LOCATION:Schack Art Center\, 2921 Hoyt Ave\, Everett\, WA\, 98201\, United States
CATEGORIES:Art & Performances
ATTACH;FMTTYPE=image/jpeg:https://cal.everettcommunity.org/wp-content/uploads/2026/01/teen-night.jpg
END:VEVENT
BEGIN:VEVENT
DTSTART;TZID=America/Los_Angeles:20280124T170000
DTEND;TZID=America/Los_Angeles:20280124T200000
DTSTAMP:20260422T092303
CREATED:20260223T192439Z
LAST-MODIFIED:20260223T192439Z
UID:10001776-1832346000-1832356800@cal.everettcommunity.org
SUMMARY:Everett Poetry Night
DESCRIPTION:Join local and featured poets every Monday evening for thoughtful and powerful words.
URL:https://cal.everettcommunity.org/event/everett-poetry-night/2028-01-24/
LOCATION:The Sisters Restaurant\, 2804 Grand Ave\, Everett\, WA\, 98201\, United States
CATEGORIES:Art & Performances
ATTACH;FMTTYPE=image/jpeg:https://cal.everettcommunity.org/wp-content/uploads/2026/02/poetrynight.jpg
END:VEVENT
BEGIN:VEVENT
DTSTART;TZID=America/Los_Angeles:20280128T180000
DTEND;TZID=America/Los_Angeles:20280128T200000
DTSTAMP:20260422T092303
CREATED:20260127T005257Z
LAST-MODIFIED:20260127T005257Z
UID:10001382-1832695200-1832702400@cal.everettcommunity.org
SUMMARY:Open Mic Night at Recovery Cafe
DESCRIPTION:Come join our open mic night for fun\, karaoke\, and fellowship on the last Friday of the month at 6pm!
URL:https://cal.everettcommunity.org/event/open-mic-night-at-recovery-cafe/2028-01-28/
LOCATION:Everett Recovery Cafe\, 1212 California St\, Everett\, WA\, 98201\, United States
CATEGORIES:Art & Performances
ATTACH;FMTTYPE=image/jpeg:https://cal.everettcommunity.org/wp-content/uploads/2026/01/mic.jpg
END:VEVENT
BEGIN:VEVENT
DTSTART;TZID=America/Los_Angeles:20280131T170000
DTEND;TZID=America/Los_Angeles:20280131T200000
DTSTAMP:20260422T092303
CREATED:20260223T192439Z
LAST-MODIFIED:20260223T192439Z
UID:10001777-1832950800-1832961600@cal.everettcommunity.org
SUMMARY:Everett Poetry Night
DESCRIPTION:Join local and featured poets every Monday evening for thoughtful and powerful words.
URL:https://cal.everettcommunity.org/event/everett-poetry-night/2028-01-31/
LOCATION:The Sisters Restaurant\, 2804 Grand Ave\, Everett\, WA\, 98201\, United States
CATEGORIES:Art & Performances
ATTACH;FMTTYPE=image/jpeg:https://cal.everettcommunity.org/wp-content/uploads/2026/02/poetrynight.jpg
END:VEVENT
END:VCALENDAR