BEGIN:VCALENDAR
VERSION:2.0
PRODID:-//Everett Community - ECPv6.15.20//NONSGML v1.0//EN
CALSCALE:GREGORIAN
METHOD:PUBLISH
X-ORIGINAL-URL:https://cal.everettcommunity.org
X-WR-CALDESC:Events for Everett Community
REFRESH-INTERVAL;VALUE=DURATION:PT1H
X-Robots-Tag:noindex
X-PUBLISHED-TTL:PT1H
BEGIN:VTIMEZONE
TZID:America/Los_Angeles
BEGIN:DAYLIGHT
TZOFFSETFROM:-0800
TZOFFSETTO:-0700
TZNAME:PDT
DTSTART:20260308T100000
END:DAYLIGHT
BEGIN:STANDARD
TZOFFSETFROM:-0700
TZOFFSETTO:-0800
TZNAME:PST
DTSTART:20261101T090000
END:STANDARD
BEGIN:DAYLIGHT
TZOFFSETFROM:-0800
TZOFFSETTO:-0700
TZNAME:PDT
DTSTART:20270314T100000
END:DAYLIGHT
BEGIN:STANDARD
TZOFFSETFROM:-0700
TZOFFSETTO:-0800
TZNAME:PST
DTSTART:20271107T090000
END:STANDARD
BEGIN:DAYLIGHT
TZOFFSETFROM:-0800
TZOFFSETTO:-0700
TZNAME:PDT
DTSTART:20280312T100000
END:DAYLIGHT
BEGIN:STANDARD
TZOFFSETFROM:-0700
TZOFFSETTO:-0800
TZNAME:PST
DTSTART:20281105T090000
END:STANDARD
END:VTIMEZONE
BEGIN:VEVENT
DTSTART;TZID=America/Los_Angeles:20270902T183000
DTEND;TZID=America/Los_Angeles:20270902T200000
DTSTAMP:20260422T024935
CREATED:20260131T201304Z
LAST-MODIFIED:20260131T201304Z
UID:10001498-1819909800-1819915200@cal.everettcommunity.org
SUMMARY:Silent Book Club at Artisans
DESCRIPTION:Grab a drink/snack and settle in for silent reading during a quiet hour at Artisans\, every first Thursday.
URL:https://cal.everettcommunity.org/event/silent-book-club-at-artisans/2027-09-02/
LOCATION:Artisans Books & Coffee\, 1802 Hewitt Ave\, Everett\, WA\, 98201\, United States
CATEGORIES:Art & Performances
ATTACH;FMTTYPE=image/jpeg:https://cal.everettcommunity.org/wp-content/uploads/2026/01/silent.jpg
END:VEVENT
BEGIN:VEVENT
DTSTART;TZID=America/Los_Angeles:20270904T180000
DTEND;TZID=America/Los_Angeles:20270904T200000
DTSTAMP:20260422T024935
CREATED:20260131T201026Z
LAST-MODIFIED:20260131T201026Z
UID:10001438-1820080800-1820088000@cal.everettcommunity.org
SUMMARY:Stab & Gab at Artisans
DESCRIPTION:Join fellow fiber artists on the first Saturday of every month to work on your projects.
URL:https://cal.everettcommunity.org/event/stab-gab-at-artisans/2027-09-04/
LOCATION:Artisans Books & Coffee\, 1802 Hewitt Ave\, Everett\, WA\, 98201\, United States
CATEGORIES:Art & Performances
ATTACH;FMTTYPE=image/jpeg:https://cal.everettcommunity.org/wp-content/uploads/2026/01/gab.jpg
END:VEVENT
BEGIN:VEVENT
DTSTART;TZID=America/Los_Angeles:20270906T170000
DTEND;TZID=America/Los_Angeles:20270906T200000
DTSTAMP:20260422T024935
CREATED:20260223T192439Z
LAST-MODIFIED:20260223T192439Z
UID:10001756-1820250000-1820260800@cal.everettcommunity.org
SUMMARY:Everett Poetry Night
DESCRIPTION:Join local and featured poets every Monday evening for thoughtful and powerful words.
URL:https://cal.everettcommunity.org/event/everett-poetry-night/2027-09-06/
LOCATION:The Sisters Restaurant\, 2804 Grand Ave\, Everett\, WA\, 98201\, United States
CATEGORIES:Art & Performances
ATTACH;FMTTYPE=image/jpeg:https://cal.everettcommunity.org/wp-content/uploads/2026/02/poetrynight.jpg
END:VEVENT
BEGIN:VEVENT
DTSTART;TZID=America/Los_Angeles:20270913T170000
DTEND;TZID=America/Los_Angeles:20270913T200000
DTSTAMP:20260422T024935
CREATED:20260223T192439Z
LAST-MODIFIED:20260223T192439Z
UID:10001757-1820854800-1820865600@cal.everettcommunity.org
SUMMARY:Everett Poetry Night
DESCRIPTION:Join local and featured poets every Monday evening for thoughtful and powerful words.
URL:https://cal.everettcommunity.org/event/everett-poetry-night/2027-09-13/
LOCATION:The Sisters Restaurant\, 2804 Grand Ave\, Everett\, WA\, 98201\, United States
CATEGORIES:Art & Performances
ATTACH;FMTTYPE=image/jpeg:https://cal.everettcommunity.org/wp-content/uploads/2026/02/poetrynight.jpg
END:VEVENT
BEGIN:VEVENT
DTSTART;TZID=America/Los_Angeles:20270916T170000
DTEND;TZID=America/Los_Angeles:20270916T190000
DTSTAMP:20260422T024935
CREATED:20260113T040850Z
LAST-MODIFIED:20260223T074741Z
UID:10001631-1821114000-1821121200@cal.everettcommunity.org
SUMMARY:Schack Art Center Teen Night
DESCRIPTION:Teens 13+ have an opportunity to create unique artwork inspired by a monthly theme. Free snacks and supplies provided. Parent/guardian must register at the website link.
URL:https://cal.everettcommunity.org/event/schack-art-center-teen-night/2027-09-16/
LOCATION:Schack Art Center\, 2921 Hoyt Ave\, Everett\, WA\, 98201\, United States
CATEGORIES:Art & Performances
ATTACH;FMTTYPE=image/jpeg:https://cal.everettcommunity.org/wp-content/uploads/2026/01/teen-night.jpg
END:VEVENT
BEGIN:VEVENT
DTSTART;TZID=America/Los_Angeles:20270920T170000
DTEND;TZID=America/Los_Angeles:20270920T200000
DTSTAMP:20260422T024935
CREATED:20260223T192439Z
LAST-MODIFIED:20260223T192439Z
UID:10001758-1821459600-1821470400@cal.everettcommunity.org
SUMMARY:Everett Poetry Night
DESCRIPTION:Join local and featured poets every Monday evening for thoughtful and powerful words.
URL:https://cal.everettcommunity.org/event/everett-poetry-night/2027-09-20/
LOCATION:The Sisters Restaurant\, 2804 Grand Ave\, Everett\, WA\, 98201\, United States
CATEGORIES:Art & Performances
ATTACH;FMTTYPE=image/jpeg:https://cal.everettcommunity.org/wp-content/uploads/2026/02/poetrynight.jpg
END:VEVENT
BEGIN:VEVENT
DTSTART;TZID=America/Los_Angeles:20270924T180000
DTEND;TZID=America/Los_Angeles:20270924T200000
DTSTAMP:20260422T024935
CREATED:20260127T005257Z
LAST-MODIFIED:20260127T005257Z
UID:10001378-1821808800-1821816000@cal.everettcommunity.org
SUMMARY:Open Mic Night at Recovery Cafe
DESCRIPTION:Come join our open mic night for fun\, karaoke\, and fellowship on the last Friday of the month at 6pm!
URL:https://cal.everettcommunity.org/event/open-mic-night-at-recovery-cafe/2027-09-24/
LOCATION:Everett Recovery Cafe\, 1212 California St\, Everett\, WA\, 98201\, United States
CATEGORIES:Art & Performances
ATTACH;FMTTYPE=image/jpeg:https://cal.everettcommunity.org/wp-content/uploads/2026/01/mic.jpg
END:VEVENT
BEGIN:VEVENT
DTSTART;TZID=America/Los_Angeles:20270927T170000
DTEND;TZID=America/Los_Angeles:20270927T200000
DTSTAMP:20260422T024935
CREATED:20260223T192439Z
LAST-MODIFIED:20260223T192439Z
UID:10001759-1822064400-1822075200@cal.everettcommunity.org
SUMMARY:Everett Poetry Night
DESCRIPTION:Join local and featured poets every Monday evening for thoughtful and powerful words.
URL:https://cal.everettcommunity.org/event/everett-poetry-night/2027-09-27/
LOCATION:The Sisters Restaurant\, 2804 Grand Ave\, Everett\, WA\, 98201\, United States
CATEGORIES:Art & Performances
ATTACH;FMTTYPE=image/jpeg:https://cal.everettcommunity.org/wp-content/uploads/2026/02/poetrynight.jpg
END:VEVENT
END:VCALENDAR