BEGIN:VCALENDAR
VERSION:2.0
PRODID:-//Everett Community - ECPv6.15.20//NONSGML v1.0//EN
CALSCALE:GREGORIAN
METHOD:PUBLISH
X-ORIGINAL-URL:https://cal.everettcommunity.org
X-WR-CALDESC:Events for Everett Community
REFRESH-INTERVAL;VALUE=DURATION:PT1H
X-Robots-Tag:noindex
X-PUBLISHED-TTL:PT1H
BEGIN:VTIMEZONE
TZID:America/Los_Angeles
BEGIN:DAYLIGHT
TZOFFSETFROM:-0800
TZOFFSETTO:-0700
TZNAME:PDT
DTSTART:20250309T100000
END:DAYLIGHT
BEGIN:STANDARD
TZOFFSETFROM:-0700
TZOFFSETTO:-0800
TZNAME:PST
DTSTART:20251102T090000
END:STANDARD
BEGIN:DAYLIGHT
TZOFFSETFROM:-0800
TZOFFSETTO:-0700
TZNAME:PDT
DTSTART:20260308T100000
END:DAYLIGHT
BEGIN:STANDARD
TZOFFSETFROM:-0700
TZOFFSETTO:-0800
TZNAME:PST
DTSTART:20261101T090000
END:STANDARD
BEGIN:DAYLIGHT
TZOFFSETFROM:-0800
TZOFFSETTO:-0700
TZNAME:PDT
DTSTART:20270314T100000
END:DAYLIGHT
BEGIN:STANDARD
TZOFFSETFROM:-0700
TZOFFSETTO:-0800
TZNAME:PST
DTSTART:20271107T090000
END:STANDARD
END:VTIMEZONE
BEGIN:VEVENT
DTSTART;TZID=America/Los_Angeles:20261102T170000
DTEND;TZID=America/Los_Angeles:20261102T200000
DTSTAMP:20260421T105426
CREATED:20260223T192439Z
LAST-MODIFIED:20260223T192439Z
UID:10001712-1793638800-1793649600@cal.everettcommunity.org
SUMMARY:Everett Poetry Night
DESCRIPTION:Join local and featured poets every Monday evening for thoughtful and powerful words.
URL:https://cal.everettcommunity.org/event/everett-poetry-night/2026-11-02/
LOCATION:The Sisters Restaurant\, 2804 Grand Ave\, Everett\, WA\, 98201\, United States
CATEGORIES:Art & Performances
ATTACH;FMTTYPE=image/jpeg:https://cal.everettcommunity.org/wp-content/uploads/2026/02/poetrynight.jpg
END:VEVENT
BEGIN:VEVENT
DTSTART;TZID=America/Los_Angeles:20261105T183000
DTEND;TZID=America/Los_Angeles:20261105T200000
DTSTAMP:20260421T105426
CREATED:20260131T201304Z
LAST-MODIFIED:20260131T201304Z
UID:10001488-1793903400-1793908800@cal.everettcommunity.org
SUMMARY:Silent Book Club at Artisans
DESCRIPTION:Grab a drink/snack and settle in for silent reading during a quiet hour at Artisans\, every first Thursday.
URL:https://cal.everettcommunity.org/event/silent-book-club-at-artisans/2026-11-05/
LOCATION:Artisans Books & Coffee\, 1802 Hewitt Ave\, Everett\, WA\, 98201\, United States
CATEGORIES:Art & Performances
ATTACH;FMTTYPE=image/jpeg:https://cal.everettcommunity.org/wp-content/uploads/2026/01/silent.jpg
END:VEVENT
BEGIN:VEVENT
DTSTART;TZID=America/Los_Angeles:20261107T180000
DTEND;TZID=America/Los_Angeles:20261107T200000
DTSTAMP:20260421T105426
CREATED:20260131T201026Z
LAST-MODIFIED:20260131T201026Z
UID:10001428-1794074400-1794081600@cal.everettcommunity.org
SUMMARY:Stab & Gab at Artisans
DESCRIPTION:Join fellow fiber artists on the first Saturday of every month to work on your projects.
URL:https://cal.everettcommunity.org/event/stab-gab-at-artisans/2026-11-07/
LOCATION:Artisans Books & Coffee\, 1802 Hewitt Ave\, Everett\, WA\, 98201\, United States
CATEGORIES:Art & Performances
ATTACH;FMTTYPE=image/jpeg:https://cal.everettcommunity.org/wp-content/uploads/2026/01/gab.jpg
END:VEVENT
BEGIN:VEVENT
DTSTART;TZID=America/Los_Angeles:20261109T170000
DTEND;TZID=America/Los_Angeles:20261109T200000
DTSTAMP:20260421T105426
CREATED:20260223T192439Z
LAST-MODIFIED:20260223T192439Z
UID:10001713-1794243600-1794254400@cal.everettcommunity.org
SUMMARY:Everett Poetry Night
DESCRIPTION:Join local and featured poets every Monday evening for thoughtful and powerful words.
URL:https://cal.everettcommunity.org/event/everett-poetry-night/2026-11-09/
LOCATION:The Sisters Restaurant\, 2804 Grand Ave\, Everett\, WA\, 98201\, United States
CATEGORIES:Art & Performances
ATTACH;FMTTYPE=image/jpeg:https://cal.everettcommunity.org/wp-content/uploads/2026/02/poetrynight.jpg
END:VEVENT
BEGIN:VEVENT
DTSTART;TZID=America/Los_Angeles:20261116T170000
DTEND;TZID=America/Los_Angeles:20261116T200000
DTSTAMP:20260421T105426
CREATED:20260223T192439Z
LAST-MODIFIED:20260223T192439Z
UID:10001714-1794848400-1794859200@cal.everettcommunity.org
SUMMARY:Everett Poetry Night
DESCRIPTION:Join local and featured poets every Monday evening for thoughtful and powerful words.
URL:https://cal.everettcommunity.org/event/everett-poetry-night/2026-11-16/
LOCATION:The Sisters Restaurant\, 2804 Grand Ave\, Everett\, WA\, 98201\, United States
CATEGORIES:Art & Performances
ATTACH;FMTTYPE=image/jpeg:https://cal.everettcommunity.org/wp-content/uploads/2026/02/poetrynight.jpg
END:VEVENT
BEGIN:VEVENT
DTSTART;TZID=America/Los_Angeles:20261119T170000
DTEND;TZID=America/Los_Angeles:20261119T190000
DTSTAMP:20260421T105426
CREATED:20260113T040850Z
LAST-MODIFIED:20260223T074741Z
UID:10001621-1795107600-1795114800@cal.everettcommunity.org
SUMMARY:Schack Art Center Teen Night
DESCRIPTION:Teens 13+ have an opportunity to create unique artwork inspired by a monthly theme. Free snacks and supplies provided. Parent/guardian must register at the website link.
URL:https://cal.everettcommunity.org/event/schack-art-center-teen-night/2026-11-19/
LOCATION:Schack Art Center\, 2921 Hoyt Ave\, Everett\, WA\, 98201\, United States
CATEGORIES:Art & Performances
ATTACH;FMTTYPE=image/jpeg:https://cal.everettcommunity.org/wp-content/uploads/2026/01/teen-night.jpg
END:VEVENT
BEGIN:VEVENT
DTSTART;TZID=America/Los_Angeles:20261123T170000
DTEND;TZID=America/Los_Angeles:20261123T200000
DTSTAMP:20260421T105426
CREATED:20260223T192439Z
LAST-MODIFIED:20260223T192439Z
UID:10001715-1795453200-1795464000@cal.everettcommunity.org
SUMMARY:Everett Poetry Night
DESCRIPTION:Join local and featured poets every Monday evening for thoughtful and powerful words.
URL:https://cal.everettcommunity.org/event/everett-poetry-night/2026-11-23/
LOCATION:The Sisters Restaurant\, 2804 Grand Ave\, Everett\, WA\, 98201\, United States
CATEGORIES:Art & Performances
ATTACH;FMTTYPE=image/jpeg:https://cal.everettcommunity.org/wp-content/uploads/2026/02/poetrynight.jpg
END:VEVENT
BEGIN:VEVENT
DTSTART;TZID=America/Los_Angeles:20261127T180000
DTEND;TZID=America/Los_Angeles:20261127T200000
DTSTAMP:20260421T105426
CREATED:20260127T005257Z
LAST-MODIFIED:20260127T005257Z
UID:10001368-1795802400-1795809600@cal.everettcommunity.org
SUMMARY:Open Mic Night at Recovery Cafe
DESCRIPTION:Come join our open mic night for fun\, karaoke\, and fellowship on the last Friday of the month at 6pm!
URL:https://cal.everettcommunity.org/event/open-mic-night-at-recovery-cafe/2026-11-27/
LOCATION:Everett Recovery Cafe\, 1212 California St\, Everett\, WA\, 98201\, United States
CATEGORIES:Art & Performances
ATTACH;FMTTYPE=image/jpeg:https://cal.everettcommunity.org/wp-content/uploads/2026/01/mic.jpg
END:VEVENT
BEGIN:VEVENT
DTSTART;TZID=America/Los_Angeles:20261130T170000
DTEND;TZID=America/Los_Angeles:20261130T200000
DTSTAMP:20260421T105426
CREATED:20260223T192439Z
LAST-MODIFIED:20260223T192439Z
UID:10001716-1796058000-1796068800@cal.everettcommunity.org
SUMMARY:Everett Poetry Night
DESCRIPTION:Join local and featured poets every Monday evening for thoughtful and powerful words.
URL:https://cal.everettcommunity.org/event/everett-poetry-night/2026-11-30/
LOCATION:The Sisters Restaurant\, 2804 Grand Ave\, Everett\, WA\, 98201\, United States
CATEGORIES:Art & Performances
ATTACH;FMTTYPE=image/jpeg:https://cal.everettcommunity.org/wp-content/uploads/2026/02/poetrynight.jpg
END:VEVENT
END:VCALENDAR