BEGIN:VCALENDAR
VERSION:2.0
PRODID:-//Everett Community - ECPv6.15.20//NONSGML v1.0//EN
CALSCALE:GREGORIAN
METHOD:PUBLISH
X-ORIGINAL-URL:https://cal.everettcommunity.org
X-WR-CALDESC:Events for Everett Community
REFRESH-INTERVAL;VALUE=DURATION:PT1H
X-Robots-Tag:noindex
X-PUBLISHED-TTL:PT1H
BEGIN:VTIMEZONE
TZID:America/Los_Angeles
BEGIN:DAYLIGHT
TZOFFSETFROM:-0800
TZOFFSETTO:-0700
TZNAME:PDT
DTSTART:20250309T100000
END:DAYLIGHT
BEGIN:STANDARD
TZOFFSETFROM:-0700
TZOFFSETTO:-0800
TZNAME:PST
DTSTART:20251102T090000
END:STANDARD
BEGIN:DAYLIGHT
TZOFFSETFROM:-0800
TZOFFSETTO:-0700
TZNAME:PDT
DTSTART:20260308T100000
END:DAYLIGHT
BEGIN:STANDARD
TZOFFSETFROM:-0700
TZOFFSETTO:-0800
TZNAME:PST
DTSTART:20261101T090000
END:STANDARD
BEGIN:DAYLIGHT
TZOFFSETFROM:-0800
TZOFFSETTO:-0700
TZNAME:PDT
DTSTART:20270314T100000
END:DAYLIGHT
BEGIN:STANDARD
TZOFFSETFROM:-0700
TZOFFSETTO:-0800
TZNAME:PST
DTSTART:20271107T090000
END:STANDARD
END:VTIMEZONE
BEGIN:VEVENT
DTSTART;TZID=America/Los_Angeles:20260501T160000
DTEND;TZID=America/Los_Angeles:20260501T210000
DTSTAMP:20260421T014210
CREATED:20260417T033933Z
LAST-MODIFIED:20260417T033933Z
UID:10002255-1777651200-1777669200@cal.everettcommunity.org
SUMMARY:Creative Night at Schack
DESCRIPTION:Creative Night at Schack is your new go-to Friday plan. Join us as we celebrate First Friday with Late Shift Everett and the Downtown Everett Spring Sip & Shop. Enjoy live music\, glassblowing\, artist demos\, free art-making\, and gallery shopping\, plus a no-host bar and snacks. This event is free to attend and open to all ages. Sip & Shop tickets are available separately.
URL:https://cal.everettcommunity.org/event/creative-night-at-schack/
LOCATION:Schack Art Center\, 2921 Hoyt Ave\, Everett\, WA\, 98201\, United States
CATEGORIES:Art & Performances
ATTACH;FMTTYPE=image/jpeg:https://cal.everettcommunity.org/wp-content/uploads/2026/04/schack-night.jpg
END:VEVENT
BEGIN:VEVENT
DTSTART;TZID=America/Los_Angeles:20260502T100000
DTEND;TZID=America/Los_Angeles:20260502T160000
DTSTAMP:20260421T014210
CREATED:20260417T032357Z
LAST-MODIFIED:20260417T032357Z
UID:10002253-1777716000-1777737600@cal.everettcommunity.org
SUMMARY:Spring Art Festival
DESCRIPTION:Welcome spring with a day full of creativity\, flavor\, and fun! Join us for our Spring Art Festival & Craft Galore\, featuring talented local artisans\, unique handmade goods\, and delicious food booths to explore. \nBrowse beautiful art\, discover one-of-a-kind crafts\, enjoy tasty treats\, and soak up a vibrant springtime atmosphere. There’s something for everyone—art lovers\, foodies\, families\, and friends alike!
URL:https://cal.everettcommunity.org/event/spring-art-festival/
LOCATION:Angel of the Winds Arena\, 2000 Hewitt Ave\, Everett\, WA\, 98201\, United States
CATEGORIES:Art & Performances
ATTACH;FMTTYPE=image/jpeg:https://cal.everettcommunity.org/wp-content/uploads/2026/04/springart.jpg
END:VEVENT
BEGIN:VEVENT
DTSTART;TZID=America/Los_Angeles:20260502T180000
DTEND;TZID=America/Los_Angeles:20260502T200000
DTSTAMP:20260421T014210
CREATED:20260131T201026Z
LAST-MODIFIED:20260131T201026Z
UID:10001422-1777744800-1777752000@cal.everettcommunity.org
SUMMARY:Stab & Gab at Artisans
DESCRIPTION:Join fellow fiber artists on the first Saturday of every month to work on your projects.
URL:https://cal.everettcommunity.org/event/stab-gab-at-artisans/2026-05-02/
LOCATION:Artisans Books & Coffee\, 1802 Hewitt Ave\, Everett\, WA\, 98201\, United States
CATEGORIES:Art & Performances
ATTACH;FMTTYPE=image/jpeg:https://cal.everettcommunity.org/wp-content/uploads/2026/01/gab.jpg
END:VEVENT
BEGIN:VEVENT
DTSTART;TZID=America/Los_Angeles:20260504T170000
DTEND;TZID=America/Los_Angeles:20260504T200000
DTSTAMP:20260421T014210
CREATED:20260223T192439Z
LAST-MODIFIED:20260223T192439Z
UID:10001686-1777914000-1777924800@cal.everettcommunity.org
SUMMARY:Everett Poetry Night
DESCRIPTION:Join local and featured poets every Monday evening for thoughtful and powerful words.
URL:https://cal.everettcommunity.org/event/everett-poetry-night/2026-05-04/
LOCATION:The Sisters Restaurant\, 2804 Grand Ave\, Everett\, WA\, 98201\, United States
CATEGORIES:Art & Performances
ATTACH;FMTTYPE=image/jpeg:https://cal.everettcommunity.org/wp-content/uploads/2026/02/poetrynight.jpg
END:VEVENT
BEGIN:VEVENT
DTSTART;TZID=America/Los_Angeles:20260507T183000
DTEND;TZID=America/Los_Angeles:20260507T200000
DTSTAMP:20260421T014210
CREATED:20260131T201304Z
LAST-MODIFIED:20260131T201304Z
UID:10001482-1778178600-1778184000@cal.everettcommunity.org
SUMMARY:Silent Book Club at Artisans
DESCRIPTION:Grab a drink/snack and settle in for silent reading during a quiet hour at Artisans\, every first Thursday.
URL:https://cal.everettcommunity.org/event/silent-book-club-at-artisans/2026-05-07/
LOCATION:Artisans Books & Coffee\, 1802 Hewitt Ave\, Everett\, WA\, 98201\, United States
CATEGORIES:Art & Performances
ATTACH;FMTTYPE=image/jpeg:https://cal.everettcommunity.org/wp-content/uploads/2026/01/silent.jpg
END:VEVENT
BEGIN:VEVENT
DTSTART;TZID=America/Los_Angeles:20260511T170000
DTEND;TZID=America/Los_Angeles:20260511T200000
DTSTAMP:20260421T014210
CREATED:20260223T192439Z
LAST-MODIFIED:20260223T192439Z
UID:10001687-1778518800-1778529600@cal.everettcommunity.org
SUMMARY:Everett Poetry Night
DESCRIPTION:Join local and featured poets every Monday evening for thoughtful and powerful words.
URL:https://cal.everettcommunity.org/event/everett-poetry-night/2026-05-11/
LOCATION:The Sisters Restaurant\, 2804 Grand Ave\, Everett\, WA\, 98201\, United States
CATEGORIES:Art & Performances
ATTACH;FMTTYPE=image/jpeg:https://cal.everettcommunity.org/wp-content/uploads/2026/02/poetrynight.jpg
END:VEVENT
BEGIN:VEVENT
DTSTART;TZID=America/Los_Angeles:20260516T190000
DTEND;TZID=America/Los_Angeles:20260516T233000
DTSTAMP:20260421T014210
CREATED:20260417T033339Z
LAST-MODIFIED:20260417T033339Z
UID:10002254-1778958000-1778974200@cal.everettcommunity.org
SUMMARY:DRAG BINGO! w/ Sara Femme & Athena
DESCRIPTION:Lucky Dime’s wildly entertaining Drag Bingo returns with eight rounds of bingo\, outrageous commentary\, and prizes donated by local businesses. \nHosted by the fabulous Sara Femme and co-host Athena\, bringing camp\, comedy\, and high-energy hosting to a night of bingo like you’ve never experienced. \nAll drag events are 18+
URL:https://cal.everettcommunity.org/event/drag-bingo-w-sara-femme-athena/
LOCATION:Lucky Dime\, 1618 Hewitt Ave\, Everett\, WA\, 98201\, United States
CATEGORIES:Art & Performances
ATTACH;FMTTYPE=image/jpeg:https://cal.everettcommunity.org/wp-content/uploads/2026/04/drag-athena.jpg
END:VEVENT
BEGIN:VEVENT
DTSTART;TZID=America/Los_Angeles:20260518T170000
DTEND;TZID=America/Los_Angeles:20260518T200000
DTSTAMP:20260421T014210
CREATED:20260223T192439Z
LAST-MODIFIED:20260223T192439Z
UID:10001688-1779123600-1779134400@cal.everettcommunity.org
SUMMARY:Everett Poetry Night
DESCRIPTION:Join local and featured poets every Monday evening for thoughtful and powerful words.
URL:https://cal.everettcommunity.org/event/everett-poetry-night/2026-05-18/
LOCATION:The Sisters Restaurant\, 2804 Grand Ave\, Everett\, WA\, 98201\, United States
CATEGORIES:Art & Performances
ATTACH;FMTTYPE=image/jpeg:https://cal.everettcommunity.org/wp-content/uploads/2026/02/poetrynight.jpg
END:VEVENT
BEGIN:VEVENT
DTSTART;TZID=America/Los_Angeles:20260521T170000
DTEND;TZID=America/Los_Angeles:20260521T190000
DTSTAMP:20260421T014210
CREATED:20260113T040850Z
LAST-MODIFIED:20260223T074741Z
UID:10001615-1779382800-1779390000@cal.everettcommunity.org
SUMMARY:Schack Art Center Teen Night
DESCRIPTION:Teens 13+ have an opportunity to create unique artwork inspired by a monthly theme. Free snacks and supplies provided. Parent/guardian must register at the website link.
URL:https://cal.everettcommunity.org/event/schack-art-center-teen-night/2026-05-21/
LOCATION:Schack Art Center\, 2921 Hoyt Ave\, Everett\, WA\, 98201\, United States
CATEGORIES:Art & Performances
ATTACH;FMTTYPE=image/jpeg:https://cal.everettcommunity.org/wp-content/uploads/2026/01/teen-night.jpg
END:VEVENT
BEGIN:VEVENT
DTSTART;TZID=America/Los_Angeles:20260525T170000
DTEND;TZID=America/Los_Angeles:20260525T200000
DTSTAMP:20260421T014210
CREATED:20260223T192439Z
LAST-MODIFIED:20260223T192439Z
UID:10001689-1779728400-1779739200@cal.everettcommunity.org
SUMMARY:Everett Poetry Night
DESCRIPTION:Join local and featured poets every Monday evening for thoughtful and powerful words.
URL:https://cal.everettcommunity.org/event/everett-poetry-night/2026-05-25/
LOCATION:The Sisters Restaurant\, 2804 Grand Ave\, Everett\, WA\, 98201\, United States
CATEGORIES:Art & Performances
ATTACH;FMTTYPE=image/jpeg:https://cal.everettcommunity.org/wp-content/uploads/2026/02/poetrynight.jpg
END:VEVENT
BEGIN:VEVENT
DTSTART;TZID=America/Los_Angeles:20260529T180000
DTEND;TZID=America/Los_Angeles:20260529T200000
DTSTAMP:20260421T014210
CREATED:20260127T005257Z
LAST-MODIFIED:20260127T005257Z
UID:10001362-1780077600-1780084800@cal.everettcommunity.org
SUMMARY:Open Mic Night at Recovery Cafe
DESCRIPTION:Come join our open mic night for fun\, karaoke\, and fellowship on the last Friday of the month at 6pm!
URL:https://cal.everettcommunity.org/event/open-mic-night-at-recovery-cafe/2026-05-29/
LOCATION:Everett Recovery Cafe\, 1212 California St\, Everett\, WA\, 98201\, United States
CATEGORIES:Art & Performances
ATTACH;FMTTYPE=image/jpeg:https://cal.everettcommunity.org/wp-content/uploads/2026/01/mic.jpg
END:VEVENT
BEGIN:VEVENT
DTSTART;TZID=America/Los_Angeles:20260530T090000
DTEND;TZID=America/Los_Angeles:20260530T150000
DTSTAMP:20260421T014210
CREATED:20251223T081334Z
LAST-MODIFIED:20260113T040237Z
UID:10000845-1780131600-1780153200@cal.everettcommunity.org
SUMMARY:Artists' Garage Sale
DESCRIPTION:Find great deals on original artwork and art supplies at Artists’ Garage Sale! This fun\, community-driven event connects artists and art lovers\, offering affordable pieces\, creative materials\, and the chance to support local talent—all in one lively\, accessible place.
URL:https://cal.everettcommunity.org/event/artists-garage-sale/
LOCATION:Schack Art Center\, 2921 Hoyt Ave\, Everett\, WA\, 98201\, United States
CATEGORIES:Art & Performances
ATTACH;FMTTYPE=image/png:https://cal.everettcommunity.org/wp-content/uploads/2025/12/Schack-Horizontal-Logo.png
END:VEVENT
END:VCALENDAR