BEGIN:VCALENDAR
VERSION:2.0
PRODID:-//Everett Community - ECPv6.15.20//NONSGML v1.0//EN
CALSCALE:GREGORIAN
METHOD:PUBLISH
X-ORIGINAL-URL:https://cal.everettcommunity.org
X-WR-CALDESC:Events for Everett Community
REFRESH-INTERVAL;VALUE=DURATION:PT1H
X-Robots-Tag:noindex
X-PUBLISHED-TTL:PT1H
BEGIN:VTIMEZONE
TZID:America/Los_Angeles
BEGIN:DAYLIGHT
TZOFFSETFROM:-0800
TZOFFSETTO:-0700
TZNAME:PDT
DTSTART:20250309T100000
END:DAYLIGHT
BEGIN:STANDARD
TZOFFSETFROM:-0700
TZOFFSETTO:-0800
TZNAME:PST
DTSTART:20251102T090000
END:STANDARD
BEGIN:DAYLIGHT
TZOFFSETFROM:-0800
TZOFFSETTO:-0700
TZNAME:PDT
DTSTART:20260308T100000
END:DAYLIGHT
BEGIN:STANDARD
TZOFFSETFROM:-0700
TZOFFSETTO:-0800
TZNAME:PST
DTSTART:20261101T090000
END:STANDARD
BEGIN:DAYLIGHT
TZOFFSETFROM:-0800
TZOFFSETTO:-0700
TZNAME:PDT
DTSTART:20270314T100000
END:DAYLIGHT
BEGIN:STANDARD
TZOFFSETFROM:-0700
TZOFFSETTO:-0800
TZNAME:PST
DTSTART:20271107T090000
END:STANDARD
END:VTIMEZONE
BEGIN:VEVENT
DTSTART;TZID=America/Los_Angeles:20260205T183000
DTEND;TZID=America/Los_Angeles:20260205T200000
DTSTAMP:20260421T044527
CREATED:20260131T201304Z
LAST-MODIFIED:20260131T201304Z
UID:10001479-1770316200-1770321600@cal.everettcommunity.org
SUMMARY:Silent Book Club at Artisans
DESCRIPTION:Grab a drink/snack and settle in for silent reading during a quiet hour at Artisans\, every first Thursday.
URL:https://cal.everettcommunity.org/event/silent-book-club-at-artisans/2026-02-05/
LOCATION:Artisans Books & Coffee\, 1802 Hewitt Ave\, Everett\, WA\, 98201\, United States
CATEGORIES:Art & Performances
ATTACH;FMTTYPE=image/jpeg:https://cal.everettcommunity.org/wp-content/uploads/2026/01/silent.jpg
END:VEVENT
BEGIN:VEVENT
DTSTART;TZID=America/Los_Angeles:20260207T180000
DTEND;TZID=America/Los_Angeles:20260207T200000
DTSTAMP:20260421T044527
CREATED:20260131T201026Z
LAST-MODIFIED:20260131T201026Z
UID:10001419-1770487200-1770494400@cal.everettcommunity.org
SUMMARY:Stab & Gab at Artisans
DESCRIPTION:Join fellow fiber artists on the first Saturday of every month to work on your projects.
URL:https://cal.everettcommunity.org/event/stab-gab-at-artisans/2026-02-07/
LOCATION:Artisans Books & Coffee\, 1802 Hewitt Ave\, Everett\, WA\, 98201\, United States
CATEGORIES:Art & Performances
ATTACH;FMTTYPE=image/jpeg:https://cal.everettcommunity.org/wp-content/uploads/2026/01/gab.jpg
END:VEVENT
BEGIN:VEVENT
DTSTART;TZID=America/Los_Angeles:20260221T130000
DTEND;TZID=America/Los_Angeles:20260221T150000
DTSTAMP:20260421T044527
CREATED:20260113T070649Z
LAST-MODIFIED:20260113T070649Z
UID:10001338-1771678800-1771686000@cal.everettcommunity.org
SUMMARY:Lunar New Year Lion Dance
DESCRIPTION:Celebrate the Lunar New Year with a lion dance performance by Northwest Kung Fu and Fitness! The lion dance will bring a burst of energy\, vibrant colors\, and rich tradition to the Port of Everett’s Pacific Rim Plaza.
URL:https://cal.everettcommunity.org/event/lunar-new-year-lion-dance/
LOCATION:Pacific Rim Plaza\, 1398 Seiner Dr\, Everett\, WA\, 98201\, United States
CATEGORIES:Art & Performances
ATTACH;FMTTYPE=image/jpeg:https://cal.everettcommunity.org/wp-content/uploads/2026/01/lion-dance.jpg
END:VEVENT
BEGIN:VEVENT
DTSTART;TZID=America/Los_Angeles:20260223T170000
DTEND;TZID=America/Los_Angeles:20260223T200000
DTSTAMP:20260421T044527
CREATED:20260223T192439Z
LAST-MODIFIED:20260223T192439Z
UID:10001676-1771866000-1771876800@cal.everettcommunity.org
SUMMARY:Everett Poetry Night
DESCRIPTION:Join local and featured poets every Monday evening for thoughtful and powerful words.
URL:https://cal.everettcommunity.org/event/everett-poetry-night/2026-02-23/
LOCATION:The Sisters Restaurant\, 2804 Grand Ave\, Everett\, WA\, 98201\, United States
CATEGORIES:Art & Performances
ATTACH;FMTTYPE=image/jpeg:https://cal.everettcommunity.org/wp-content/uploads/2026/02/poetrynight.jpg
END:VEVENT
BEGIN:VEVENT
DTSTART;TZID=America/Los_Angeles:20260227T180000
DTEND;TZID=America/Los_Angeles:20260227T200000
DTSTAMP:20260421T044527
CREATED:20260127T005257Z
LAST-MODIFIED:20260127T005257Z
UID:10001359-1772215200-1772222400@cal.everettcommunity.org
SUMMARY:Open Mic Night at Recovery Cafe
DESCRIPTION:Come join our open mic night for fun\, karaoke\, and fellowship on the last Friday of the month at 6pm!
URL:https://cal.everettcommunity.org/event/open-mic-night-at-recovery-cafe/2026-02-27/
LOCATION:Everett Recovery Cafe\, 1212 California St\, Everett\, WA\, 98201\, United States
CATEGORIES:Art & Performances
ATTACH;FMTTYPE=image/jpeg:https://cal.everettcommunity.org/wp-content/uploads/2026/01/mic.jpg
END:VEVENT
BEGIN:VEVENT
DTSTART;TZID=America/Los_Angeles:20260228T190000
DTEND;TZID=America/Los_Angeles:20260228T233000
DTSTAMP:20260421T044527
CREATED:20260223T071429Z
LAST-MODIFIED:20260223T071429Z
UID:10001551-1772305200-1772321400@cal.everettcommunity.org
SUMMARY:Living with a Bear / Someone's Daughter / Cat Positive
DESCRIPTION:Living With A Bear – Dynamic indie rock with big builds and intimate moments\, balancing vulnerability and drive with a sense of forward motion. \nSomeone’s Daughter – Moody\, hook-heavy songs rooted in alternative rock\, pulling from post-punk tension and heartfelt lyricism. \nCat Positive – Punchy and angular with a playful bite. Fast riffs\, sharp turns\, and a live energy that keeps things unpredictable. \n21+
URL:https://cal.everettcommunity.org/event/living-with-a-bear-someones-daughter-cat-positive/
LOCATION:Lucky Dime\, 1618 Hewitt Ave\, Everett\, WA\, 98201\, United States
CATEGORIES:Art & Performances
ATTACH;FMTTYPE=image/png:https://cal.everettcommunity.org/wp-content/uploads/2026/02/LD4.png
END:VEVENT
BEGIN:VEVENT
DTSTART;TZID=America/Los_Angeles:20260228T193000
DTEND;TZID=America/Los_Angeles:20260228T213000
DTSTAMP:20260421T044527
CREATED:20260223T075640Z
LAST-MODIFIED:20260223T075640Z
UID:10001673-1772307000-1772314200@cal.everettcommunity.org
SUMMARY:Village Theatre Presents: Ken Ludwig's Baskerville
DESCRIPTION:Enjoy a fast-paced adventure about everyone’s favorite detective solving his most notorious case. The male heirs of the Baskerville line are being dispatched one by one. To find their killer\, Sherlock Holmes and Dr. Watson must crack the mystery of “The Hound of the Baskervilles” before a family curse dooms its newest heir. Watch as our intrepid investigators try to escape a dizzying web of clues\, silly accents\, disguises and deceit as five actors deftly portray more than 40 characters. Does a wild hellhound prowl the moors of Devonshire? Can our heroes discover the truth in time? Join the fun and see how far from elementary the truth can be. \nShowing in Everett from February 28 through March 22\, tickets start at $47.
URL:https://cal.everettcommunity.org/event/village-theatre-presents-ken-ludwigs-baskerville/
LOCATION:Everett Performing Arts Center\, 2710 Wetmore Ave\, Everett\, WA\, 98201\, United States
CATEGORIES:Art & Performances
ATTACH;FMTTYPE=image/jpeg:https://cal.everettcommunity.org/wp-content/uploads/2026/02/Baskerville.jpg
END:VEVENT
END:VCALENDAR