BEGIN:VCALENDAR
VERSION:2.0
PRODID:-//Everett Community - ECPv6.15.20//NONSGML v1.0//EN
CALSCALE:GREGORIAN
METHOD:PUBLISH
X-ORIGINAL-URL:https://cal.everettcommunity.org
X-WR-CALDESC:Events for Everett Community
REFRESH-INTERVAL;VALUE=DURATION:PT1H
X-Robots-Tag:noindex
X-PUBLISHED-TTL:PT1H
BEGIN:VTIMEZONE
TZID:America/Los_Angeles
BEGIN:DAYLIGHT
TZOFFSETFROM:-0800
TZOFFSETTO:-0700
TZNAME:PDT
DTSTART:20260308T100000
END:DAYLIGHT
BEGIN:STANDARD
TZOFFSETFROM:-0700
TZOFFSETTO:-0800
TZNAME:PST
DTSTART:20261101T090000
END:STANDARD
BEGIN:DAYLIGHT
TZOFFSETFROM:-0800
TZOFFSETTO:-0700
TZNAME:PDT
DTSTART:20270314T100000
END:DAYLIGHT
BEGIN:STANDARD
TZOFFSETFROM:-0700
TZOFFSETTO:-0800
TZNAME:PST
DTSTART:20271107T090000
END:STANDARD
BEGIN:DAYLIGHT
TZOFFSETFROM:-0800
TZOFFSETTO:-0700
TZNAME:PDT
DTSTART:20280312T100000
END:DAYLIGHT
BEGIN:STANDARD
TZOFFSETFROM:-0700
TZOFFSETTO:-0800
TZNAME:PST
DTSTART:20281105T090000
END:STANDARD
BEGIN:DAYLIGHT
TZOFFSETFROM:-0800
TZOFFSETTO:-0700
TZNAME:PDT
DTSTART:20290311T100000
END:DAYLIGHT
BEGIN:STANDARD
TZOFFSETFROM:-0700
TZOFFSETTO:-0800
TZNAME:PST
DTSTART:20291104T090000
END:STANDARD
END:VTIMEZONE
BEGIN:VEVENT
DTSTART;TZID=America/Los_Angeles:20271101T180000
DTEND;TZID=America/Los_Angeles:20271101T210000
DTSTAMP:20260421T105425
CREATED:20260106T171309Z
LAST-MODIFIED:20260106T171406Z
UID:10001162-1825092000-1825102800@cal.everettcommunity.org
SUMMARY:Tabletop Game Group
DESCRIPTION:Join a friendly group for board games\, card games\, and party games. All games are provided\, but feel free to bring your own. All comfort levels are welcome. Ages 21+
URL:https://cal.everettcommunity.org/event/tabletop-game-night/2027-11-01/
LOCATION:The Irishmen\, 2923 Colby Ave\, Everett\, 98201\, United States
CATEGORIES:Gaming
ATTACH;FMTTYPE=image/jpeg:https://cal.everettcommunity.org/wp-content/uploads/2026/01/table.jpg
END:VEVENT
BEGIN:VEVENT
DTSTART;TZID=America/Los_Angeles:20271108T180000
DTEND;TZID=America/Los_Angeles:20271108T210000
DTSTAMP:20260421T105425
CREATED:20260106T171309Z
LAST-MODIFIED:20260106T171406Z
UID:10001163-1825696800-1825707600@cal.everettcommunity.org
SUMMARY:Tabletop Game Group
DESCRIPTION:Join a friendly group for board games\, card games\, and party games. All games are provided\, but feel free to bring your own. All comfort levels are welcome. Ages 21+
URL:https://cal.everettcommunity.org/event/tabletop-game-night/2027-11-08/
LOCATION:The Irishmen\, 2923 Colby Ave\, Everett\, 98201\, United States
CATEGORIES:Gaming
ATTACH;FMTTYPE=image/jpeg:https://cal.everettcommunity.org/wp-content/uploads/2026/01/table.jpg
END:VEVENT
BEGIN:VEVENT
DTSTART;TZID=America/Los_Angeles:20271115T180000
DTEND;TZID=America/Los_Angeles:20271115T210000
DTSTAMP:20260421T105425
CREATED:20260106T171309Z
LAST-MODIFIED:20260106T171406Z
UID:10001164-1826301600-1826312400@cal.everettcommunity.org
SUMMARY:Tabletop Game Group
DESCRIPTION:Join a friendly group for board games\, card games\, and party games. All games are provided\, but feel free to bring your own. All comfort levels are welcome. Ages 21+
URL:https://cal.everettcommunity.org/event/tabletop-game-night/2027-11-15/
LOCATION:The Irishmen\, 2923 Colby Ave\, Everett\, 98201\, United States
CATEGORIES:Gaming
ATTACH;FMTTYPE=image/jpeg:https://cal.everettcommunity.org/wp-content/uploads/2026/01/table.jpg
END:VEVENT
BEGIN:VEVENT
DTSTART;TZID=America/Los_Angeles:20271122T180000
DTEND;TZID=America/Los_Angeles:20271122T210000
DTSTAMP:20260421T105425
CREATED:20260106T171309Z
LAST-MODIFIED:20260106T171406Z
UID:10001165-1826906400-1826917200@cal.everettcommunity.org
SUMMARY:Tabletop Game Group
DESCRIPTION:Join a friendly group for board games\, card games\, and party games. All games are provided\, but feel free to bring your own. All comfort levels are welcome. Ages 21+
URL:https://cal.everettcommunity.org/event/tabletop-game-night/2027-11-22/
LOCATION:The Irishmen\, 2923 Colby Ave\, Everett\, 98201\, United States
CATEGORIES:Gaming
ATTACH;FMTTYPE=image/jpeg:https://cal.everettcommunity.org/wp-content/uploads/2026/01/table.jpg
END:VEVENT
BEGIN:VEVENT
DTSTART;TZID=America/Los_Angeles:20271129T180000
DTEND;TZID=America/Los_Angeles:20271129T210000
DTSTAMP:20260421T105425
CREATED:20260106T171309Z
LAST-MODIFIED:20260106T171406Z
UID:10001166-1827511200-1827522000@cal.everettcommunity.org
SUMMARY:Tabletop Game Group
DESCRIPTION:Join a friendly group for board games\, card games\, and party games. All games are provided\, but feel free to bring your own. All comfort levels are welcome. Ages 21+
URL:https://cal.everettcommunity.org/event/tabletop-game-night/2027-11-29/
LOCATION:The Irishmen\, 2923 Colby Ave\, Everett\, 98201\, United States
CATEGORIES:Gaming
ATTACH;FMTTYPE=image/jpeg:https://cal.everettcommunity.org/wp-content/uploads/2026/01/table.jpg
END:VEVENT
BEGIN:VEVENT
DTSTART;TZID=America/Los_Angeles:20271206T180000
DTEND;TZID=America/Los_Angeles:20271206T210000
DTSTAMP:20260421T105425
CREATED:20260106T171309Z
LAST-MODIFIED:20260106T171406Z
UID:10001167-1828116000-1828126800@cal.everettcommunity.org
SUMMARY:Tabletop Game Group
DESCRIPTION:Join a friendly group for board games\, card games\, and party games. All games are provided\, but feel free to bring your own. All comfort levels are welcome. Ages 21+
URL:https://cal.everettcommunity.org/event/tabletop-game-night/2027-12-06/
LOCATION:The Irishmen\, 2923 Colby Ave\, Everett\, 98201\, United States
CATEGORIES:Gaming
ATTACH;FMTTYPE=image/jpeg:https://cal.everettcommunity.org/wp-content/uploads/2026/01/table.jpg
END:VEVENT
BEGIN:VEVENT
DTSTART;TZID=America/Los_Angeles:20271213T180000
DTEND;TZID=America/Los_Angeles:20271213T210000
DTSTAMP:20260421T105425
CREATED:20260106T171309Z
LAST-MODIFIED:20260106T171406Z
UID:10001168-1828720800-1828731600@cal.everettcommunity.org
SUMMARY:Tabletop Game Group
DESCRIPTION:Join a friendly group for board games\, card games\, and party games. All games are provided\, but feel free to bring your own. All comfort levels are welcome. Ages 21+
URL:https://cal.everettcommunity.org/event/tabletop-game-night/2027-12-13/
LOCATION:The Irishmen\, 2923 Colby Ave\, Everett\, 98201\, United States
CATEGORIES:Gaming
ATTACH;FMTTYPE=image/jpeg:https://cal.everettcommunity.org/wp-content/uploads/2026/01/table.jpg
END:VEVENT
BEGIN:VEVENT
DTSTART;TZID=America/Los_Angeles:20271220T180000
DTEND;TZID=America/Los_Angeles:20271220T210000
DTSTAMP:20260421T105425
CREATED:20260106T171309Z
LAST-MODIFIED:20260106T171406Z
UID:10001169-1829325600-1829336400@cal.everettcommunity.org
SUMMARY:Tabletop Game Group
DESCRIPTION:Join a friendly group for board games\, card games\, and party games. All games are provided\, but feel free to bring your own. All comfort levels are welcome. Ages 21+
URL:https://cal.everettcommunity.org/event/tabletop-game-night/2027-12-20/
LOCATION:The Irishmen\, 2923 Colby Ave\, Everett\, 98201\, United States
CATEGORIES:Gaming
ATTACH;FMTTYPE=image/jpeg:https://cal.everettcommunity.org/wp-content/uploads/2026/01/table.jpg
END:VEVENT
BEGIN:VEVENT
DTSTART;TZID=America/Los_Angeles:20271227T180000
DTEND;TZID=America/Los_Angeles:20271227T210000
DTSTAMP:20260421T105425
CREATED:20260106T171309Z
LAST-MODIFIED:20260106T171406Z
UID:10001170-1829930400-1829941200@cal.everettcommunity.org
SUMMARY:Tabletop Game Group
DESCRIPTION:Join a friendly group for board games\, card games\, and party games. All games are provided\, but feel free to bring your own. All comfort levels are welcome. Ages 21+
URL:https://cal.everettcommunity.org/event/tabletop-game-night/2027-12-27/
LOCATION:The Irishmen\, 2923 Colby Ave\, Everett\, 98201\, United States
CATEGORIES:Gaming
ATTACH;FMTTYPE=image/jpeg:https://cal.everettcommunity.org/wp-content/uploads/2026/01/table.jpg
END:VEVENT
BEGIN:VEVENT
DTSTART;TZID=America/Los_Angeles:20280103T180000
DTEND;TZID=America/Los_Angeles:20280103T210000
DTSTAMP:20260421T105425
CREATED:20260106T171309Z
LAST-MODIFIED:20260106T171406Z
UID:10001171-1830535200-1830546000@cal.everettcommunity.org
SUMMARY:Tabletop Game Group
DESCRIPTION:Join a friendly group for board games\, card games\, and party games. All games are provided\, but feel free to bring your own. All comfort levels are welcome. Ages 21+
URL:https://cal.everettcommunity.org/event/tabletop-game-night/2028-01-03/
LOCATION:The Irishmen\, 2923 Colby Ave\, Everett\, 98201\, United States
CATEGORIES:Gaming
ATTACH;FMTTYPE=image/jpeg:https://cal.everettcommunity.org/wp-content/uploads/2026/01/table.jpg
END:VEVENT
BEGIN:VEVENT
DTSTART;TZID=America/Los_Angeles:20280110T180000
DTEND;TZID=America/Los_Angeles:20280110T210000
DTSTAMP:20260421T105425
CREATED:20260106T171309Z
LAST-MODIFIED:20260106T171406Z
UID:10001172-1831140000-1831150800@cal.everettcommunity.org
SUMMARY:Tabletop Game Group
DESCRIPTION:Join a friendly group for board games\, card games\, and party games. All games are provided\, but feel free to bring your own. All comfort levels are welcome. Ages 21+
URL:https://cal.everettcommunity.org/event/tabletop-game-night/2028-01-10/
LOCATION:The Irishmen\, 2923 Colby Ave\, Everett\, 98201\, United States
CATEGORIES:Gaming
ATTACH;FMTTYPE=image/jpeg:https://cal.everettcommunity.org/wp-content/uploads/2026/01/table.jpg
END:VEVENT
BEGIN:VEVENT
DTSTART;TZID=America/Los_Angeles:20280117T180000
DTEND;TZID=America/Los_Angeles:20280117T210000
DTSTAMP:20260421T105425
CREATED:20260106T171309Z
LAST-MODIFIED:20260106T171406Z
UID:10001173-1831744800-1831755600@cal.everettcommunity.org
SUMMARY:Tabletop Game Group
DESCRIPTION:Join a friendly group for board games\, card games\, and party games. All games are provided\, but feel free to bring your own. All comfort levels are welcome. Ages 21+
URL:https://cal.everettcommunity.org/event/tabletop-game-night/2028-01-17/
LOCATION:The Irishmen\, 2923 Colby Ave\, Everett\, 98201\, United States
CATEGORIES:Gaming
ATTACH;FMTTYPE=image/jpeg:https://cal.everettcommunity.org/wp-content/uploads/2026/01/table.jpg
END:VEVENT
BEGIN:VEVENT
DTSTART;TZID=America/Los_Angeles:20280124T180000
DTEND;TZID=America/Los_Angeles:20280124T210000
DTSTAMP:20260421T105425
CREATED:20260106T171309Z
LAST-MODIFIED:20260106T171406Z
UID:10001174-1832349600-1832360400@cal.everettcommunity.org
SUMMARY:Tabletop Game Group
DESCRIPTION:Join a friendly group for board games\, card games\, and party games. All games are provided\, but feel free to bring your own. All comfort levels are welcome. Ages 21+
URL:https://cal.everettcommunity.org/event/tabletop-game-night/2028-01-24/
LOCATION:The Irishmen\, 2923 Colby Ave\, Everett\, 98201\, United States
CATEGORIES:Gaming
ATTACH;FMTTYPE=image/jpeg:https://cal.everettcommunity.org/wp-content/uploads/2026/01/table.jpg
END:VEVENT
BEGIN:VEVENT
DTSTART;TZID=America/Los_Angeles:20280131T180000
DTEND;TZID=America/Los_Angeles:20280131T210000
DTSTAMP:20260421T105425
CREATED:20260106T171309Z
LAST-MODIFIED:20260106T171406Z
UID:10001175-1832954400-1832965200@cal.everettcommunity.org
SUMMARY:Tabletop Game Group
DESCRIPTION:Join a friendly group for board games\, card games\, and party games. All games are provided\, but feel free to bring your own. All comfort levels are welcome. Ages 21+
URL:https://cal.everettcommunity.org/event/tabletop-game-night/2028-01-31/
LOCATION:The Irishmen\, 2923 Colby Ave\, Everett\, 98201\, United States
CATEGORIES:Gaming
ATTACH;FMTTYPE=image/jpeg:https://cal.everettcommunity.org/wp-content/uploads/2026/01/table.jpg
END:VEVENT
BEGIN:VEVENT
DTSTART;TZID=America/Los_Angeles:20280207T180000
DTEND;TZID=America/Los_Angeles:20280207T210000
DTSTAMP:20260421T105425
CREATED:20260106T171309Z
LAST-MODIFIED:20260106T171406Z
UID:10001176-1833559200-1833570000@cal.everettcommunity.org
SUMMARY:Tabletop Game Group
DESCRIPTION:Join a friendly group for board games\, card games\, and party games. All games are provided\, but feel free to bring your own. All comfort levels are welcome. Ages 21+
URL:https://cal.everettcommunity.org/event/tabletop-game-night/2028-02-07/
LOCATION:The Irishmen\, 2923 Colby Ave\, Everett\, 98201\, United States
CATEGORIES:Gaming
ATTACH;FMTTYPE=image/jpeg:https://cal.everettcommunity.org/wp-content/uploads/2026/01/table.jpg
END:VEVENT
BEGIN:VEVENT
DTSTART;TZID=America/Los_Angeles:20280214T180000
DTEND;TZID=America/Los_Angeles:20280214T210000
DTSTAMP:20260421T105425
CREATED:20260106T171309Z
LAST-MODIFIED:20260106T171406Z
UID:10001177-1834164000-1834174800@cal.everettcommunity.org
SUMMARY:Tabletop Game Group
DESCRIPTION:Join a friendly group for board games\, card games\, and party games. All games are provided\, but feel free to bring your own. All comfort levels are welcome. Ages 21+
URL:https://cal.everettcommunity.org/event/tabletop-game-night/2028-02-14/
LOCATION:The Irishmen\, 2923 Colby Ave\, Everett\, 98201\, United States
CATEGORIES:Gaming
ATTACH;FMTTYPE=image/jpeg:https://cal.everettcommunity.org/wp-content/uploads/2026/01/table.jpg
END:VEVENT
BEGIN:VEVENT
DTSTART;TZID=America/Los_Angeles:20280221T180000
DTEND;TZID=America/Los_Angeles:20280221T210000
DTSTAMP:20260421T105425
CREATED:20260106T171309Z
LAST-MODIFIED:20260106T171406Z
UID:10001178-1834768800-1834779600@cal.everettcommunity.org
SUMMARY:Tabletop Game Group
DESCRIPTION:Join a friendly group for board games\, card games\, and party games. All games are provided\, but feel free to bring your own. All comfort levels are welcome. Ages 21+
URL:https://cal.everettcommunity.org/event/tabletop-game-night/2028-02-21/
LOCATION:The Irishmen\, 2923 Colby Ave\, Everett\, 98201\, United States
CATEGORIES:Gaming
ATTACH;FMTTYPE=image/jpeg:https://cal.everettcommunity.org/wp-content/uploads/2026/01/table.jpg
END:VEVENT
BEGIN:VEVENT
DTSTART;TZID=America/Los_Angeles:20280228T180000
DTEND;TZID=America/Los_Angeles:20280228T210000
DTSTAMP:20260421T105425
CREATED:20260106T171309Z
LAST-MODIFIED:20260106T171406Z
UID:10001179-1835373600-1835384400@cal.everettcommunity.org
SUMMARY:Tabletop Game Group
DESCRIPTION:Join a friendly group for board games\, card games\, and party games. All games are provided\, but feel free to bring your own. All comfort levels are welcome. Ages 21+
URL:https://cal.everettcommunity.org/event/tabletop-game-night/2028-02-28/
LOCATION:The Irishmen\, 2923 Colby Ave\, Everett\, 98201\, United States
CATEGORIES:Gaming
ATTACH;FMTTYPE=image/jpeg:https://cal.everettcommunity.org/wp-content/uploads/2026/01/table.jpg
END:VEVENT
BEGIN:VEVENT
DTSTART;TZID=America/Los_Angeles:20280306T180000
DTEND;TZID=America/Los_Angeles:20280306T210000
DTSTAMP:20260421T105425
CREATED:20260106T171309Z
LAST-MODIFIED:20260106T171406Z
UID:10001180-1835978400-1835989200@cal.everettcommunity.org
SUMMARY:Tabletop Game Group
DESCRIPTION:Join a friendly group for board games\, card games\, and party games. All games are provided\, but feel free to bring your own. All comfort levels are welcome. Ages 21+
URL:https://cal.everettcommunity.org/event/tabletop-game-night/2028-03-06/
LOCATION:The Irishmen\, 2923 Colby Ave\, Everett\, 98201\, United States
CATEGORIES:Gaming
ATTACH;FMTTYPE=image/jpeg:https://cal.everettcommunity.org/wp-content/uploads/2026/01/table.jpg
END:VEVENT
BEGIN:VEVENT
DTSTART;TZID=America/Los_Angeles:20280313T180000
DTEND;TZID=America/Los_Angeles:20280313T210000
DTSTAMP:20260421T105425
CREATED:20260106T171309Z
LAST-MODIFIED:20260106T171406Z
UID:10001181-1836583200-1836594000@cal.everettcommunity.org
SUMMARY:Tabletop Game Group
DESCRIPTION:Join a friendly group for board games\, card games\, and party games. All games are provided\, but feel free to bring your own. All comfort levels are welcome. Ages 21+
URL:https://cal.everettcommunity.org/event/tabletop-game-night/2028-03-13/
LOCATION:The Irishmen\, 2923 Colby Ave\, Everett\, 98201\, United States
CATEGORIES:Gaming
ATTACH;FMTTYPE=image/jpeg:https://cal.everettcommunity.org/wp-content/uploads/2026/01/table.jpg
END:VEVENT
BEGIN:VEVENT
DTSTART;TZID=America/Los_Angeles:20280320T180000
DTEND;TZID=America/Los_Angeles:20280320T210000
DTSTAMP:20260421T105425
CREATED:20260106T171309Z
LAST-MODIFIED:20260106T171406Z
UID:10001182-1837188000-1837198800@cal.everettcommunity.org
SUMMARY:Tabletop Game Group
DESCRIPTION:Join a friendly group for board games\, card games\, and party games. All games are provided\, but feel free to bring your own. All comfort levels are welcome. Ages 21+
URL:https://cal.everettcommunity.org/event/tabletop-game-night/2028-03-20/
LOCATION:The Irishmen\, 2923 Colby Ave\, Everett\, 98201\, United States
CATEGORIES:Gaming
ATTACH;FMTTYPE=image/jpeg:https://cal.everettcommunity.org/wp-content/uploads/2026/01/table.jpg
END:VEVENT
BEGIN:VEVENT
DTSTART;TZID=America/Los_Angeles:20280327T180000
DTEND;TZID=America/Los_Angeles:20280327T210000
DTSTAMP:20260421T105425
CREATED:20260106T171309Z
LAST-MODIFIED:20260106T171406Z
UID:10001183-1837792800-1837803600@cal.everettcommunity.org
SUMMARY:Tabletop Game Group
DESCRIPTION:Join a friendly group for board games\, card games\, and party games. All games are provided\, but feel free to bring your own. All comfort levels are welcome. Ages 21+
URL:https://cal.everettcommunity.org/event/tabletop-game-night/2028-03-27/
LOCATION:The Irishmen\, 2923 Colby Ave\, Everett\, 98201\, United States
CATEGORIES:Gaming
ATTACH;FMTTYPE=image/jpeg:https://cal.everettcommunity.org/wp-content/uploads/2026/01/table.jpg
END:VEVENT
BEGIN:VEVENT
DTSTART;TZID=America/Los_Angeles:20280403T180000
DTEND;TZID=America/Los_Angeles:20280403T210000
DTSTAMP:20260421T105425
CREATED:20260106T171309Z
LAST-MODIFIED:20260106T171406Z
UID:10001184-1838397600-1838408400@cal.everettcommunity.org
SUMMARY:Tabletop Game Group
DESCRIPTION:Join a friendly group for board games\, card games\, and party games. All games are provided\, but feel free to bring your own. All comfort levels are welcome. Ages 21+
URL:https://cal.everettcommunity.org/event/tabletop-game-night/2028-04-03/
LOCATION:The Irishmen\, 2923 Colby Ave\, Everett\, 98201\, United States
CATEGORIES:Gaming
ATTACH;FMTTYPE=image/jpeg:https://cal.everettcommunity.org/wp-content/uploads/2026/01/table.jpg
END:VEVENT
BEGIN:VEVENT
DTSTART;TZID=America/Los_Angeles:20280410T180000
DTEND;TZID=America/Los_Angeles:20280410T210000
DTSTAMP:20260421T105425
CREATED:20260106T171309Z
LAST-MODIFIED:20260106T171406Z
UID:10001185-1839002400-1839013200@cal.everettcommunity.org
SUMMARY:Tabletop Game Group
DESCRIPTION:Join a friendly group for board games\, card games\, and party games. All games are provided\, but feel free to bring your own. All comfort levels are welcome. Ages 21+
URL:https://cal.everettcommunity.org/event/tabletop-game-night/2028-04-10/
LOCATION:The Irishmen\, 2923 Colby Ave\, Everett\, 98201\, United States
CATEGORIES:Gaming
ATTACH;FMTTYPE=image/jpeg:https://cal.everettcommunity.org/wp-content/uploads/2026/01/table.jpg
END:VEVENT
BEGIN:VEVENT
DTSTART;TZID=America/Los_Angeles:20280417T180000
DTEND;TZID=America/Los_Angeles:20280417T210000
DTSTAMP:20260421T105425
CREATED:20260106T171309Z
LAST-MODIFIED:20260106T171406Z
UID:10001186-1839607200-1839618000@cal.everettcommunity.org
SUMMARY:Tabletop Game Group
DESCRIPTION:Join a friendly group for board games\, card games\, and party games. All games are provided\, but feel free to bring your own. All comfort levels are welcome. Ages 21+
URL:https://cal.everettcommunity.org/event/tabletop-game-night/2028-04-17/
LOCATION:The Irishmen\, 2923 Colby Ave\, Everett\, 98201\, United States
CATEGORIES:Gaming
ATTACH;FMTTYPE=image/jpeg:https://cal.everettcommunity.org/wp-content/uploads/2026/01/table.jpg
END:VEVENT
BEGIN:VEVENT
DTSTART;TZID=America/Los_Angeles:20280424T180000
DTEND;TZID=America/Los_Angeles:20280424T210000
DTSTAMP:20260421T105425
CREATED:20260106T171309Z
LAST-MODIFIED:20260106T171406Z
UID:10001187-1840212000-1840222800@cal.everettcommunity.org
SUMMARY:Tabletop Game Group
DESCRIPTION:Join a friendly group for board games\, card games\, and party games. All games are provided\, but feel free to bring your own. All comfort levels are welcome. Ages 21+
URL:https://cal.everettcommunity.org/event/tabletop-game-night/2028-04-24/
LOCATION:The Irishmen\, 2923 Colby Ave\, Everett\, 98201\, United States
CATEGORIES:Gaming
ATTACH;FMTTYPE=image/jpeg:https://cal.everettcommunity.org/wp-content/uploads/2026/01/table.jpg
END:VEVENT
BEGIN:VEVENT
DTSTART;TZID=America/Los_Angeles:20280501T180000
DTEND;TZID=America/Los_Angeles:20280501T210000
DTSTAMP:20260421T105425
CREATED:20260106T171309Z
LAST-MODIFIED:20260106T171406Z
UID:10001188-1840816800-1840827600@cal.everettcommunity.org
SUMMARY:Tabletop Game Group
DESCRIPTION:Join a friendly group for board games\, card games\, and party games. All games are provided\, but feel free to bring your own. All comfort levels are welcome. Ages 21+
URL:https://cal.everettcommunity.org/event/tabletop-game-night/2028-05-01/
LOCATION:The Irishmen\, 2923 Colby Ave\, Everett\, 98201\, United States
CATEGORIES:Gaming
ATTACH;FMTTYPE=image/jpeg:https://cal.everettcommunity.org/wp-content/uploads/2026/01/table.jpg
END:VEVENT
BEGIN:VEVENT
DTSTART;TZID=America/Los_Angeles:20280508T180000
DTEND;TZID=America/Los_Angeles:20280508T210000
DTSTAMP:20260421T105425
CREATED:20260106T171309Z
LAST-MODIFIED:20260106T171406Z
UID:10001189-1841421600-1841432400@cal.everettcommunity.org
SUMMARY:Tabletop Game Group
DESCRIPTION:Join a friendly group for board games\, card games\, and party games. All games are provided\, but feel free to bring your own. All comfort levels are welcome. Ages 21+
URL:https://cal.everettcommunity.org/event/tabletop-game-night/2028-05-08/
LOCATION:The Irishmen\, 2923 Colby Ave\, Everett\, 98201\, United States
CATEGORIES:Gaming
ATTACH;FMTTYPE=image/jpeg:https://cal.everettcommunity.org/wp-content/uploads/2026/01/table.jpg
END:VEVENT
BEGIN:VEVENT
DTSTART;TZID=America/Los_Angeles:20280515T180000
DTEND;TZID=America/Los_Angeles:20280515T210000
DTSTAMP:20260421T105425
CREATED:20260106T171309Z
LAST-MODIFIED:20260106T171406Z
UID:10001190-1842026400-1842037200@cal.everettcommunity.org
SUMMARY:Tabletop Game Group
DESCRIPTION:Join a friendly group for board games\, card games\, and party games. All games are provided\, but feel free to bring your own. All comfort levels are welcome. Ages 21+
URL:https://cal.everettcommunity.org/event/tabletop-game-night/2028-05-15/
LOCATION:The Irishmen\, 2923 Colby Ave\, Everett\, 98201\, United States
CATEGORIES:Gaming
ATTACH;FMTTYPE=image/jpeg:https://cal.everettcommunity.org/wp-content/uploads/2026/01/table.jpg
END:VEVENT
BEGIN:VEVENT
DTSTART;TZID=America/Los_Angeles:20280522T180000
DTEND;TZID=America/Los_Angeles:20280522T210000
DTSTAMP:20260421T105425
CREATED:20260106T171309Z
LAST-MODIFIED:20260106T171406Z
UID:10001191-1842631200-1842642000@cal.everettcommunity.org
SUMMARY:Tabletop Game Group
DESCRIPTION:Join a friendly group for board games\, card games\, and party games. All games are provided\, but feel free to bring your own. All comfort levels are welcome. Ages 21+
URL:https://cal.everettcommunity.org/event/tabletop-game-night/2028-05-22/
LOCATION:The Irishmen\, 2923 Colby Ave\, Everett\, 98201\, United States
CATEGORIES:Gaming
ATTACH;FMTTYPE=image/jpeg:https://cal.everettcommunity.org/wp-content/uploads/2026/01/table.jpg
END:VEVENT
END:VCALENDAR