BEGIN:VCALENDAR
VERSION:2.0
PRODID:-//Everett Community - ECPv6.15.20//NONSGML v1.0//EN
CALSCALE:GREGORIAN
METHOD:PUBLISH
X-WR-CALNAME:Everett Community
X-ORIGINAL-URL:https://cal.everettcommunity.org
X-WR-CALDESC:Events for Everett Community
REFRESH-INTERVAL;VALUE=DURATION:PT1H
X-Robots-Tag:noindex
X-PUBLISHED-TTL:PT1H
BEGIN:VTIMEZONE
TZID:America/Los_Angeles
BEGIN:DAYLIGHT
TZOFFSETFROM:-0800
TZOFFSETTO:-0700
TZNAME:PDT
DTSTART:20260308T100000
END:DAYLIGHT
BEGIN:STANDARD
TZOFFSETFROM:-0700
TZOFFSETTO:-0800
TZNAME:PST
DTSTART:20261101T090000
END:STANDARD
BEGIN:DAYLIGHT
TZOFFSETFROM:-0800
TZOFFSETTO:-0700
TZNAME:PDT
DTSTART:20270314T100000
END:DAYLIGHT
BEGIN:STANDARD
TZOFFSETFROM:-0700
TZOFFSETTO:-0800
TZNAME:PST
DTSTART:20271107T090000
END:STANDARD
BEGIN:DAYLIGHT
TZOFFSETFROM:-0800
TZOFFSETTO:-0700
TZNAME:PDT
DTSTART:20280312T100000
END:DAYLIGHT
BEGIN:STANDARD
TZOFFSETFROM:-0700
TZOFFSETTO:-0800
TZNAME:PST
DTSTART:20281105T090000
END:STANDARD
END:VTIMEZONE
BEGIN:VEVENT
DTSTART;TZID=America/Los_Angeles:20270405T180000
DTEND;TZID=America/Los_Angeles:20270405T210000
DTSTAMP:20260421T060742
CREATED:20260106T171309Z
LAST-MODIFIED:20260106T171406Z
UID:10001132-1806948000-1806958800@cal.everettcommunity.org
SUMMARY:Tabletop Game Group
DESCRIPTION:Join a friendly group for board games\, card games\, and party games. All games are provided\, but feel free to bring your own. All comfort levels are welcome. Ages 21+
URL:https://cal.everettcommunity.org/event/tabletop-game-night/2027-04-05/
LOCATION:The Irishmen\, 2923 Colby Ave\, Everett\, 98201\, United States
CATEGORIES:Gaming
ATTACH;FMTTYPE=image/jpeg:https://cal.everettcommunity.org/wp-content/uploads/2026/01/table.jpg
END:VEVENT
BEGIN:VEVENT
DTSTART;TZID=America/Los_Angeles:20270412T180000
DTEND;TZID=America/Los_Angeles:20270412T210000
DTSTAMP:20260421T060742
CREATED:20260106T171309Z
LAST-MODIFIED:20260106T171406Z
UID:10001133-1807552800-1807563600@cal.everettcommunity.org
SUMMARY:Tabletop Game Group
DESCRIPTION:Join a friendly group for board games\, card games\, and party games. All games are provided\, but feel free to bring your own. All comfort levels are welcome. Ages 21+
URL:https://cal.everettcommunity.org/event/tabletop-game-night/2027-04-12/
LOCATION:The Irishmen\, 2923 Colby Ave\, Everett\, 98201\, United States
CATEGORIES:Gaming
ATTACH;FMTTYPE=image/jpeg:https://cal.everettcommunity.org/wp-content/uploads/2026/01/table.jpg
END:VEVENT
BEGIN:VEVENT
DTSTART;TZID=America/Los_Angeles:20270419T180000
DTEND;TZID=America/Los_Angeles:20270419T210000
DTSTAMP:20260421T060742
CREATED:20260106T171309Z
LAST-MODIFIED:20260106T171406Z
UID:10001134-1808157600-1808168400@cal.everettcommunity.org
SUMMARY:Tabletop Game Group
DESCRIPTION:Join a friendly group for board games\, card games\, and party games. All games are provided\, but feel free to bring your own. All comfort levels are welcome. Ages 21+
URL:https://cal.everettcommunity.org/event/tabletop-game-night/2027-04-19/
LOCATION:The Irishmen\, 2923 Colby Ave\, Everett\, 98201\, United States
CATEGORIES:Gaming
ATTACH;FMTTYPE=image/jpeg:https://cal.everettcommunity.org/wp-content/uploads/2026/01/table.jpg
END:VEVENT
BEGIN:VEVENT
DTSTART;TZID=America/Los_Angeles:20270426T180000
DTEND;TZID=America/Los_Angeles:20270426T210000
DTSTAMP:20260421T060742
CREATED:20260106T171309Z
LAST-MODIFIED:20260106T171406Z
UID:10001135-1808762400-1808773200@cal.everettcommunity.org
SUMMARY:Tabletop Game Group
DESCRIPTION:Join a friendly group for board games\, card games\, and party games. All games are provided\, but feel free to bring your own. All comfort levels are welcome. Ages 21+
URL:https://cal.everettcommunity.org/event/tabletop-game-night/2027-04-26/
LOCATION:The Irishmen\, 2923 Colby Ave\, Everett\, 98201\, United States
CATEGORIES:Gaming
ATTACH;FMTTYPE=image/jpeg:https://cal.everettcommunity.org/wp-content/uploads/2026/01/table.jpg
END:VEVENT
BEGIN:VEVENT
DTSTART;TZID=America/Los_Angeles:20270503T180000
DTEND;TZID=America/Los_Angeles:20270503T210000
DTSTAMP:20260421T060742
CREATED:20260106T171309Z
LAST-MODIFIED:20260106T171406Z
UID:10001136-1809367200-1809378000@cal.everettcommunity.org
SUMMARY:Tabletop Game Group
DESCRIPTION:Join a friendly group for board games\, card games\, and party games. All games are provided\, but feel free to bring your own. All comfort levels are welcome. Ages 21+
URL:https://cal.everettcommunity.org/event/tabletop-game-night/2027-05-03/
LOCATION:The Irishmen\, 2923 Colby Ave\, Everett\, 98201\, United States
CATEGORIES:Gaming
ATTACH;FMTTYPE=image/jpeg:https://cal.everettcommunity.org/wp-content/uploads/2026/01/table.jpg
END:VEVENT
BEGIN:VEVENT
DTSTART;TZID=America/Los_Angeles:20270510T180000
DTEND;TZID=America/Los_Angeles:20270510T210000
DTSTAMP:20260421T060742
CREATED:20260106T171309Z
LAST-MODIFIED:20260106T171406Z
UID:10001137-1809972000-1809982800@cal.everettcommunity.org
SUMMARY:Tabletop Game Group
DESCRIPTION:Join a friendly group for board games\, card games\, and party games. All games are provided\, but feel free to bring your own. All comfort levels are welcome. Ages 21+
URL:https://cal.everettcommunity.org/event/tabletop-game-night/2027-05-10/
LOCATION:The Irishmen\, 2923 Colby Ave\, Everett\, 98201\, United States
CATEGORIES:Gaming
ATTACH;FMTTYPE=image/jpeg:https://cal.everettcommunity.org/wp-content/uploads/2026/01/table.jpg
END:VEVENT
BEGIN:VEVENT
DTSTART;TZID=America/Los_Angeles:20270517T180000
DTEND;TZID=America/Los_Angeles:20270517T210000
DTSTAMP:20260421T060742
CREATED:20260106T171309Z
LAST-MODIFIED:20260106T171406Z
UID:10001138-1810576800-1810587600@cal.everettcommunity.org
SUMMARY:Tabletop Game Group
DESCRIPTION:Join a friendly group for board games\, card games\, and party games. All games are provided\, but feel free to bring your own. All comfort levels are welcome. Ages 21+
URL:https://cal.everettcommunity.org/event/tabletop-game-night/2027-05-17/
LOCATION:The Irishmen\, 2923 Colby Ave\, Everett\, 98201\, United States
CATEGORIES:Gaming
ATTACH;FMTTYPE=image/jpeg:https://cal.everettcommunity.org/wp-content/uploads/2026/01/table.jpg
END:VEVENT
BEGIN:VEVENT
DTSTART;TZID=America/Los_Angeles:20270524T180000
DTEND;TZID=America/Los_Angeles:20270524T210000
DTSTAMP:20260421T060742
CREATED:20260106T171309Z
LAST-MODIFIED:20260106T171406Z
UID:10001139-1811181600-1811192400@cal.everettcommunity.org
SUMMARY:Tabletop Game Group
DESCRIPTION:Join a friendly group for board games\, card games\, and party games. All games are provided\, but feel free to bring your own. All comfort levels are welcome. Ages 21+
URL:https://cal.everettcommunity.org/event/tabletop-game-night/2027-05-24/
LOCATION:The Irishmen\, 2923 Colby Ave\, Everett\, 98201\, United States
CATEGORIES:Gaming
ATTACH;FMTTYPE=image/jpeg:https://cal.everettcommunity.org/wp-content/uploads/2026/01/table.jpg
END:VEVENT
BEGIN:VEVENT
DTSTART;TZID=America/Los_Angeles:20270531T180000
DTEND;TZID=America/Los_Angeles:20270531T210000
DTSTAMP:20260421T060742
CREATED:20260106T171309Z
LAST-MODIFIED:20260106T171406Z
UID:10001140-1811786400-1811797200@cal.everettcommunity.org
SUMMARY:Tabletop Game Group
DESCRIPTION:Join a friendly group for board games\, card games\, and party games. All games are provided\, but feel free to bring your own. All comfort levels are welcome. Ages 21+
URL:https://cal.everettcommunity.org/event/tabletop-game-night/2027-05-31/
LOCATION:The Irishmen\, 2923 Colby Ave\, Everett\, 98201\, United States
CATEGORIES:Gaming
ATTACH;FMTTYPE=image/jpeg:https://cal.everettcommunity.org/wp-content/uploads/2026/01/table.jpg
END:VEVENT
BEGIN:VEVENT
DTSTART;TZID=America/Los_Angeles:20270607T180000
DTEND;TZID=America/Los_Angeles:20270607T210000
DTSTAMP:20260421T060742
CREATED:20260106T171309Z
LAST-MODIFIED:20260106T171406Z
UID:10001141-1812391200-1812402000@cal.everettcommunity.org
SUMMARY:Tabletop Game Group
DESCRIPTION:Join a friendly group for board games\, card games\, and party games. All games are provided\, but feel free to bring your own. All comfort levels are welcome. Ages 21+
URL:https://cal.everettcommunity.org/event/tabletop-game-night/2027-06-07/
LOCATION:The Irishmen\, 2923 Colby Ave\, Everett\, 98201\, United States
CATEGORIES:Gaming
ATTACH;FMTTYPE=image/jpeg:https://cal.everettcommunity.org/wp-content/uploads/2026/01/table.jpg
END:VEVENT
BEGIN:VEVENT
DTSTART;TZID=America/Los_Angeles:20270614T180000
DTEND;TZID=America/Los_Angeles:20270614T210000
DTSTAMP:20260421T060742
CREATED:20260106T171309Z
LAST-MODIFIED:20260106T171406Z
UID:10001142-1812996000-1813006800@cal.everettcommunity.org
SUMMARY:Tabletop Game Group
DESCRIPTION:Join a friendly group for board games\, card games\, and party games. All games are provided\, but feel free to bring your own. All comfort levels are welcome. Ages 21+
URL:https://cal.everettcommunity.org/event/tabletop-game-night/2027-06-14/
LOCATION:The Irishmen\, 2923 Colby Ave\, Everett\, 98201\, United States
CATEGORIES:Gaming
ATTACH;FMTTYPE=image/jpeg:https://cal.everettcommunity.org/wp-content/uploads/2026/01/table.jpg
END:VEVENT
BEGIN:VEVENT
DTSTART;TZID=America/Los_Angeles:20270621T180000
DTEND;TZID=America/Los_Angeles:20270621T210000
DTSTAMP:20260421T060742
CREATED:20260106T171309Z
LAST-MODIFIED:20260106T171406Z
UID:10001143-1813600800-1813611600@cal.everettcommunity.org
SUMMARY:Tabletop Game Group
DESCRIPTION:Join a friendly group for board games\, card games\, and party games. All games are provided\, but feel free to bring your own. All comfort levels are welcome. Ages 21+
URL:https://cal.everettcommunity.org/event/tabletop-game-night/2027-06-21/
LOCATION:The Irishmen\, 2923 Colby Ave\, Everett\, 98201\, United States
CATEGORIES:Gaming
ATTACH;FMTTYPE=image/jpeg:https://cal.everettcommunity.org/wp-content/uploads/2026/01/table.jpg
END:VEVENT
BEGIN:VEVENT
DTSTART;TZID=America/Los_Angeles:20270628T180000
DTEND;TZID=America/Los_Angeles:20270628T210000
DTSTAMP:20260421T060742
CREATED:20260106T171309Z
LAST-MODIFIED:20260106T171406Z
UID:10001144-1814205600-1814216400@cal.everettcommunity.org
SUMMARY:Tabletop Game Group
DESCRIPTION:Join a friendly group for board games\, card games\, and party games. All games are provided\, but feel free to bring your own. All comfort levels are welcome. Ages 21+
URL:https://cal.everettcommunity.org/event/tabletop-game-night/2027-06-28/
LOCATION:The Irishmen\, 2923 Colby Ave\, Everett\, 98201\, United States
CATEGORIES:Gaming
ATTACH;FMTTYPE=image/jpeg:https://cal.everettcommunity.org/wp-content/uploads/2026/01/table.jpg
END:VEVENT
BEGIN:VEVENT
DTSTART;TZID=America/Los_Angeles:20270705T180000
DTEND;TZID=America/Los_Angeles:20270705T210000
DTSTAMP:20260421T060742
CREATED:20260106T171309Z
LAST-MODIFIED:20260106T171406Z
UID:10001145-1814810400-1814821200@cal.everettcommunity.org
SUMMARY:Tabletop Game Group
DESCRIPTION:Join a friendly group for board games\, card games\, and party games. All games are provided\, but feel free to bring your own. All comfort levels are welcome. Ages 21+
URL:https://cal.everettcommunity.org/event/tabletop-game-night/2027-07-05/
LOCATION:The Irishmen\, 2923 Colby Ave\, Everett\, 98201\, United States
CATEGORIES:Gaming
ATTACH;FMTTYPE=image/jpeg:https://cal.everettcommunity.org/wp-content/uploads/2026/01/table.jpg
END:VEVENT
BEGIN:VEVENT
DTSTART;TZID=America/Los_Angeles:20270712T180000
DTEND;TZID=America/Los_Angeles:20270712T210000
DTSTAMP:20260421T060742
CREATED:20260106T171309Z
LAST-MODIFIED:20260106T171406Z
UID:10001146-1815415200-1815426000@cal.everettcommunity.org
SUMMARY:Tabletop Game Group
DESCRIPTION:Join a friendly group for board games\, card games\, and party games. All games are provided\, but feel free to bring your own. All comfort levels are welcome. Ages 21+
URL:https://cal.everettcommunity.org/event/tabletop-game-night/2027-07-12/
LOCATION:The Irishmen\, 2923 Colby Ave\, Everett\, 98201\, United States
CATEGORIES:Gaming
ATTACH;FMTTYPE=image/jpeg:https://cal.everettcommunity.org/wp-content/uploads/2026/01/table.jpg
END:VEVENT
BEGIN:VEVENT
DTSTART;TZID=America/Los_Angeles:20270719T180000
DTEND;TZID=America/Los_Angeles:20270719T210000
DTSTAMP:20260421T060742
CREATED:20260106T171309Z
LAST-MODIFIED:20260106T171406Z
UID:10001147-1816020000-1816030800@cal.everettcommunity.org
SUMMARY:Tabletop Game Group
DESCRIPTION:Join a friendly group for board games\, card games\, and party games. All games are provided\, but feel free to bring your own. All comfort levels are welcome. Ages 21+
URL:https://cal.everettcommunity.org/event/tabletop-game-night/2027-07-19/
LOCATION:The Irishmen\, 2923 Colby Ave\, Everett\, 98201\, United States
CATEGORIES:Gaming
ATTACH;FMTTYPE=image/jpeg:https://cal.everettcommunity.org/wp-content/uploads/2026/01/table.jpg
END:VEVENT
BEGIN:VEVENT
DTSTART;TZID=America/Los_Angeles:20270726T180000
DTEND;TZID=America/Los_Angeles:20270726T210000
DTSTAMP:20260421T060742
CREATED:20260106T171309Z
LAST-MODIFIED:20260106T171406Z
UID:10001148-1816624800-1816635600@cal.everettcommunity.org
SUMMARY:Tabletop Game Group
DESCRIPTION:Join a friendly group for board games\, card games\, and party games. All games are provided\, but feel free to bring your own. All comfort levels are welcome. Ages 21+
URL:https://cal.everettcommunity.org/event/tabletop-game-night/2027-07-26/
LOCATION:The Irishmen\, 2923 Colby Ave\, Everett\, 98201\, United States
CATEGORIES:Gaming
ATTACH;FMTTYPE=image/jpeg:https://cal.everettcommunity.org/wp-content/uploads/2026/01/table.jpg
END:VEVENT
BEGIN:VEVENT
DTSTART;TZID=America/Los_Angeles:20270802T180000
DTEND;TZID=America/Los_Angeles:20270802T210000
DTSTAMP:20260421T060742
CREATED:20260106T171309Z
LAST-MODIFIED:20260106T171406Z
UID:10001149-1817229600-1817240400@cal.everettcommunity.org
SUMMARY:Tabletop Game Group
DESCRIPTION:Join a friendly group for board games\, card games\, and party games. All games are provided\, but feel free to bring your own. All comfort levels are welcome. Ages 21+
URL:https://cal.everettcommunity.org/event/tabletop-game-night/2027-08-02/
LOCATION:The Irishmen\, 2923 Colby Ave\, Everett\, 98201\, United States
CATEGORIES:Gaming
ATTACH;FMTTYPE=image/jpeg:https://cal.everettcommunity.org/wp-content/uploads/2026/01/table.jpg
END:VEVENT
BEGIN:VEVENT
DTSTART;TZID=America/Los_Angeles:20270809T180000
DTEND;TZID=America/Los_Angeles:20270809T210000
DTSTAMP:20260421T060742
CREATED:20260106T171309Z
LAST-MODIFIED:20260106T171406Z
UID:10001150-1817834400-1817845200@cal.everettcommunity.org
SUMMARY:Tabletop Game Group
DESCRIPTION:Join a friendly group for board games\, card games\, and party games. All games are provided\, but feel free to bring your own. All comfort levels are welcome. Ages 21+
URL:https://cal.everettcommunity.org/event/tabletop-game-night/2027-08-09/
LOCATION:The Irishmen\, 2923 Colby Ave\, Everett\, 98201\, United States
CATEGORIES:Gaming
ATTACH;FMTTYPE=image/jpeg:https://cal.everettcommunity.org/wp-content/uploads/2026/01/table.jpg
END:VEVENT
BEGIN:VEVENT
DTSTART;TZID=America/Los_Angeles:20270816T180000
DTEND;TZID=America/Los_Angeles:20270816T210000
DTSTAMP:20260421T060742
CREATED:20260106T171309Z
LAST-MODIFIED:20260106T171406Z
UID:10001151-1818439200-1818450000@cal.everettcommunity.org
SUMMARY:Tabletop Game Group
DESCRIPTION:Join a friendly group for board games\, card games\, and party games. All games are provided\, but feel free to bring your own. All comfort levels are welcome. Ages 21+
URL:https://cal.everettcommunity.org/event/tabletop-game-night/2027-08-16/
LOCATION:The Irishmen\, 2923 Colby Ave\, Everett\, 98201\, United States
CATEGORIES:Gaming
ATTACH;FMTTYPE=image/jpeg:https://cal.everettcommunity.org/wp-content/uploads/2026/01/table.jpg
END:VEVENT
BEGIN:VEVENT
DTSTART;TZID=America/Los_Angeles:20270823T180000
DTEND;TZID=America/Los_Angeles:20270823T210000
DTSTAMP:20260421T060742
CREATED:20260106T171309Z
LAST-MODIFIED:20260106T171406Z
UID:10001152-1819044000-1819054800@cal.everettcommunity.org
SUMMARY:Tabletop Game Group
DESCRIPTION:Join a friendly group for board games\, card games\, and party games. All games are provided\, but feel free to bring your own. All comfort levels are welcome. Ages 21+
URL:https://cal.everettcommunity.org/event/tabletop-game-night/2027-08-23/
LOCATION:The Irishmen\, 2923 Colby Ave\, Everett\, 98201\, United States
CATEGORIES:Gaming
ATTACH;FMTTYPE=image/jpeg:https://cal.everettcommunity.org/wp-content/uploads/2026/01/table.jpg
END:VEVENT
BEGIN:VEVENT
DTSTART;TZID=America/Los_Angeles:20270830T180000
DTEND;TZID=America/Los_Angeles:20270830T210000
DTSTAMP:20260421T060742
CREATED:20260106T171309Z
LAST-MODIFIED:20260106T171406Z
UID:10001153-1819648800-1819659600@cal.everettcommunity.org
SUMMARY:Tabletop Game Group
DESCRIPTION:Join a friendly group for board games\, card games\, and party games. All games are provided\, but feel free to bring your own. All comfort levels are welcome. Ages 21+
URL:https://cal.everettcommunity.org/event/tabletop-game-night/2027-08-30/
LOCATION:The Irishmen\, 2923 Colby Ave\, Everett\, 98201\, United States
CATEGORIES:Gaming
ATTACH;FMTTYPE=image/jpeg:https://cal.everettcommunity.org/wp-content/uploads/2026/01/table.jpg
END:VEVENT
BEGIN:VEVENT
DTSTART;TZID=America/Los_Angeles:20270906T180000
DTEND;TZID=America/Los_Angeles:20270906T210000
DTSTAMP:20260421T060742
CREATED:20260106T171309Z
LAST-MODIFIED:20260106T171406Z
UID:10001154-1820253600-1820264400@cal.everettcommunity.org
SUMMARY:Tabletop Game Group
DESCRIPTION:Join a friendly group for board games\, card games\, and party games. All games are provided\, but feel free to bring your own. All comfort levels are welcome. Ages 21+
URL:https://cal.everettcommunity.org/event/tabletop-game-night/2027-09-06/
LOCATION:The Irishmen\, 2923 Colby Ave\, Everett\, 98201\, United States
CATEGORIES:Gaming
ATTACH;FMTTYPE=image/jpeg:https://cal.everettcommunity.org/wp-content/uploads/2026/01/table.jpg
END:VEVENT
BEGIN:VEVENT
DTSTART;TZID=America/Los_Angeles:20270913T180000
DTEND;TZID=America/Los_Angeles:20270913T210000
DTSTAMP:20260421T060742
CREATED:20260106T171309Z
LAST-MODIFIED:20260106T171406Z
UID:10001155-1820858400-1820869200@cal.everettcommunity.org
SUMMARY:Tabletop Game Group
DESCRIPTION:Join a friendly group for board games\, card games\, and party games. All games are provided\, but feel free to bring your own. All comfort levels are welcome. Ages 21+
URL:https://cal.everettcommunity.org/event/tabletop-game-night/2027-09-13/
LOCATION:The Irishmen\, 2923 Colby Ave\, Everett\, 98201\, United States
CATEGORIES:Gaming
ATTACH;FMTTYPE=image/jpeg:https://cal.everettcommunity.org/wp-content/uploads/2026/01/table.jpg
END:VEVENT
BEGIN:VEVENT
DTSTART;TZID=America/Los_Angeles:20270920T180000
DTEND;TZID=America/Los_Angeles:20270920T210000
DTSTAMP:20260421T060742
CREATED:20260106T171309Z
LAST-MODIFIED:20260106T171406Z
UID:10001156-1821463200-1821474000@cal.everettcommunity.org
SUMMARY:Tabletop Game Group
DESCRIPTION:Join a friendly group for board games\, card games\, and party games. All games are provided\, but feel free to bring your own. All comfort levels are welcome. Ages 21+
URL:https://cal.everettcommunity.org/event/tabletop-game-night/2027-09-20/
LOCATION:The Irishmen\, 2923 Colby Ave\, Everett\, 98201\, United States
CATEGORIES:Gaming
ATTACH;FMTTYPE=image/jpeg:https://cal.everettcommunity.org/wp-content/uploads/2026/01/table.jpg
END:VEVENT
BEGIN:VEVENT
DTSTART;TZID=America/Los_Angeles:20270927T180000
DTEND;TZID=America/Los_Angeles:20270927T210000
DTSTAMP:20260421T060742
CREATED:20260106T171309Z
LAST-MODIFIED:20260106T171406Z
UID:10001157-1822068000-1822078800@cal.everettcommunity.org
SUMMARY:Tabletop Game Group
DESCRIPTION:Join a friendly group for board games\, card games\, and party games. All games are provided\, but feel free to bring your own. All comfort levels are welcome. Ages 21+
URL:https://cal.everettcommunity.org/event/tabletop-game-night/2027-09-27/
LOCATION:The Irishmen\, 2923 Colby Ave\, Everett\, 98201\, United States
CATEGORIES:Gaming
ATTACH;FMTTYPE=image/jpeg:https://cal.everettcommunity.org/wp-content/uploads/2026/01/table.jpg
END:VEVENT
BEGIN:VEVENT
DTSTART;TZID=America/Los_Angeles:20271004T180000
DTEND;TZID=America/Los_Angeles:20271004T210000
DTSTAMP:20260421T060742
CREATED:20260106T171309Z
LAST-MODIFIED:20260106T171406Z
UID:10001158-1822672800-1822683600@cal.everettcommunity.org
SUMMARY:Tabletop Game Group
DESCRIPTION:Join a friendly group for board games\, card games\, and party games. All games are provided\, but feel free to bring your own. All comfort levels are welcome. Ages 21+
URL:https://cal.everettcommunity.org/event/tabletop-game-night/2027-10-04/
LOCATION:The Irishmen\, 2923 Colby Ave\, Everett\, 98201\, United States
CATEGORIES:Gaming
ATTACH;FMTTYPE=image/jpeg:https://cal.everettcommunity.org/wp-content/uploads/2026/01/table.jpg
END:VEVENT
BEGIN:VEVENT
DTSTART;TZID=America/Los_Angeles:20271011T180000
DTEND;TZID=America/Los_Angeles:20271011T210000
DTSTAMP:20260421T060742
CREATED:20260106T171309Z
LAST-MODIFIED:20260106T171406Z
UID:10001159-1823277600-1823288400@cal.everettcommunity.org
SUMMARY:Tabletop Game Group
DESCRIPTION:Join a friendly group for board games\, card games\, and party games. All games are provided\, but feel free to bring your own. All comfort levels are welcome. Ages 21+
URL:https://cal.everettcommunity.org/event/tabletop-game-night/2027-10-11/
LOCATION:The Irishmen\, 2923 Colby Ave\, Everett\, 98201\, United States
CATEGORIES:Gaming
ATTACH;FMTTYPE=image/jpeg:https://cal.everettcommunity.org/wp-content/uploads/2026/01/table.jpg
END:VEVENT
BEGIN:VEVENT
DTSTART;TZID=America/Los_Angeles:20271018T180000
DTEND;TZID=America/Los_Angeles:20271018T210000
DTSTAMP:20260421T060742
CREATED:20260106T171309Z
LAST-MODIFIED:20260106T171406Z
UID:10001160-1823882400-1823893200@cal.everettcommunity.org
SUMMARY:Tabletop Game Group
DESCRIPTION:Join a friendly group for board games\, card games\, and party games. All games are provided\, but feel free to bring your own. All comfort levels are welcome. Ages 21+
URL:https://cal.everettcommunity.org/event/tabletop-game-night/2027-10-18/
LOCATION:The Irishmen\, 2923 Colby Ave\, Everett\, 98201\, United States
CATEGORIES:Gaming
ATTACH;FMTTYPE=image/jpeg:https://cal.everettcommunity.org/wp-content/uploads/2026/01/table.jpg
END:VEVENT
BEGIN:VEVENT
DTSTART;TZID=America/Los_Angeles:20271025T180000
DTEND;TZID=America/Los_Angeles:20271025T210000
DTSTAMP:20260421T060742
CREATED:20260106T171309Z
LAST-MODIFIED:20260106T171406Z
UID:10001161-1824487200-1824498000@cal.everettcommunity.org
SUMMARY:Tabletop Game Group
DESCRIPTION:Join a friendly group for board games\, card games\, and party games. All games are provided\, but feel free to bring your own. All comfort levels are welcome. Ages 21+
URL:https://cal.everettcommunity.org/event/tabletop-game-night/2027-10-25/
LOCATION:The Irishmen\, 2923 Colby Ave\, Everett\, 98201\, United States
CATEGORIES:Gaming
ATTACH;FMTTYPE=image/jpeg:https://cal.everettcommunity.org/wp-content/uploads/2026/01/table.jpg
END:VEVENT
END:VCALENDAR