BEGIN:VCALENDAR
VERSION:2.0
PRODID:-//Everett Community - ECPv6.15.20//NONSGML v1.0//EN
CALSCALE:GREGORIAN
METHOD:PUBLISH
X-WR-CALNAME:Everett Community
X-ORIGINAL-URL:https://cal.everettcommunity.org
X-WR-CALDESC:Events for Everett Community
REFRESH-INTERVAL;VALUE=DURATION:PT1H
X-Robots-Tag:noindex
X-PUBLISHED-TTL:PT1H
BEGIN:VTIMEZONE
TZID:America/Los_Angeles
BEGIN:DAYLIGHT
TZOFFSETFROM:-0800
TZOFFSETTO:-0700
TZNAME:PDT
DTSTART:20250309T100000
END:DAYLIGHT
BEGIN:STANDARD
TZOFFSETFROM:-0700
TZOFFSETTO:-0800
TZNAME:PST
DTSTART:20251102T090000
END:STANDARD
BEGIN:DAYLIGHT
TZOFFSETFROM:-0800
TZOFFSETTO:-0700
TZNAME:PDT
DTSTART:20260308T100000
END:DAYLIGHT
BEGIN:STANDARD
TZOFFSETFROM:-0700
TZOFFSETTO:-0800
TZNAME:PST
DTSTART:20261101T090000
END:STANDARD
BEGIN:DAYLIGHT
TZOFFSETFROM:-0800
TZOFFSETTO:-0700
TZNAME:PDT
DTSTART:20270314T100000
END:DAYLIGHT
BEGIN:STANDARD
TZOFFSETFROM:-0700
TZOFFSETTO:-0800
TZNAME:PST
DTSTART:20271107T090000
END:STANDARD
END:VTIMEZONE
BEGIN:VEVENT
DTSTART;TZID=America/Los_Angeles:20260117T190000
DTEND;TZID=America/Los_Angeles:20260117T230000
DTSTAMP:20260421T014153
CREATED:20260113T033114Z
LAST-MODIFIED:20260113T033114Z
UID:10001333-1768676400-1768690800@cal.everettcommunity.org
SUMMARY:Drag Bingo
DESCRIPTION:Lucky Dime hosts Drag Bingo with Sara Femme and a special guest for a night of campy chaos\, playful shade\, and fabulous performances. Expect big laughs\, eight rounds of bingo\, and prizes served with a wink. Whether you’re there to win or just soak up the energy\, it’s always a good time. \nDoors at 7\, bingo at 8\, 18+
URL:https://cal.everettcommunity.org/event/drag-bingo/
LOCATION:Lucky Dime\, 1618 Hewitt Ave\, Everett\, WA\, 98201\, United States
CATEGORIES:Art & Performances,Gaming
ATTACH;FMTTYPE=image/jpeg:https://cal.everettcommunity.org/wp-content/uploads/2026/01/dragbingo.jpg
END:VEVENT
BEGIN:VEVENT
DTSTART;TZID=America/Los_Angeles:20260112T180000
DTEND;TZID=America/Los_Angeles:20260112T210000
DTSTAMP:20260421T014153
CREATED:20260106T171309Z
LAST-MODIFIED:20260106T171406Z
UID:10001068-1768240800-1768251600@cal.everettcommunity.org
SUMMARY:Tabletop Game Group
DESCRIPTION:Join a friendly group for board games\, card games\, and party games. All games are provided\, but feel free to bring your own. All comfort levels are welcome. Ages 21+
URL:https://cal.everettcommunity.org/event/tabletop-game-night/2026-01-12/
LOCATION:The Irishmen\, 2923 Colby Ave\, Everett\, 98201\, United States
CATEGORIES:Gaming
ATTACH;FMTTYPE=image/jpeg:https://cal.everettcommunity.org/wp-content/uploads/2026/01/table.jpg
END:VEVENT
BEGIN:VEVENT
DTSTART;TZID=America/Los_Angeles:20260108T180000
DTEND;TZID=America/Los_Angeles:20260108T200000
DTSTAMP:20260421T014153
CREATED:20260104T102233Z
LAST-MODIFIED:20260104T102412Z
UID:10001066-1767895200-1767902400@cal.everettcommunity.org
SUMMARY:Casual Jigsaw Puzzle Meetup
DESCRIPTION:Thank you all who came to the second casual puzzling meet up and made it a success again! So here is another meetup event at The Bayside Cafe’s new location at 2913 W Marine View Drive on January 8th at 6 pm. See you all there!
URL:https://cal.everettcommunity.org/event/casual-jigsaw-puzzle-meetup/
LOCATION:The Bayside Cafe\, 2913 W Marine View Dr\, Everett\, WA\, 98201\, United States
CATEGORIES:Gaming
ATTACH;FMTTYPE=image/webp:https://cal.everettcommunity.org/wp-content/uploads/2026/01/esygvvkqz8bg1.jpeg.webp
END:VEVENT
END:VCALENDAR