BEGIN:VCALENDAR
VERSION:2.0
PRODID:-//Everett Community - ECPv6.15.20//NONSGML v1.0//EN
CALSCALE:GREGORIAN
METHOD:PUBLISH
X-ORIGINAL-URL:https://cal.everettcommunity.org
X-WR-CALDESC:Events for Everett Community
REFRESH-INTERVAL;VALUE=DURATION:PT1H
X-Robots-Tag:noindex
X-PUBLISHED-TTL:PT1H
BEGIN:VTIMEZONE
TZID:America/Los_Angeles
BEGIN:DAYLIGHT
TZOFFSETFROM:-0800
TZOFFSETTO:-0700
TZNAME:PDT
DTSTART:20290311T100000
END:DAYLIGHT
BEGIN:STANDARD
TZOFFSETFROM:-0700
TZOFFSETTO:-0800
TZNAME:PST
DTSTART:20291104T090000
END:STANDARD
BEGIN:DAYLIGHT
TZOFFSETFROM:-0800
TZOFFSETTO:-0700
TZNAME:PDT
DTSTART:20300310T100000
END:DAYLIGHT
BEGIN:STANDARD
TZOFFSETFROM:-0700
TZOFFSETTO:-0800
TZNAME:PST
DTSTART:20301103T090000
END:STANDARD
BEGIN:DAYLIGHT
TZOFFSETFROM:-0800
TZOFFSETTO:-0700
TZNAME:PDT
DTSTART:20310309T100000
END:DAYLIGHT
BEGIN:STANDARD
TZOFFSETFROM:-0700
TZOFFSETTO:-0800
TZNAME:PST
DTSTART:20311102T090000
END:STANDARD
BEGIN:DAYLIGHT
TZOFFSETFROM:-0800
TZOFFSETTO:-0700
TZNAME:PDT
DTSTART:20320314T100000
END:DAYLIGHT
BEGIN:STANDARD
TZOFFSETFROM:-0700
TZOFFSETTO:-0800
TZNAME:PST
DTSTART:20321107T090000
END:STANDARD
END:VTIMEZONE
BEGIN:VEVENT
DTSTART;TZID=America/Los_Angeles:20301125T180000
DTEND;TZID=America/Los_Angeles:20301125T210000
DTSTAMP:20260422T123513
CREATED:20260106T171309Z
LAST-MODIFIED:20260106T171406Z
UID:10001322-1921860000-1921870800@cal.everettcommunity.org
SUMMARY:Tabletop Game Group
DESCRIPTION:Join a friendly group for board games\, card games\, and party games. All games are provided\, but feel free to bring your own. All comfort levels are welcome. Ages 21+
URL:https://cal.everettcommunity.org/event/tabletop-game-night/2030-11-25/
LOCATION:The Irishmen\, 2923 Colby Ave\, Everett\, 98201\, United States
CATEGORIES:Gaming
ATTACH;FMTTYPE=image/jpeg:https://cal.everettcommunity.org/wp-content/uploads/2026/01/table.jpg
END:VEVENT
BEGIN:VEVENT
DTSTART;TZID=America/Los_Angeles:20301202T180000
DTEND;TZID=America/Los_Angeles:20301202T210000
DTSTAMP:20260422T123513
CREATED:20260106T171309Z
LAST-MODIFIED:20260106T171406Z
UID:10001323-1922464800-1922475600@cal.everettcommunity.org
SUMMARY:Tabletop Game Group
DESCRIPTION:Join a friendly group for board games\, card games\, and party games. All games are provided\, but feel free to bring your own. All comfort levels are welcome. Ages 21+
URL:https://cal.everettcommunity.org/event/tabletop-game-night/2030-12-02/
LOCATION:The Irishmen\, 2923 Colby Ave\, Everett\, 98201\, United States
CATEGORIES:Gaming
ATTACH;FMTTYPE=image/jpeg:https://cal.everettcommunity.org/wp-content/uploads/2026/01/table.jpg
END:VEVENT
BEGIN:VEVENT
DTSTART;TZID=America/Los_Angeles:20301209T180000
DTEND;TZID=America/Los_Angeles:20301209T210000
DTSTAMP:20260422T123513
CREATED:20260106T171309Z
LAST-MODIFIED:20260106T171406Z
UID:10001324-1923069600-1923080400@cal.everettcommunity.org
SUMMARY:Tabletop Game Group
DESCRIPTION:Join a friendly group for board games\, card games\, and party games. All games are provided\, but feel free to bring your own. All comfort levels are welcome. Ages 21+
URL:https://cal.everettcommunity.org/event/tabletop-game-night/2030-12-09/
LOCATION:The Irishmen\, 2923 Colby Ave\, Everett\, 98201\, United States
CATEGORIES:Gaming
ATTACH;FMTTYPE=image/jpeg:https://cal.everettcommunity.org/wp-content/uploads/2026/01/table.jpg
END:VEVENT
BEGIN:VEVENT
DTSTART;TZID=America/Los_Angeles:20301216T180000
DTEND;TZID=America/Los_Angeles:20301216T210000
DTSTAMP:20260422T123513
CREATED:20260106T171309Z
LAST-MODIFIED:20260106T171406Z
UID:10001325-1923674400-1923685200@cal.everettcommunity.org
SUMMARY:Tabletop Game Group
DESCRIPTION:Join a friendly group for board games\, card games\, and party games. All games are provided\, but feel free to bring your own. All comfort levels are welcome. Ages 21+
URL:https://cal.everettcommunity.org/event/tabletop-game-night/2030-12-16/
LOCATION:The Irishmen\, 2923 Colby Ave\, Everett\, 98201\, United States
CATEGORIES:Gaming
ATTACH;FMTTYPE=image/jpeg:https://cal.everettcommunity.org/wp-content/uploads/2026/01/table.jpg
END:VEVENT
BEGIN:VEVENT
DTSTART;TZID=America/Los_Angeles:20301223T180000
DTEND;TZID=America/Los_Angeles:20301223T210000
DTSTAMP:20260422T123513
CREATED:20260106T171309Z
LAST-MODIFIED:20260106T171406Z
UID:10001326-1924279200-1924290000@cal.everettcommunity.org
SUMMARY:Tabletop Game Group
DESCRIPTION:Join a friendly group for board games\, card games\, and party games. All games are provided\, but feel free to bring your own. All comfort levels are welcome. Ages 21+
URL:https://cal.everettcommunity.org/event/tabletop-game-night/2030-12-23/
LOCATION:The Irishmen\, 2923 Colby Ave\, Everett\, 98201\, United States
CATEGORIES:Gaming
ATTACH;FMTTYPE=image/jpeg:https://cal.everettcommunity.org/wp-content/uploads/2026/01/table.jpg
END:VEVENT
BEGIN:VEVENT
DTSTART;TZID=America/Los_Angeles:20301230T180000
DTEND;TZID=America/Los_Angeles:20301230T210000
DTSTAMP:20260422T123513
CREATED:20260106T171309Z
LAST-MODIFIED:20260106T171406Z
UID:10001327-1924884000-1924894800@cal.everettcommunity.org
SUMMARY:Tabletop Game Group
DESCRIPTION:Join a friendly group for board games\, card games\, and party games. All games are provided\, but feel free to bring your own. All comfort levels are welcome. Ages 21+
URL:https://cal.everettcommunity.org/event/tabletop-game-night/2030-12-30/
LOCATION:The Irishmen\, 2923 Colby Ave\, Everett\, 98201\, United States
CATEGORIES:Gaming
ATTACH;FMTTYPE=image/jpeg:https://cal.everettcommunity.org/wp-content/uploads/2026/01/table.jpg
END:VEVENT
BEGIN:VEVENT
DTSTART;TZID=America/Los_Angeles:20310106T180000
DTEND;TZID=America/Los_Angeles:20310106T210000
DTSTAMP:20260422T123513
CREATED:20260106T171309Z
LAST-MODIFIED:20260106T171406Z
UID:10001328-1925488800-1925499600@cal.everettcommunity.org
SUMMARY:Tabletop Game Group
DESCRIPTION:Join a friendly group for board games\, card games\, and party games. All games are provided\, but feel free to bring your own. All comfort levels are welcome. Ages 21+
URL:https://cal.everettcommunity.org/event/tabletop-game-night/2031-01-06/
LOCATION:The Irishmen\, 2923 Colby Ave\, Everett\, 98201\, United States
CATEGORIES:Gaming
ATTACH;FMTTYPE=image/jpeg:https://cal.everettcommunity.org/wp-content/uploads/2026/01/table.jpg
END:VEVENT
END:VCALENDAR