BEGIN:VCALENDAR
VERSION:2.0
PRODID:-//Everett Community - ECPv6.15.20//NONSGML v1.0//EN
CALSCALE:GREGORIAN
METHOD:PUBLISH
X-WR-CALNAME:Everett Community
X-ORIGINAL-URL:https://cal.everettcommunity.org
X-WR-CALDESC:Events for Everett Community
REFRESH-INTERVAL;VALUE=DURATION:PT1H
X-Robots-Tag:noindex
X-PUBLISHED-TTL:PT1H
BEGIN:VTIMEZONE
TZID:America/Los_Angeles
BEGIN:DAYLIGHT
TZOFFSETFROM:-0800
TZOFFSETTO:-0700
TZNAME:PDT
DTSTART:20280312T100000
END:DAYLIGHT
BEGIN:STANDARD
TZOFFSETFROM:-0700
TZOFFSETTO:-0800
TZNAME:PST
DTSTART:20281105T090000
END:STANDARD
BEGIN:DAYLIGHT
TZOFFSETFROM:-0800
TZOFFSETTO:-0700
TZNAME:PDT
DTSTART:20290311T100000
END:DAYLIGHT
BEGIN:STANDARD
TZOFFSETFROM:-0700
TZOFFSETTO:-0800
TZNAME:PST
DTSTART:20291104T090000
END:STANDARD
BEGIN:DAYLIGHT
TZOFFSETFROM:-0800
TZOFFSETTO:-0700
TZNAME:PDT
DTSTART:20300310T100000
END:DAYLIGHT
BEGIN:STANDARD
TZOFFSETFROM:-0700
TZOFFSETTO:-0800
TZNAME:PST
DTSTART:20301103T090000
END:STANDARD
BEGIN:DAYLIGHT
TZOFFSETFROM:-0800
TZOFFSETTO:-0700
TZNAME:PDT
DTSTART:20310309T100000
END:DAYLIGHT
BEGIN:STANDARD
TZOFFSETFROM:-0700
TZOFFSETTO:-0800
TZNAME:PST
DTSTART:20311102T090000
END:STANDARD
END:VTIMEZONE
BEGIN:VEVENT
DTSTART;TZID=America/Los_Angeles:20291210T180000
DTEND;TZID=America/Los_Angeles:20291210T210000
DTSTAMP:20260422T043020
CREATED:20260106T171309Z
LAST-MODIFIED:20260106T171406Z
UID:10001272-1891620000-1891630800@cal.everettcommunity.org
SUMMARY:Tabletop Game Group
DESCRIPTION:Join a friendly group for board games\, card games\, and party games. All games are provided\, but feel free to bring your own. All comfort levels are welcome. Ages 21+
URL:https://cal.everettcommunity.org/event/tabletop-game-night/2029-12-10/
LOCATION:The Irishmen\, 2923 Colby Ave\, Everett\, 98201\, United States
CATEGORIES:Gaming
ATTACH;FMTTYPE=image/jpeg:https://cal.everettcommunity.org/wp-content/uploads/2026/01/table.jpg
END:VEVENT
BEGIN:VEVENT
DTSTART;TZID=America/Los_Angeles:20291217T180000
DTEND;TZID=America/Los_Angeles:20291217T210000
DTSTAMP:20260422T043020
CREATED:20260106T171309Z
LAST-MODIFIED:20260106T171406Z
UID:10001273-1892224800-1892235600@cal.everettcommunity.org
SUMMARY:Tabletop Game Group
DESCRIPTION:Join a friendly group for board games\, card games\, and party games. All games are provided\, but feel free to bring your own. All comfort levels are welcome. Ages 21+
URL:https://cal.everettcommunity.org/event/tabletop-game-night/2029-12-17/
LOCATION:The Irishmen\, 2923 Colby Ave\, Everett\, 98201\, United States
CATEGORIES:Gaming
ATTACH;FMTTYPE=image/jpeg:https://cal.everettcommunity.org/wp-content/uploads/2026/01/table.jpg
END:VEVENT
BEGIN:VEVENT
DTSTART;TZID=America/Los_Angeles:20291224T180000
DTEND;TZID=America/Los_Angeles:20291224T210000
DTSTAMP:20260422T043020
CREATED:20260106T171309Z
LAST-MODIFIED:20260106T171406Z
UID:10001274-1892829600-1892840400@cal.everettcommunity.org
SUMMARY:Tabletop Game Group
DESCRIPTION:Join a friendly group for board games\, card games\, and party games. All games are provided\, but feel free to bring your own. All comfort levels are welcome. Ages 21+
URL:https://cal.everettcommunity.org/event/tabletop-game-night/2029-12-24/
LOCATION:The Irishmen\, 2923 Colby Ave\, Everett\, 98201\, United States
CATEGORIES:Gaming
ATTACH;FMTTYPE=image/jpeg:https://cal.everettcommunity.org/wp-content/uploads/2026/01/table.jpg
END:VEVENT
BEGIN:VEVENT
DTSTART;TZID=America/Los_Angeles:20291231T180000
DTEND;TZID=America/Los_Angeles:20291231T210000
DTSTAMP:20260422T043020
CREATED:20260106T171309Z
LAST-MODIFIED:20260106T171406Z
UID:10001275-1893434400-1893445200@cal.everettcommunity.org
SUMMARY:Tabletop Game Group
DESCRIPTION:Join a friendly group for board games\, card games\, and party games. All games are provided\, but feel free to bring your own. All comfort levels are welcome. Ages 21+
URL:https://cal.everettcommunity.org/event/tabletop-game-night/2029-12-31/
LOCATION:The Irishmen\, 2923 Colby Ave\, Everett\, 98201\, United States
CATEGORIES:Gaming
ATTACH;FMTTYPE=image/jpeg:https://cal.everettcommunity.org/wp-content/uploads/2026/01/table.jpg
END:VEVENT
BEGIN:VEVENT
DTSTART;TZID=America/Los_Angeles:20300107T180000
DTEND;TZID=America/Los_Angeles:20300107T210000
DTSTAMP:20260422T043020
CREATED:20260106T171309Z
LAST-MODIFIED:20260106T171406Z
UID:10001276-1894039200-1894050000@cal.everettcommunity.org
SUMMARY:Tabletop Game Group
DESCRIPTION:Join a friendly group for board games\, card games\, and party games. All games are provided\, but feel free to bring your own. All comfort levels are welcome. Ages 21+
URL:https://cal.everettcommunity.org/event/tabletop-game-night/2030-01-07/
LOCATION:The Irishmen\, 2923 Colby Ave\, Everett\, 98201\, United States
CATEGORIES:Gaming
ATTACH;FMTTYPE=image/jpeg:https://cal.everettcommunity.org/wp-content/uploads/2026/01/table.jpg
END:VEVENT
BEGIN:VEVENT
DTSTART;TZID=America/Los_Angeles:20300114T180000
DTEND;TZID=America/Los_Angeles:20300114T210000
DTSTAMP:20260422T043020
CREATED:20260106T171309Z
LAST-MODIFIED:20260106T171406Z
UID:10001277-1894644000-1894654800@cal.everettcommunity.org
SUMMARY:Tabletop Game Group
DESCRIPTION:Join a friendly group for board games\, card games\, and party games. All games are provided\, but feel free to bring your own. All comfort levels are welcome. Ages 21+
URL:https://cal.everettcommunity.org/event/tabletop-game-night/2030-01-14/
LOCATION:The Irishmen\, 2923 Colby Ave\, Everett\, 98201\, United States
CATEGORIES:Gaming
ATTACH;FMTTYPE=image/jpeg:https://cal.everettcommunity.org/wp-content/uploads/2026/01/table.jpg
END:VEVENT
BEGIN:VEVENT
DTSTART;TZID=America/Los_Angeles:20300121T180000
DTEND;TZID=America/Los_Angeles:20300121T210000
DTSTAMP:20260422T043020
CREATED:20260106T171309Z
LAST-MODIFIED:20260106T171406Z
UID:10001278-1895248800-1895259600@cal.everettcommunity.org
SUMMARY:Tabletop Game Group
DESCRIPTION:Join a friendly group for board games\, card games\, and party games. All games are provided\, but feel free to bring your own. All comfort levels are welcome. Ages 21+
URL:https://cal.everettcommunity.org/event/tabletop-game-night/2030-01-21/
LOCATION:The Irishmen\, 2923 Colby Ave\, Everett\, 98201\, United States
CATEGORIES:Gaming
ATTACH;FMTTYPE=image/jpeg:https://cal.everettcommunity.org/wp-content/uploads/2026/01/table.jpg
END:VEVENT
BEGIN:VEVENT
DTSTART;TZID=America/Los_Angeles:20300128T180000
DTEND;TZID=America/Los_Angeles:20300128T210000
DTSTAMP:20260422T043020
CREATED:20260106T171309Z
LAST-MODIFIED:20260106T171406Z
UID:10001279-1895853600-1895864400@cal.everettcommunity.org
SUMMARY:Tabletop Game Group
DESCRIPTION:Join a friendly group for board games\, card games\, and party games. All games are provided\, but feel free to bring your own. All comfort levels are welcome. Ages 21+
URL:https://cal.everettcommunity.org/event/tabletop-game-night/2030-01-28/
LOCATION:The Irishmen\, 2923 Colby Ave\, Everett\, 98201\, United States
CATEGORIES:Gaming
ATTACH;FMTTYPE=image/jpeg:https://cal.everettcommunity.org/wp-content/uploads/2026/01/table.jpg
END:VEVENT
BEGIN:VEVENT
DTSTART;TZID=America/Los_Angeles:20300204T180000
DTEND;TZID=America/Los_Angeles:20300204T210000
DTSTAMP:20260422T043020
CREATED:20260106T171309Z
LAST-MODIFIED:20260106T171406Z
UID:10001280-1896458400-1896469200@cal.everettcommunity.org
SUMMARY:Tabletop Game Group
DESCRIPTION:Join a friendly group for board games\, card games\, and party games. All games are provided\, but feel free to bring your own. All comfort levels are welcome. Ages 21+
URL:https://cal.everettcommunity.org/event/tabletop-game-night/2030-02-04/
LOCATION:The Irishmen\, 2923 Colby Ave\, Everett\, 98201\, United States
CATEGORIES:Gaming
ATTACH;FMTTYPE=image/jpeg:https://cal.everettcommunity.org/wp-content/uploads/2026/01/table.jpg
END:VEVENT
BEGIN:VEVENT
DTSTART;TZID=America/Los_Angeles:20300211T180000
DTEND;TZID=America/Los_Angeles:20300211T210000
DTSTAMP:20260422T043020
CREATED:20260106T171309Z
LAST-MODIFIED:20260106T171406Z
UID:10001281-1897063200-1897074000@cal.everettcommunity.org
SUMMARY:Tabletop Game Group
DESCRIPTION:Join a friendly group for board games\, card games\, and party games. All games are provided\, but feel free to bring your own. All comfort levels are welcome. Ages 21+
URL:https://cal.everettcommunity.org/event/tabletop-game-night/2030-02-11/
LOCATION:The Irishmen\, 2923 Colby Ave\, Everett\, 98201\, United States
CATEGORIES:Gaming
ATTACH;FMTTYPE=image/jpeg:https://cal.everettcommunity.org/wp-content/uploads/2026/01/table.jpg
END:VEVENT
BEGIN:VEVENT
DTSTART;TZID=America/Los_Angeles:20300218T180000
DTEND;TZID=America/Los_Angeles:20300218T210000
DTSTAMP:20260422T043020
CREATED:20260106T171309Z
LAST-MODIFIED:20260106T171406Z
UID:10001282-1897668000-1897678800@cal.everettcommunity.org
SUMMARY:Tabletop Game Group
DESCRIPTION:Join a friendly group for board games\, card games\, and party games. All games are provided\, but feel free to bring your own. All comfort levels are welcome. Ages 21+
URL:https://cal.everettcommunity.org/event/tabletop-game-night/2030-02-18/
LOCATION:The Irishmen\, 2923 Colby Ave\, Everett\, 98201\, United States
CATEGORIES:Gaming
ATTACH;FMTTYPE=image/jpeg:https://cal.everettcommunity.org/wp-content/uploads/2026/01/table.jpg
END:VEVENT
BEGIN:VEVENT
DTSTART;TZID=America/Los_Angeles:20300225T180000
DTEND;TZID=America/Los_Angeles:20300225T210000
DTSTAMP:20260422T043020
CREATED:20260106T171309Z
LAST-MODIFIED:20260106T171406Z
UID:10001283-1898272800-1898283600@cal.everettcommunity.org
SUMMARY:Tabletop Game Group
DESCRIPTION:Join a friendly group for board games\, card games\, and party games. All games are provided\, but feel free to bring your own. All comfort levels are welcome. Ages 21+
URL:https://cal.everettcommunity.org/event/tabletop-game-night/2030-02-25/
LOCATION:The Irishmen\, 2923 Colby Ave\, Everett\, 98201\, United States
CATEGORIES:Gaming
ATTACH;FMTTYPE=image/jpeg:https://cal.everettcommunity.org/wp-content/uploads/2026/01/table.jpg
END:VEVENT
BEGIN:VEVENT
DTSTART;TZID=America/Los_Angeles:20300304T180000
DTEND;TZID=America/Los_Angeles:20300304T210000
DTSTAMP:20260422T043020
CREATED:20260106T171309Z
LAST-MODIFIED:20260106T171406Z
UID:10001284-1898877600-1898888400@cal.everettcommunity.org
SUMMARY:Tabletop Game Group
DESCRIPTION:Join a friendly group for board games\, card games\, and party games. All games are provided\, but feel free to bring your own. All comfort levels are welcome. Ages 21+
URL:https://cal.everettcommunity.org/event/tabletop-game-night/2030-03-04/
LOCATION:The Irishmen\, 2923 Colby Ave\, Everett\, 98201\, United States
CATEGORIES:Gaming
ATTACH;FMTTYPE=image/jpeg:https://cal.everettcommunity.org/wp-content/uploads/2026/01/table.jpg
END:VEVENT
BEGIN:VEVENT
DTSTART;TZID=America/Los_Angeles:20300311T180000
DTEND;TZID=America/Los_Angeles:20300311T210000
DTSTAMP:20260422T043020
CREATED:20260106T171309Z
LAST-MODIFIED:20260106T171406Z
UID:10001285-1899482400-1899493200@cal.everettcommunity.org
SUMMARY:Tabletop Game Group
DESCRIPTION:Join a friendly group for board games\, card games\, and party games. All games are provided\, but feel free to bring your own. All comfort levels are welcome. Ages 21+
URL:https://cal.everettcommunity.org/event/tabletop-game-night/2030-03-11/
LOCATION:The Irishmen\, 2923 Colby Ave\, Everett\, 98201\, United States
CATEGORIES:Gaming
ATTACH;FMTTYPE=image/jpeg:https://cal.everettcommunity.org/wp-content/uploads/2026/01/table.jpg
END:VEVENT
BEGIN:VEVENT
DTSTART;TZID=America/Los_Angeles:20300318T180000
DTEND;TZID=America/Los_Angeles:20300318T210000
DTSTAMP:20260422T043020
CREATED:20260106T171309Z
LAST-MODIFIED:20260106T171406Z
UID:10001286-1900087200-1900098000@cal.everettcommunity.org
SUMMARY:Tabletop Game Group
DESCRIPTION:Join a friendly group for board games\, card games\, and party games. All games are provided\, but feel free to bring your own. All comfort levels are welcome. Ages 21+
URL:https://cal.everettcommunity.org/event/tabletop-game-night/2030-03-18/
LOCATION:The Irishmen\, 2923 Colby Ave\, Everett\, 98201\, United States
CATEGORIES:Gaming
ATTACH;FMTTYPE=image/jpeg:https://cal.everettcommunity.org/wp-content/uploads/2026/01/table.jpg
END:VEVENT
BEGIN:VEVENT
DTSTART;TZID=America/Los_Angeles:20300325T180000
DTEND;TZID=America/Los_Angeles:20300325T210000
DTSTAMP:20260422T043020
CREATED:20260106T171309Z
LAST-MODIFIED:20260106T171406Z
UID:10001287-1900692000-1900702800@cal.everettcommunity.org
SUMMARY:Tabletop Game Group
DESCRIPTION:Join a friendly group for board games\, card games\, and party games. All games are provided\, but feel free to bring your own. All comfort levels are welcome. Ages 21+
URL:https://cal.everettcommunity.org/event/tabletop-game-night/2030-03-25/
LOCATION:The Irishmen\, 2923 Colby Ave\, Everett\, 98201\, United States
CATEGORIES:Gaming
ATTACH;FMTTYPE=image/jpeg:https://cal.everettcommunity.org/wp-content/uploads/2026/01/table.jpg
END:VEVENT
BEGIN:VEVENT
DTSTART;TZID=America/Los_Angeles:20300401T180000
DTEND;TZID=America/Los_Angeles:20300401T210000
DTSTAMP:20260422T043020
CREATED:20260106T171309Z
LAST-MODIFIED:20260106T171406Z
UID:10001288-1901296800-1901307600@cal.everettcommunity.org
SUMMARY:Tabletop Game Group
DESCRIPTION:Join a friendly group for board games\, card games\, and party games. All games are provided\, but feel free to bring your own. All comfort levels are welcome. Ages 21+
URL:https://cal.everettcommunity.org/event/tabletop-game-night/2030-04-01/
LOCATION:The Irishmen\, 2923 Colby Ave\, Everett\, 98201\, United States
CATEGORIES:Gaming
ATTACH;FMTTYPE=image/jpeg:https://cal.everettcommunity.org/wp-content/uploads/2026/01/table.jpg
END:VEVENT
BEGIN:VEVENT
DTSTART;TZID=America/Los_Angeles:20300408T180000
DTEND;TZID=America/Los_Angeles:20300408T210000
DTSTAMP:20260422T043020
CREATED:20260106T171309Z
LAST-MODIFIED:20260106T171406Z
UID:10001289-1901901600-1901912400@cal.everettcommunity.org
SUMMARY:Tabletop Game Group
DESCRIPTION:Join a friendly group for board games\, card games\, and party games. All games are provided\, but feel free to bring your own. All comfort levels are welcome. Ages 21+
URL:https://cal.everettcommunity.org/event/tabletop-game-night/2030-04-08/
LOCATION:The Irishmen\, 2923 Colby Ave\, Everett\, 98201\, United States
CATEGORIES:Gaming
ATTACH;FMTTYPE=image/jpeg:https://cal.everettcommunity.org/wp-content/uploads/2026/01/table.jpg
END:VEVENT
BEGIN:VEVENT
DTSTART;TZID=America/Los_Angeles:20300415T180000
DTEND;TZID=America/Los_Angeles:20300415T210000
DTSTAMP:20260422T043020
CREATED:20260106T171309Z
LAST-MODIFIED:20260106T171406Z
UID:10001290-1902506400-1902517200@cal.everettcommunity.org
SUMMARY:Tabletop Game Group
DESCRIPTION:Join a friendly group for board games\, card games\, and party games. All games are provided\, but feel free to bring your own. All comfort levels are welcome. Ages 21+
URL:https://cal.everettcommunity.org/event/tabletop-game-night/2030-04-15/
LOCATION:The Irishmen\, 2923 Colby Ave\, Everett\, 98201\, United States
CATEGORIES:Gaming
ATTACH;FMTTYPE=image/jpeg:https://cal.everettcommunity.org/wp-content/uploads/2026/01/table.jpg
END:VEVENT
BEGIN:VEVENT
DTSTART;TZID=America/Los_Angeles:20300422T180000
DTEND;TZID=America/Los_Angeles:20300422T210000
DTSTAMP:20260422T043020
CREATED:20260106T171309Z
LAST-MODIFIED:20260106T171406Z
UID:10001291-1903111200-1903122000@cal.everettcommunity.org
SUMMARY:Tabletop Game Group
DESCRIPTION:Join a friendly group for board games\, card games\, and party games. All games are provided\, but feel free to bring your own. All comfort levels are welcome. Ages 21+
URL:https://cal.everettcommunity.org/event/tabletop-game-night/2030-04-22/
LOCATION:The Irishmen\, 2923 Colby Ave\, Everett\, 98201\, United States
CATEGORIES:Gaming
ATTACH;FMTTYPE=image/jpeg:https://cal.everettcommunity.org/wp-content/uploads/2026/01/table.jpg
END:VEVENT
BEGIN:VEVENT
DTSTART;TZID=America/Los_Angeles:20300429T180000
DTEND;TZID=America/Los_Angeles:20300429T210000
DTSTAMP:20260422T043020
CREATED:20260106T171309Z
LAST-MODIFIED:20260106T171406Z
UID:10001292-1903716000-1903726800@cal.everettcommunity.org
SUMMARY:Tabletop Game Group
DESCRIPTION:Join a friendly group for board games\, card games\, and party games. All games are provided\, but feel free to bring your own. All comfort levels are welcome. Ages 21+
URL:https://cal.everettcommunity.org/event/tabletop-game-night/2030-04-29/
LOCATION:The Irishmen\, 2923 Colby Ave\, Everett\, 98201\, United States
CATEGORIES:Gaming
ATTACH;FMTTYPE=image/jpeg:https://cal.everettcommunity.org/wp-content/uploads/2026/01/table.jpg
END:VEVENT
BEGIN:VEVENT
DTSTART;TZID=America/Los_Angeles:20300506T180000
DTEND;TZID=America/Los_Angeles:20300506T210000
DTSTAMP:20260422T043020
CREATED:20260106T171309Z
LAST-MODIFIED:20260106T171406Z
UID:10001293-1904320800-1904331600@cal.everettcommunity.org
SUMMARY:Tabletop Game Group
DESCRIPTION:Join a friendly group for board games\, card games\, and party games. All games are provided\, but feel free to bring your own. All comfort levels are welcome. Ages 21+
URL:https://cal.everettcommunity.org/event/tabletop-game-night/2030-05-06/
LOCATION:The Irishmen\, 2923 Colby Ave\, Everett\, 98201\, United States
CATEGORIES:Gaming
ATTACH;FMTTYPE=image/jpeg:https://cal.everettcommunity.org/wp-content/uploads/2026/01/table.jpg
END:VEVENT
BEGIN:VEVENT
DTSTART;TZID=America/Los_Angeles:20300513T180000
DTEND;TZID=America/Los_Angeles:20300513T210000
DTSTAMP:20260422T043020
CREATED:20260106T171309Z
LAST-MODIFIED:20260106T171406Z
UID:10001294-1904925600-1904936400@cal.everettcommunity.org
SUMMARY:Tabletop Game Group
DESCRIPTION:Join a friendly group for board games\, card games\, and party games. All games are provided\, but feel free to bring your own. All comfort levels are welcome. Ages 21+
URL:https://cal.everettcommunity.org/event/tabletop-game-night/2030-05-13/
LOCATION:The Irishmen\, 2923 Colby Ave\, Everett\, 98201\, United States
CATEGORIES:Gaming
ATTACH;FMTTYPE=image/jpeg:https://cal.everettcommunity.org/wp-content/uploads/2026/01/table.jpg
END:VEVENT
BEGIN:VEVENT
DTSTART;TZID=America/Los_Angeles:20300520T180000
DTEND;TZID=America/Los_Angeles:20300520T210000
DTSTAMP:20260422T043020
CREATED:20260106T171309Z
LAST-MODIFIED:20260106T171406Z
UID:10001295-1905530400-1905541200@cal.everettcommunity.org
SUMMARY:Tabletop Game Group
DESCRIPTION:Join a friendly group for board games\, card games\, and party games. All games are provided\, but feel free to bring your own. All comfort levels are welcome. Ages 21+
URL:https://cal.everettcommunity.org/event/tabletop-game-night/2030-05-20/
LOCATION:The Irishmen\, 2923 Colby Ave\, Everett\, 98201\, United States
CATEGORIES:Gaming
ATTACH;FMTTYPE=image/jpeg:https://cal.everettcommunity.org/wp-content/uploads/2026/01/table.jpg
END:VEVENT
BEGIN:VEVENT
DTSTART;TZID=America/Los_Angeles:20300527T180000
DTEND;TZID=America/Los_Angeles:20300527T210000
DTSTAMP:20260422T043020
CREATED:20260106T171309Z
LAST-MODIFIED:20260106T171406Z
UID:10001296-1906135200-1906146000@cal.everettcommunity.org
SUMMARY:Tabletop Game Group
DESCRIPTION:Join a friendly group for board games\, card games\, and party games. All games are provided\, but feel free to bring your own. All comfort levels are welcome. Ages 21+
URL:https://cal.everettcommunity.org/event/tabletop-game-night/2030-05-27/
LOCATION:The Irishmen\, 2923 Colby Ave\, Everett\, 98201\, United States
CATEGORIES:Gaming
ATTACH;FMTTYPE=image/jpeg:https://cal.everettcommunity.org/wp-content/uploads/2026/01/table.jpg
END:VEVENT
BEGIN:VEVENT
DTSTART;TZID=America/Los_Angeles:20300603T180000
DTEND;TZID=America/Los_Angeles:20300603T210000
DTSTAMP:20260422T043020
CREATED:20260106T171309Z
LAST-MODIFIED:20260106T171406Z
UID:10001297-1906740000-1906750800@cal.everettcommunity.org
SUMMARY:Tabletop Game Group
DESCRIPTION:Join a friendly group for board games\, card games\, and party games. All games are provided\, but feel free to bring your own. All comfort levels are welcome. Ages 21+
URL:https://cal.everettcommunity.org/event/tabletop-game-night/2030-06-03/
LOCATION:The Irishmen\, 2923 Colby Ave\, Everett\, 98201\, United States
CATEGORIES:Gaming
ATTACH;FMTTYPE=image/jpeg:https://cal.everettcommunity.org/wp-content/uploads/2026/01/table.jpg
END:VEVENT
BEGIN:VEVENT
DTSTART;TZID=America/Los_Angeles:20300610T180000
DTEND;TZID=America/Los_Angeles:20300610T210000
DTSTAMP:20260422T043020
CREATED:20260106T171309Z
LAST-MODIFIED:20260106T171406Z
UID:10001298-1907344800-1907355600@cal.everettcommunity.org
SUMMARY:Tabletop Game Group
DESCRIPTION:Join a friendly group for board games\, card games\, and party games. All games are provided\, but feel free to bring your own. All comfort levels are welcome. Ages 21+
URL:https://cal.everettcommunity.org/event/tabletop-game-night/2030-06-10/
LOCATION:The Irishmen\, 2923 Colby Ave\, Everett\, 98201\, United States
CATEGORIES:Gaming
ATTACH;FMTTYPE=image/jpeg:https://cal.everettcommunity.org/wp-content/uploads/2026/01/table.jpg
END:VEVENT
BEGIN:VEVENT
DTSTART;TZID=America/Los_Angeles:20300617T180000
DTEND;TZID=America/Los_Angeles:20300617T210000
DTSTAMP:20260422T043020
CREATED:20260106T171309Z
LAST-MODIFIED:20260106T171406Z
UID:10001299-1907949600-1907960400@cal.everettcommunity.org
SUMMARY:Tabletop Game Group
DESCRIPTION:Join a friendly group for board games\, card games\, and party games. All games are provided\, but feel free to bring your own. All comfort levels are welcome. Ages 21+
URL:https://cal.everettcommunity.org/event/tabletop-game-night/2030-06-17/
LOCATION:The Irishmen\, 2923 Colby Ave\, Everett\, 98201\, United States
CATEGORIES:Gaming
ATTACH;FMTTYPE=image/jpeg:https://cal.everettcommunity.org/wp-content/uploads/2026/01/table.jpg
END:VEVENT
BEGIN:VEVENT
DTSTART;TZID=America/Los_Angeles:20300624T180000
DTEND;TZID=America/Los_Angeles:20300624T210000
DTSTAMP:20260422T043020
CREATED:20260106T171309Z
LAST-MODIFIED:20260106T171406Z
UID:10001300-1908554400-1908565200@cal.everettcommunity.org
SUMMARY:Tabletop Game Group
DESCRIPTION:Join a friendly group for board games\, card games\, and party games. All games are provided\, but feel free to bring your own. All comfort levels are welcome. Ages 21+
URL:https://cal.everettcommunity.org/event/tabletop-game-night/2030-06-24/
LOCATION:The Irishmen\, 2923 Colby Ave\, Everett\, 98201\, United States
CATEGORIES:Gaming
ATTACH;FMTTYPE=image/jpeg:https://cal.everettcommunity.org/wp-content/uploads/2026/01/table.jpg
END:VEVENT
BEGIN:VEVENT
DTSTART;TZID=America/Los_Angeles:20300701T180000
DTEND;TZID=America/Los_Angeles:20300701T210000
DTSTAMP:20260422T043020
CREATED:20260106T171309Z
LAST-MODIFIED:20260106T171406Z
UID:10001301-1909159200-1909170000@cal.everettcommunity.org
SUMMARY:Tabletop Game Group
DESCRIPTION:Join a friendly group for board games\, card games\, and party games. All games are provided\, but feel free to bring your own. All comfort levels are welcome. Ages 21+
URL:https://cal.everettcommunity.org/event/tabletop-game-night/2030-07-01/
LOCATION:The Irishmen\, 2923 Colby Ave\, Everett\, 98201\, United States
CATEGORIES:Gaming
ATTACH;FMTTYPE=image/jpeg:https://cal.everettcommunity.org/wp-content/uploads/2026/01/table.jpg
END:VEVENT
END:VCALENDAR