BEGIN:VCALENDAR
VERSION:2.0
PRODID:-//Everett Community - ECPv6.15.20//NONSGML v1.0//EN
CALSCALE:GREGORIAN
METHOD:PUBLISH
X-ORIGINAL-URL:https://cal.everettcommunity.org
X-WR-CALDESC:Events for Everett Community
REFRESH-INTERVAL;VALUE=DURATION:PT1H
X-Robots-Tag:noindex
X-PUBLISHED-TTL:PT1H
BEGIN:VTIMEZONE
TZID:America/Los_Angeles
BEGIN:DAYLIGHT
TZOFFSETFROM:-0800
TZOFFSETTO:-0700
TZNAME:PDT
DTSTART:20250309T100000
END:DAYLIGHT
BEGIN:STANDARD
TZOFFSETFROM:-0700
TZOFFSETTO:-0800
TZNAME:PST
DTSTART:20251102T090000
END:STANDARD
BEGIN:DAYLIGHT
TZOFFSETFROM:-0800
TZOFFSETTO:-0700
TZNAME:PDT
DTSTART:20260308T100000
END:DAYLIGHT
BEGIN:STANDARD
TZOFFSETFROM:-0700
TZOFFSETTO:-0800
TZNAME:PST
DTSTART:20261101T090000
END:STANDARD
BEGIN:DAYLIGHT
TZOFFSETFROM:-0800
TZOFFSETTO:-0700
TZNAME:PDT
DTSTART:20270314T100000
END:DAYLIGHT
BEGIN:STANDARD
TZOFFSETFROM:-0700
TZOFFSETTO:-0800
TZNAME:PST
DTSTART:20271107T090000
END:STANDARD
END:VTIMEZONE
BEGIN:VEVENT
DTSTART;TZID=America/Los_Angeles:20260712T103000
DTEND;TZID=America/Los_Angeles:20260712T150000
DTSTAMP:20260419T193902
CREATED:20251231T083720Z
LAST-MODIFIED:20260307T075447Z
UID:10000989-1783852200-1783868400@cal.everettcommunity.org
SUMMARY:Everett Farmers Market
DESCRIPTION:The Everett Farmers Market is located on Wetmore Ave between Hewitt and Pacific\, from 10:30am to 3:00pm on Sundays.
URL:https://cal.everettcommunity.org/event/everett-farmers-market/2026-07-12/
LOCATION:WA
CATEGORIES:Food & Drink
ATTACH;FMTTYPE=image/jpeg:https://cal.everettcommunity.org/wp-content/uploads/2025/12/farmers-mkt.jpg
ORGANIZER;CN="Everett Farmers Market":MAILTO:everettfarmersmarket@gmail.com
END:VEVENT
BEGIN:VEVENT
DTSTART;TZID=America/Los_Angeles:20260718T100000
DTEND;TZID=America/Los_Angeles:20260718T120000
DTSTAMP:20260419T193902
CREATED:20260223T191403Z
LAST-MODIFIED:20260301T082630Z
UID:10001956-1784368800-1784376000@cal.everettcommunity.org
SUMMARY:SnoCo LGBTQI+ Meetup
DESCRIPTION:We are an inclusive social group for LGBTQI+ individuals of all ages in Snohomish County\, Washington. Join us for a free morning meetup at Butter Notes Cafe.
URL:https://cal.everettcommunity.org/event/snoco-lgbtqi-meetup/2026-07-18/
LOCATION:Butter Notes Cafe\, 902 N Broadway\, Unit B\, Everett\, WA\, 98201\, United States
CATEGORIES:Charity & Causes,Food & Drink
ATTACH;FMTTYPE=image/jpeg:https://cal.everettcommunity.org/wp-content/uploads/2026/02/lgbt.jpg
END:VEVENT
BEGIN:VEVENT
DTSTART;TZID=America/Los_Angeles:20260719T103000
DTEND;TZID=America/Los_Angeles:20260719T150000
DTSTAMP:20260419T193902
CREATED:20251231T083720Z
LAST-MODIFIED:20260307T075447Z
UID:10000990-1784457000-1784473200@cal.everettcommunity.org
SUMMARY:Everett Farmers Market
DESCRIPTION:The Everett Farmers Market is located on Wetmore Ave between Hewitt and Pacific\, from 10:30am to 3:00pm on Sundays.
URL:https://cal.everettcommunity.org/event/everett-farmers-market/2026-07-19/
LOCATION:WA
CATEGORIES:Food & Drink
ATTACH;FMTTYPE=image/jpeg:https://cal.everettcommunity.org/wp-content/uploads/2025/12/farmers-mkt.jpg
ORGANIZER;CN="Everett Farmers Market":MAILTO:everettfarmersmarket@gmail.com
END:VEVENT
BEGIN:VEVENT
DTSTART;TZID=America/Los_Angeles:20260725T100000
DTEND;TZID=America/Los_Angeles:20260725T120000
DTSTAMP:20260419T193902
CREATED:20260223T191403Z
LAST-MODIFIED:20260301T082630Z
UID:10001957-1784973600-1784980800@cal.everettcommunity.org
SUMMARY:SnoCo LGBTQI+ Meetup
DESCRIPTION:We are an inclusive social group for LGBTQI+ individuals of all ages in Snohomish County\, Washington. Join us for a free morning meetup at Butter Notes Cafe.
URL:https://cal.everettcommunity.org/event/snoco-lgbtqi-meetup/2026-07-25/
LOCATION:Butter Notes Cafe\, 902 N Broadway\, Unit B\, Everett\, WA\, 98201\, United States
CATEGORIES:Charity & Causes,Food & Drink
ATTACH;FMTTYPE=image/jpeg:https://cal.everettcommunity.org/wp-content/uploads/2026/02/lgbt.jpg
END:VEVENT
BEGIN:VEVENT
DTSTART;TZID=America/Los_Angeles:20260726T103000
DTEND;TZID=America/Los_Angeles:20260726T150000
DTSTAMP:20260419T193902
CREATED:20251231T083720Z
LAST-MODIFIED:20260307T075447Z
UID:10000991-1785061800-1785078000@cal.everettcommunity.org
SUMMARY:Everett Farmers Market
DESCRIPTION:The Everett Farmers Market is located on Wetmore Ave between Hewitt and Pacific\, from 10:30am to 3:00pm on Sundays.
URL:https://cal.everettcommunity.org/event/everett-farmers-market/2026-07-26/
LOCATION:WA
CATEGORIES:Food & Drink
ATTACH;FMTTYPE=image/jpeg:https://cal.everettcommunity.org/wp-content/uploads/2025/12/farmers-mkt.jpg
ORGANIZER;CN="Everett Farmers Market":MAILTO:everettfarmersmarket@gmail.com
END:VEVENT
BEGIN:VEVENT
DTSTART;TZID=America/Los_Angeles:20260801T100000
DTEND;TZID=America/Los_Angeles:20260801T120000
DTSTAMP:20260419T193902
CREATED:20260223T191403Z
LAST-MODIFIED:20260301T082630Z
UID:10001958-1785578400-1785585600@cal.everettcommunity.org
SUMMARY:SnoCo LGBTQI+ Meetup
DESCRIPTION:We are an inclusive social group for LGBTQI+ individuals of all ages in Snohomish County\, Washington. Join us for a free morning meetup at Butter Notes Cafe.
URL:https://cal.everettcommunity.org/event/snoco-lgbtqi-meetup/2026-08-01/
LOCATION:Butter Notes Cafe\, 902 N Broadway\, Unit B\, Everett\, WA\, 98201\, United States
CATEGORIES:Charity & Causes,Food & Drink
ATTACH;FMTTYPE=image/jpeg:https://cal.everettcommunity.org/wp-content/uploads/2026/02/lgbt.jpg
END:VEVENT
BEGIN:VEVENT
DTSTART;TZID=America/Los_Angeles:20260802T103000
DTEND;TZID=America/Los_Angeles:20260802T150000
DTSTAMP:20260419T193902
CREATED:20251231T083720Z
LAST-MODIFIED:20260307T075447Z
UID:10000992-1785666600-1785682800@cal.everettcommunity.org
SUMMARY:Everett Farmers Market
DESCRIPTION:The Everett Farmers Market is located on Wetmore Ave between Hewitt and Pacific\, from 10:30am to 3:00pm on Sundays.
URL:https://cal.everettcommunity.org/event/everett-farmers-market/2026-08-02/
LOCATION:WA
CATEGORIES:Food & Drink
ATTACH;FMTTYPE=image/jpeg:https://cal.everettcommunity.org/wp-content/uploads/2025/12/farmers-mkt.jpg
ORGANIZER;CN="Everett Farmers Market":MAILTO:everettfarmersmarket@gmail.com
END:VEVENT
BEGIN:VEVENT
DTSTART;TZID=America/Los_Angeles:20260808T100000
DTEND;TZID=America/Los_Angeles:20260808T120000
DTSTAMP:20260419T193902
CREATED:20260223T191403Z
LAST-MODIFIED:20260301T082630Z
UID:10001959-1786183200-1786190400@cal.everettcommunity.org
SUMMARY:SnoCo LGBTQI+ Meetup
DESCRIPTION:We are an inclusive social group for LGBTQI+ individuals of all ages in Snohomish County\, Washington. Join us for a free morning meetup at Butter Notes Cafe.
URL:https://cal.everettcommunity.org/event/snoco-lgbtqi-meetup/2026-08-08/
LOCATION:Butter Notes Cafe\, 902 N Broadway\, Unit B\, Everett\, WA\, 98201\, United States
CATEGORIES:Charity & Causes,Food & Drink
ATTACH;FMTTYPE=image/jpeg:https://cal.everettcommunity.org/wp-content/uploads/2026/02/lgbt.jpg
END:VEVENT
BEGIN:VEVENT
DTSTART;TZID=America/Los_Angeles:20260809T103000
DTEND;TZID=America/Los_Angeles:20260809T150000
DTSTAMP:20260419T193902
CREATED:20251231T083720Z
LAST-MODIFIED:20260307T075447Z
UID:10000993-1786271400-1786287600@cal.everettcommunity.org
SUMMARY:Everett Farmers Market
DESCRIPTION:The Everett Farmers Market is located on Wetmore Ave between Hewitt and Pacific\, from 10:30am to 3:00pm on Sundays.
URL:https://cal.everettcommunity.org/event/everett-farmers-market/2026-08-09/
LOCATION:WA
CATEGORIES:Food & Drink
ATTACH;FMTTYPE=image/jpeg:https://cal.everettcommunity.org/wp-content/uploads/2025/12/farmers-mkt.jpg
ORGANIZER;CN="Everett Farmers Market":MAILTO:everettfarmersmarket@gmail.com
END:VEVENT
BEGIN:VEVENT
DTSTART;TZID=America/Los_Angeles:20260815T100000
DTEND;TZID=America/Los_Angeles:20260815T120000
DTSTAMP:20260419T193902
CREATED:20260223T191403Z
LAST-MODIFIED:20260301T082630Z
UID:10001960-1786788000-1786795200@cal.everettcommunity.org
SUMMARY:SnoCo LGBTQI+ Meetup
DESCRIPTION:We are an inclusive social group for LGBTQI+ individuals of all ages in Snohomish County\, Washington. Join us for a free morning meetup at Butter Notes Cafe.
URL:https://cal.everettcommunity.org/event/snoco-lgbtqi-meetup/2026-08-15/
LOCATION:Butter Notes Cafe\, 902 N Broadway\, Unit B\, Everett\, WA\, 98201\, United States
CATEGORIES:Charity & Causes,Food & Drink
ATTACH;FMTTYPE=image/jpeg:https://cal.everettcommunity.org/wp-content/uploads/2026/02/lgbt.jpg
END:VEVENT
BEGIN:VEVENT
DTSTART;TZID=America/Los_Angeles:20260816T103000
DTEND;TZID=America/Los_Angeles:20260816T150000
DTSTAMP:20260419T193902
CREATED:20251231T083720Z
LAST-MODIFIED:20260307T075447Z
UID:10000994-1786876200-1786892400@cal.everettcommunity.org
SUMMARY:Everett Farmers Market
DESCRIPTION:The Everett Farmers Market is located on Wetmore Ave between Hewitt and Pacific\, from 10:30am to 3:00pm on Sundays.
URL:https://cal.everettcommunity.org/event/everett-farmers-market/2026-08-16/
LOCATION:WA
CATEGORIES:Food & Drink
ATTACH;FMTTYPE=image/jpeg:https://cal.everettcommunity.org/wp-content/uploads/2025/12/farmers-mkt.jpg
ORGANIZER;CN="Everett Farmers Market":MAILTO:everettfarmersmarket@gmail.com
END:VEVENT
BEGIN:VEVENT
DTSTART;TZID=America/Los_Angeles:20260822T100000
DTEND;TZID=America/Los_Angeles:20260822T120000
DTSTAMP:20260419T193902
CREATED:20260223T191403Z
LAST-MODIFIED:20260301T082630Z
UID:10001961-1787392800-1787400000@cal.everettcommunity.org
SUMMARY:SnoCo LGBTQI+ Meetup
DESCRIPTION:We are an inclusive social group for LGBTQI+ individuals of all ages in Snohomish County\, Washington. Join us for a free morning meetup at Butter Notes Cafe.
URL:https://cal.everettcommunity.org/event/snoco-lgbtqi-meetup/2026-08-22/
LOCATION:Butter Notes Cafe\, 902 N Broadway\, Unit B\, Everett\, WA\, 98201\, United States
CATEGORIES:Charity & Causes,Food & Drink
ATTACH;FMTTYPE=image/jpeg:https://cal.everettcommunity.org/wp-content/uploads/2026/02/lgbt.jpg
END:VEVENT
BEGIN:VEVENT
DTSTART;TZID=America/Los_Angeles:20260823T103000
DTEND;TZID=America/Los_Angeles:20260823T150000
DTSTAMP:20260419T193902
CREATED:20251231T083720Z
LAST-MODIFIED:20260307T075447Z
UID:10000995-1787481000-1787497200@cal.everettcommunity.org
SUMMARY:Everett Farmers Market
DESCRIPTION:The Everett Farmers Market is located on Wetmore Ave between Hewitt and Pacific\, from 10:30am to 3:00pm on Sundays.
URL:https://cal.everettcommunity.org/event/everett-farmers-market/2026-08-23/
LOCATION:WA
CATEGORIES:Food & Drink
ATTACH;FMTTYPE=image/jpeg:https://cal.everettcommunity.org/wp-content/uploads/2025/12/farmers-mkt.jpg
ORGANIZER;CN="Everett Farmers Market":MAILTO:everettfarmersmarket@gmail.com
END:VEVENT
BEGIN:VEVENT
DTSTART;TZID=America/Los_Angeles:20260829T100000
DTEND;TZID=America/Los_Angeles:20260829T120000
DTSTAMP:20260419T193902
CREATED:20260223T191403Z
LAST-MODIFIED:20260301T082630Z
UID:10001962-1787997600-1788004800@cal.everettcommunity.org
SUMMARY:SnoCo LGBTQI+ Meetup
DESCRIPTION:We are an inclusive social group for LGBTQI+ individuals of all ages in Snohomish County\, Washington. Join us for a free morning meetup at Butter Notes Cafe.
URL:https://cal.everettcommunity.org/event/snoco-lgbtqi-meetup/2026-08-29/
LOCATION:Butter Notes Cafe\, 902 N Broadway\, Unit B\, Everett\, WA\, 98201\, United States
CATEGORIES:Charity & Causes,Food & Drink
ATTACH;FMTTYPE=image/jpeg:https://cal.everettcommunity.org/wp-content/uploads/2026/02/lgbt.jpg
END:VEVENT
BEGIN:VEVENT
DTSTART;TZID=America/Los_Angeles:20260830T103000
DTEND;TZID=America/Los_Angeles:20260830T150000
DTSTAMP:20260419T193902
CREATED:20251231T083720Z
LAST-MODIFIED:20260307T075447Z
UID:10000996-1788085800-1788102000@cal.everettcommunity.org
SUMMARY:Everett Farmers Market
DESCRIPTION:The Everett Farmers Market is located on Wetmore Ave between Hewitt and Pacific\, from 10:30am to 3:00pm on Sundays.
URL:https://cal.everettcommunity.org/event/everett-farmers-market/2026-08-30/
LOCATION:WA
CATEGORIES:Food & Drink
ATTACH;FMTTYPE=image/jpeg:https://cal.everettcommunity.org/wp-content/uploads/2025/12/farmers-mkt.jpg
ORGANIZER;CN="Everett Farmers Market":MAILTO:everettfarmersmarket@gmail.com
END:VEVENT
BEGIN:VEVENT
DTSTART;TZID=America/Los_Angeles:20260905T100000
DTEND;TZID=America/Los_Angeles:20260905T120000
DTSTAMP:20260419T193902
CREATED:20260223T191403Z
LAST-MODIFIED:20260301T082630Z
UID:10001963-1788602400-1788609600@cal.everettcommunity.org
SUMMARY:SnoCo LGBTQI+ Meetup
DESCRIPTION:We are an inclusive social group for LGBTQI+ individuals of all ages in Snohomish County\, Washington. Join us for a free morning meetup at Butter Notes Cafe.
URL:https://cal.everettcommunity.org/event/snoco-lgbtqi-meetup/2026-09-05/
LOCATION:Butter Notes Cafe\, 902 N Broadway\, Unit B\, Everett\, WA\, 98201\, United States
CATEGORIES:Charity & Causes,Food & Drink
ATTACH;FMTTYPE=image/jpeg:https://cal.everettcommunity.org/wp-content/uploads/2026/02/lgbt.jpg
END:VEVENT
BEGIN:VEVENT
DTSTART;TZID=America/Los_Angeles:20260906T103000
DTEND;TZID=America/Los_Angeles:20260906T150000
DTSTAMP:20260419T193902
CREATED:20251231T083720Z
LAST-MODIFIED:20260307T075447Z
UID:10000997-1788690600-1788706800@cal.everettcommunity.org
SUMMARY:Everett Farmers Market
DESCRIPTION:The Everett Farmers Market is located on Wetmore Ave between Hewitt and Pacific\, from 10:30am to 3:00pm on Sundays.
URL:https://cal.everettcommunity.org/event/everett-farmers-market/2026-09-06/
LOCATION:WA
CATEGORIES:Food & Drink
ATTACH;FMTTYPE=image/jpeg:https://cal.everettcommunity.org/wp-content/uploads/2025/12/farmers-mkt.jpg
ORGANIZER;CN="Everett Farmers Market":MAILTO:everettfarmersmarket@gmail.com
END:VEVENT
BEGIN:VEVENT
DTSTART;TZID=America/Los_Angeles:20260912T100000
DTEND;TZID=America/Los_Angeles:20260912T120000
DTSTAMP:20260419T193902
CREATED:20260223T191403Z
LAST-MODIFIED:20260301T082630Z
UID:10001964-1789207200-1789214400@cal.everettcommunity.org
SUMMARY:SnoCo LGBTQI+ Meetup
DESCRIPTION:We are an inclusive social group for LGBTQI+ individuals of all ages in Snohomish County\, Washington. Join us for a free morning meetup at Butter Notes Cafe.
URL:https://cal.everettcommunity.org/event/snoco-lgbtqi-meetup/2026-09-12/
LOCATION:Butter Notes Cafe\, 902 N Broadway\, Unit B\, Everett\, WA\, 98201\, United States
CATEGORIES:Charity & Causes,Food & Drink
ATTACH;FMTTYPE=image/jpeg:https://cal.everettcommunity.org/wp-content/uploads/2026/02/lgbt.jpg
END:VEVENT
BEGIN:VEVENT
DTSTART;TZID=America/Los_Angeles:20260913T103000
DTEND;TZID=America/Los_Angeles:20260913T150000
DTSTAMP:20260419T193902
CREATED:20251231T083720Z
LAST-MODIFIED:20260307T075447Z
UID:10000998-1789295400-1789311600@cal.everettcommunity.org
SUMMARY:Everett Farmers Market
DESCRIPTION:The Everett Farmers Market is located on Wetmore Ave between Hewitt and Pacific\, from 10:30am to 3:00pm on Sundays.
URL:https://cal.everettcommunity.org/event/everett-farmers-market/2026-09-13/
LOCATION:WA
CATEGORIES:Food & Drink
ATTACH;FMTTYPE=image/jpeg:https://cal.everettcommunity.org/wp-content/uploads/2025/12/farmers-mkt.jpg
ORGANIZER;CN="Everett Farmers Market":MAILTO:everettfarmersmarket@gmail.com
END:VEVENT
BEGIN:VEVENT
DTSTART;TZID=America/Los_Angeles:20260919T100000
DTEND;TZID=America/Los_Angeles:20260919T120000
DTSTAMP:20260419T193902
CREATED:20260223T191403Z
LAST-MODIFIED:20260301T082630Z
UID:10001965-1789812000-1789819200@cal.everettcommunity.org
SUMMARY:SnoCo LGBTQI+ Meetup
DESCRIPTION:We are an inclusive social group for LGBTQI+ individuals of all ages in Snohomish County\, Washington. Join us for a free morning meetup at Butter Notes Cafe.
URL:https://cal.everettcommunity.org/event/snoco-lgbtqi-meetup/2026-09-19/
LOCATION:Butter Notes Cafe\, 902 N Broadway\, Unit B\, Everett\, WA\, 98201\, United States
CATEGORIES:Charity & Causes,Food & Drink
ATTACH;FMTTYPE=image/jpeg:https://cal.everettcommunity.org/wp-content/uploads/2026/02/lgbt.jpg
END:VEVENT
BEGIN:VEVENT
DTSTART;TZID=America/Los_Angeles:20260920T103000
DTEND;TZID=America/Los_Angeles:20260920T150000
DTSTAMP:20260419T193902
CREATED:20251231T083720Z
LAST-MODIFIED:20260307T075447Z
UID:10000999-1789900200-1789916400@cal.everettcommunity.org
SUMMARY:Everett Farmers Market
DESCRIPTION:The Everett Farmers Market is located on Wetmore Ave between Hewitt and Pacific\, from 10:30am to 3:00pm on Sundays.
URL:https://cal.everettcommunity.org/event/everett-farmers-market/2026-09-20/
LOCATION:WA
CATEGORIES:Food & Drink
ATTACH;FMTTYPE=image/jpeg:https://cal.everettcommunity.org/wp-content/uploads/2025/12/farmers-mkt.jpg
ORGANIZER;CN="Everett Farmers Market":MAILTO:everettfarmersmarket@gmail.com
END:VEVENT
BEGIN:VEVENT
DTSTART;TZID=America/Los_Angeles:20260926T100000
DTEND;TZID=America/Los_Angeles:20260926T120000
DTSTAMP:20260419T193902
CREATED:20260223T191403Z
LAST-MODIFIED:20260301T082630Z
UID:10001966-1790416800-1790424000@cal.everettcommunity.org
SUMMARY:SnoCo LGBTQI+ Meetup
DESCRIPTION:We are an inclusive social group for LGBTQI+ individuals of all ages in Snohomish County\, Washington. Join us for a free morning meetup at Butter Notes Cafe.
URL:https://cal.everettcommunity.org/event/snoco-lgbtqi-meetup/2026-09-26/
LOCATION:Butter Notes Cafe\, 902 N Broadway\, Unit B\, Everett\, WA\, 98201\, United States
CATEGORIES:Charity & Causes,Food & Drink
ATTACH;FMTTYPE=image/jpeg:https://cal.everettcommunity.org/wp-content/uploads/2026/02/lgbt.jpg
END:VEVENT
BEGIN:VEVENT
DTSTART;TZID=America/Los_Angeles:20260927T103000
DTEND;TZID=America/Los_Angeles:20260927T150000
DTSTAMP:20260419T193902
CREATED:20251231T083720Z
LAST-MODIFIED:20260307T075447Z
UID:10001000-1790505000-1790521200@cal.everettcommunity.org
SUMMARY:Everett Farmers Market
DESCRIPTION:The Everett Farmers Market is located on Wetmore Ave between Hewitt and Pacific\, from 10:30am to 3:00pm on Sundays.
URL:https://cal.everettcommunity.org/event/everett-farmers-market/2026-09-27/
LOCATION:WA
CATEGORIES:Food & Drink
ATTACH;FMTTYPE=image/jpeg:https://cal.everettcommunity.org/wp-content/uploads/2025/12/farmers-mkt.jpg
ORGANIZER;CN="Everett Farmers Market":MAILTO:everettfarmersmarket@gmail.com
END:VEVENT
BEGIN:VEVENT
DTSTART;TZID=America/Los_Angeles:20261003T100000
DTEND;TZID=America/Los_Angeles:20261003T120000
DTSTAMP:20260419T193902
CREATED:20260223T191403Z
LAST-MODIFIED:20260301T082630Z
UID:10001967-1791021600-1791028800@cal.everettcommunity.org
SUMMARY:SnoCo LGBTQI+ Meetup
DESCRIPTION:We are an inclusive social group for LGBTQI+ individuals of all ages in Snohomish County\, Washington. Join us for a free morning meetup at Butter Notes Cafe.
URL:https://cal.everettcommunity.org/event/snoco-lgbtqi-meetup/2026-10-03/
LOCATION:Butter Notes Cafe\, 902 N Broadway\, Unit B\, Everett\, WA\, 98201\, United States
CATEGORIES:Charity & Causes,Food & Drink
ATTACH;FMTTYPE=image/jpeg:https://cal.everettcommunity.org/wp-content/uploads/2026/02/lgbt.jpg
END:VEVENT
BEGIN:VEVENT
DTSTART;TZID=America/Los_Angeles:20261004T103000
DTEND;TZID=America/Los_Angeles:20261004T150000
DTSTAMP:20260419T193902
CREATED:20251231T083720Z
LAST-MODIFIED:20260307T075447Z
UID:10001001-1791109800-1791126000@cal.everettcommunity.org
SUMMARY:Everett Farmers Market
DESCRIPTION:The Everett Farmers Market is located on Wetmore Ave between Hewitt and Pacific\, from 10:30am to 3:00pm on Sundays.
URL:https://cal.everettcommunity.org/event/everett-farmers-market/2026-10-04/
LOCATION:WA
CATEGORIES:Food & Drink
ATTACH;FMTTYPE=image/jpeg:https://cal.everettcommunity.org/wp-content/uploads/2025/12/farmers-mkt.jpg
ORGANIZER;CN="Everett Farmers Market":MAILTO:everettfarmersmarket@gmail.com
END:VEVENT
BEGIN:VEVENT
DTSTART;TZID=America/Los_Angeles:20261010T100000
DTEND;TZID=America/Los_Angeles:20261010T120000
DTSTAMP:20260419T193902
CREATED:20260223T191403Z
LAST-MODIFIED:20260301T082630Z
UID:10001968-1791626400-1791633600@cal.everettcommunity.org
SUMMARY:SnoCo LGBTQI+ Meetup
DESCRIPTION:We are an inclusive social group for LGBTQI+ individuals of all ages in Snohomish County\, Washington. Join us for a free morning meetup at Butter Notes Cafe.
URL:https://cal.everettcommunity.org/event/snoco-lgbtqi-meetup/2026-10-10/
LOCATION:Butter Notes Cafe\, 902 N Broadway\, Unit B\, Everett\, WA\, 98201\, United States
CATEGORIES:Charity & Causes,Food & Drink
ATTACH;FMTTYPE=image/jpeg:https://cal.everettcommunity.org/wp-content/uploads/2026/02/lgbt.jpg
END:VEVENT
BEGIN:VEVENT
DTSTART;TZID=America/Los_Angeles:20261011T103000
DTEND;TZID=America/Los_Angeles:20261011T150000
DTSTAMP:20260419T193902
CREATED:20251231T083720Z
LAST-MODIFIED:20260307T075447Z
UID:10001002-1791714600-1791730800@cal.everettcommunity.org
SUMMARY:Everett Farmers Market
DESCRIPTION:The Everett Farmers Market is located on Wetmore Ave between Hewitt and Pacific\, from 10:30am to 3:00pm on Sundays.
URL:https://cal.everettcommunity.org/event/everett-farmers-market/2026-10-11/
LOCATION:WA
CATEGORIES:Food & Drink
ATTACH;FMTTYPE=image/jpeg:https://cal.everettcommunity.org/wp-content/uploads/2025/12/farmers-mkt.jpg
ORGANIZER;CN="Everett Farmers Market":MAILTO:everettfarmersmarket@gmail.com
END:VEVENT
BEGIN:VEVENT
DTSTART;TZID=America/Los_Angeles:20261017T100000
DTEND;TZID=America/Los_Angeles:20261017T120000
DTSTAMP:20260419T193902
CREATED:20260223T191403Z
LAST-MODIFIED:20260301T082630Z
UID:10001969-1792231200-1792238400@cal.everettcommunity.org
SUMMARY:SnoCo LGBTQI+ Meetup
DESCRIPTION:We are an inclusive social group for LGBTQI+ individuals of all ages in Snohomish County\, Washington. Join us for a free morning meetup at Butter Notes Cafe.
URL:https://cal.everettcommunity.org/event/snoco-lgbtqi-meetup/2026-10-17/
LOCATION:Butter Notes Cafe\, 902 N Broadway\, Unit B\, Everett\, WA\, 98201\, United States
CATEGORIES:Charity & Causes,Food & Drink
ATTACH;FMTTYPE=image/jpeg:https://cal.everettcommunity.org/wp-content/uploads/2026/02/lgbt.jpg
END:VEVENT
BEGIN:VEVENT
DTSTART;TZID=America/Los_Angeles:20261018T103000
DTEND;TZID=America/Los_Angeles:20261018T150000
DTSTAMP:20260419T193902
CREATED:20251231T083720Z
LAST-MODIFIED:20260307T075447Z
UID:10001003-1792319400-1792335600@cal.everettcommunity.org
SUMMARY:Everett Farmers Market
DESCRIPTION:The Everett Farmers Market is located on Wetmore Ave between Hewitt and Pacific\, from 10:30am to 3:00pm on Sundays.
URL:https://cal.everettcommunity.org/event/everett-farmers-market/2026-10-18/
LOCATION:WA
CATEGORIES:Food & Drink
ATTACH;FMTTYPE=image/jpeg:https://cal.everettcommunity.org/wp-content/uploads/2025/12/farmers-mkt.jpg
ORGANIZER;CN="Everett Farmers Market":MAILTO:everettfarmersmarket@gmail.com
END:VEVENT
BEGIN:VEVENT
DTSTART;TZID=America/Los_Angeles:20261024T100000
DTEND;TZID=America/Los_Angeles:20261024T120000
DTSTAMP:20260419T193902
CREATED:20260223T191403Z
LAST-MODIFIED:20260301T082630Z
UID:10001970-1792836000-1792843200@cal.everettcommunity.org
SUMMARY:SnoCo LGBTQI+ Meetup
DESCRIPTION:We are an inclusive social group for LGBTQI+ individuals of all ages in Snohomish County\, Washington. Join us for a free morning meetup at Butter Notes Cafe.
URL:https://cal.everettcommunity.org/event/snoco-lgbtqi-meetup/2026-10-24/
LOCATION:Butter Notes Cafe\, 902 N Broadway\, Unit B\, Everett\, WA\, 98201\, United States
CATEGORIES:Charity & Causes,Food & Drink
ATTACH;FMTTYPE=image/jpeg:https://cal.everettcommunity.org/wp-content/uploads/2026/02/lgbt.jpg
END:VEVENT
END:VCALENDAR