BEGIN:VCALENDAR
VERSION:2.0
PRODID:-//Everett Community - ECPv6.15.20//NONSGML v1.0//EN
CALSCALE:GREGORIAN
METHOD:PUBLISH
X-WR-CALNAME:Everett Community
X-ORIGINAL-URL:https://cal.everettcommunity.org
X-WR-CALDESC:Events for Everett Community
REFRESH-INTERVAL;VALUE=DURATION:PT1H
X-Robots-Tag:noindex
X-PUBLISHED-TTL:PT1H
BEGIN:VTIMEZONE
TZID:America/Los_Angeles
BEGIN:DAYLIGHT
TZOFFSETFROM:-0800
TZOFFSETTO:-0700
TZNAME:PDT
DTSTART:20260308T100000
END:DAYLIGHT
BEGIN:STANDARD
TZOFFSETFROM:-0700
TZOFFSETTO:-0800
TZNAME:PST
DTSTART:20261101T090000
END:STANDARD
BEGIN:DAYLIGHT
TZOFFSETFROM:-0800
TZOFFSETTO:-0700
TZNAME:PDT
DTSTART:20270314T100000
END:DAYLIGHT
BEGIN:STANDARD
TZOFFSETFROM:-0700
TZOFFSETTO:-0800
TZNAME:PST
DTSTART:20271107T090000
END:STANDARD
BEGIN:DAYLIGHT
TZOFFSETFROM:-0800
TZOFFSETTO:-0700
TZNAME:PDT
DTSTART:20280312T100000
END:DAYLIGHT
BEGIN:STANDARD
TZOFFSETFROM:-0700
TZOFFSETTO:-0800
TZNAME:PST
DTSTART:20281105T090000
END:STANDARD
END:VTIMEZONE
BEGIN:VEVENT
DTSTART;TZID=America/Los_Angeles:20270501T100000
DTEND;TZID=America/Los_Angeles:20270501T120000
DTSTAMP:20260420T140618
CREATED:20260223T191403Z
LAST-MODIFIED:20260301T082630Z
UID:10001997-1809165600-1809172800@cal.everettcommunity.org
SUMMARY:SnoCo LGBTQI+ Meetup
DESCRIPTION:We are an inclusive social group for LGBTQI+ individuals of all ages in Snohomish County\, Washington. Join us for a free morning meetup at Butter Notes Cafe.
URL:https://cal.everettcommunity.org/event/snoco-lgbtqi-meetup/2027-05-01/
LOCATION:Butter Notes Cafe\, 902 N Broadway\, Unit B\, Everett\, WA\, 98201\, United States
CATEGORIES:Charity & Causes,Food & Drink
ATTACH;FMTTYPE=image/jpeg:https://cal.everettcommunity.org/wp-content/uploads/2026/02/lgbt.jpg
END:VEVENT
BEGIN:VEVENT
DTSTART;TZID=America/Los_Angeles:20270508T100000
DTEND;TZID=America/Los_Angeles:20270508T120000
DTSTAMP:20260420T140618
CREATED:20260223T191403Z
LAST-MODIFIED:20260301T082630Z
UID:10001998-1809770400-1809777600@cal.everettcommunity.org
SUMMARY:SnoCo LGBTQI+ Meetup
DESCRIPTION:We are an inclusive social group for LGBTQI+ individuals of all ages in Snohomish County\, Washington. Join us for a free morning meetup at Butter Notes Cafe.
URL:https://cal.everettcommunity.org/event/snoco-lgbtqi-meetup/2027-05-08/
LOCATION:Butter Notes Cafe\, 902 N Broadway\, Unit B\, Everett\, WA\, 98201\, United States
CATEGORIES:Charity & Causes,Food & Drink
ATTACH;FMTTYPE=image/jpeg:https://cal.everettcommunity.org/wp-content/uploads/2026/02/lgbt.jpg
END:VEVENT
BEGIN:VEVENT
DTSTART;TZID=America/Los_Angeles:20270515T100000
DTEND;TZID=America/Los_Angeles:20270515T120000
DTSTAMP:20260420T140618
CREATED:20260223T191403Z
LAST-MODIFIED:20260301T082630Z
UID:10001999-1810375200-1810382400@cal.everettcommunity.org
SUMMARY:SnoCo LGBTQI+ Meetup
DESCRIPTION:We are an inclusive social group for LGBTQI+ individuals of all ages in Snohomish County\, Washington. Join us for a free morning meetup at Butter Notes Cafe.
URL:https://cal.everettcommunity.org/event/snoco-lgbtqi-meetup/2027-05-15/
LOCATION:Butter Notes Cafe\, 902 N Broadway\, Unit B\, Everett\, WA\, 98201\, United States
CATEGORIES:Charity & Causes,Food & Drink
ATTACH;FMTTYPE=image/jpeg:https://cal.everettcommunity.org/wp-content/uploads/2026/02/lgbt.jpg
END:VEVENT
BEGIN:VEVENT
DTSTART;TZID=America/Los_Angeles:20270522T100000
DTEND;TZID=America/Los_Angeles:20270522T120000
DTSTAMP:20260420T140618
CREATED:20260223T191403Z
LAST-MODIFIED:20260301T082630Z
UID:10002000-1810980000-1810987200@cal.everettcommunity.org
SUMMARY:SnoCo LGBTQI+ Meetup
DESCRIPTION:We are an inclusive social group for LGBTQI+ individuals of all ages in Snohomish County\, Washington. Join us for a free morning meetup at Butter Notes Cafe.
URL:https://cal.everettcommunity.org/event/snoco-lgbtqi-meetup/2027-05-22/
LOCATION:Butter Notes Cafe\, 902 N Broadway\, Unit B\, Everett\, WA\, 98201\, United States
CATEGORIES:Charity & Causes,Food & Drink
ATTACH;FMTTYPE=image/jpeg:https://cal.everettcommunity.org/wp-content/uploads/2026/02/lgbt.jpg
END:VEVENT
BEGIN:VEVENT
DTSTART;TZID=America/Los_Angeles:20270529T100000
DTEND;TZID=America/Los_Angeles:20270529T120000
DTSTAMP:20260420T140618
CREATED:20260223T191403Z
LAST-MODIFIED:20260301T082630Z
UID:10002001-1811584800-1811592000@cal.everettcommunity.org
SUMMARY:SnoCo LGBTQI+ Meetup
DESCRIPTION:We are an inclusive social group for LGBTQI+ individuals of all ages in Snohomish County\, Washington. Join us for a free morning meetup at Butter Notes Cafe.
URL:https://cal.everettcommunity.org/event/snoco-lgbtqi-meetup/2027-05-29/
LOCATION:Butter Notes Cafe\, 902 N Broadway\, Unit B\, Everett\, WA\, 98201\, United States
CATEGORIES:Charity & Causes,Food & Drink
ATTACH;FMTTYPE=image/jpeg:https://cal.everettcommunity.org/wp-content/uploads/2026/02/lgbt.jpg
END:VEVENT
END:VCALENDAR