BEGIN:VCALENDAR
VERSION:2.0
PRODID:-//Everett Community - ECPv6.15.20//NONSGML v1.0//EN
CALSCALE:GREGORIAN
METHOD:PUBLISH
X-WR-CALNAME:Everett Community
X-ORIGINAL-URL:https://cal.everettcommunity.org
X-WR-CALDESC:Events for Everett Community
REFRESH-INTERVAL;VALUE=DURATION:PT1H
X-Robots-Tag:noindex
X-PUBLISHED-TTL:PT1H
BEGIN:VTIMEZONE
TZID:America/Los_Angeles
BEGIN:DAYLIGHT
TZOFFSETFROM:-0800
TZOFFSETTO:-0700
TZNAME:PDT
DTSTART:20250309T100000
END:DAYLIGHT
BEGIN:STANDARD
TZOFFSETFROM:-0700
TZOFFSETTO:-0800
TZNAME:PST
DTSTART:20251102T090000
END:STANDARD
BEGIN:DAYLIGHT
TZOFFSETFROM:-0800
TZOFFSETTO:-0700
TZNAME:PDT
DTSTART:20260308T100000
END:DAYLIGHT
BEGIN:STANDARD
TZOFFSETFROM:-0700
TZOFFSETTO:-0800
TZNAME:PST
DTSTART:20261101T090000
END:STANDARD
BEGIN:DAYLIGHT
TZOFFSETFROM:-0800
TZOFFSETTO:-0700
TZNAME:PDT
DTSTART:20270314T100000
END:DAYLIGHT
BEGIN:STANDARD
TZOFFSETFROM:-0700
TZOFFSETTO:-0800
TZNAME:PST
DTSTART:20271107T090000
END:STANDARD
END:VTIMEZONE
BEGIN:VEVENT
DTSTART;TZID=America/Los_Angeles:20261003T100000
DTEND;TZID=America/Los_Angeles:20261003T120000
DTSTAMP:20260419T223703
CREATED:20260223T191403Z
LAST-MODIFIED:20260301T082630Z
UID:10001967-1791021600-1791028800@cal.everettcommunity.org
SUMMARY:SnoCo LGBTQI+ Meetup
DESCRIPTION:We are an inclusive social group for LGBTQI+ individuals of all ages in Snohomish County\, Washington. Join us for a free morning meetup at Butter Notes Cafe.
URL:https://cal.everettcommunity.org/event/snoco-lgbtqi-meetup/2026-10-03/
LOCATION:Butter Notes Cafe\, 902 N Broadway\, Unit B\, Everett\, WA\, 98201\, United States
CATEGORIES:Charity & Causes,Food & Drink
ATTACH;FMTTYPE=image/jpeg:https://cal.everettcommunity.org/wp-content/uploads/2026/02/lgbt.jpg
END:VEVENT
BEGIN:VEVENT
DTSTART;TZID=America/Los_Angeles:20261004T103000
DTEND;TZID=America/Los_Angeles:20261004T150000
DTSTAMP:20260419T223703
CREATED:20251231T083720Z
LAST-MODIFIED:20260307T075447Z
UID:10001001-1791109800-1791126000@cal.everettcommunity.org
SUMMARY:Everett Farmers Market
DESCRIPTION:The Everett Farmers Market is located on Wetmore Ave between Hewitt and Pacific\, from 10:30am to 3:00pm on Sundays.
URL:https://cal.everettcommunity.org/event/everett-farmers-market/2026-10-04/
LOCATION:WA
CATEGORIES:Food & Drink
ATTACH;FMTTYPE=image/jpeg:https://cal.everettcommunity.org/wp-content/uploads/2025/12/farmers-mkt.jpg
ORGANIZER;CN="Everett Farmers Market":MAILTO:everettfarmersmarket@gmail.com
END:VEVENT
BEGIN:VEVENT
DTSTART;TZID=America/Los_Angeles:20261010T100000
DTEND;TZID=America/Los_Angeles:20261010T120000
DTSTAMP:20260419T223703
CREATED:20260223T191403Z
LAST-MODIFIED:20260301T082630Z
UID:10001968-1791626400-1791633600@cal.everettcommunity.org
SUMMARY:SnoCo LGBTQI+ Meetup
DESCRIPTION:We are an inclusive social group for LGBTQI+ individuals of all ages in Snohomish County\, Washington. Join us for a free morning meetup at Butter Notes Cafe.
URL:https://cal.everettcommunity.org/event/snoco-lgbtqi-meetup/2026-10-10/
LOCATION:Butter Notes Cafe\, 902 N Broadway\, Unit B\, Everett\, WA\, 98201\, United States
CATEGORIES:Charity & Causes,Food & Drink
ATTACH;FMTTYPE=image/jpeg:https://cal.everettcommunity.org/wp-content/uploads/2026/02/lgbt.jpg
END:VEVENT
BEGIN:VEVENT
DTSTART;TZID=America/Los_Angeles:20261011T103000
DTEND;TZID=America/Los_Angeles:20261011T150000
DTSTAMP:20260419T223703
CREATED:20251231T083720Z
LAST-MODIFIED:20260307T075447Z
UID:10001002-1791714600-1791730800@cal.everettcommunity.org
SUMMARY:Everett Farmers Market
DESCRIPTION:The Everett Farmers Market is located on Wetmore Ave between Hewitt and Pacific\, from 10:30am to 3:00pm on Sundays.
URL:https://cal.everettcommunity.org/event/everett-farmers-market/2026-10-11/
LOCATION:WA
CATEGORIES:Food & Drink
ATTACH;FMTTYPE=image/jpeg:https://cal.everettcommunity.org/wp-content/uploads/2025/12/farmers-mkt.jpg
ORGANIZER;CN="Everett Farmers Market":MAILTO:everettfarmersmarket@gmail.com
END:VEVENT
BEGIN:VEVENT
DTSTART;TZID=America/Los_Angeles:20261017T100000
DTEND;TZID=America/Los_Angeles:20261017T120000
DTSTAMP:20260419T223703
CREATED:20260223T191403Z
LAST-MODIFIED:20260301T082630Z
UID:10001969-1792231200-1792238400@cal.everettcommunity.org
SUMMARY:SnoCo LGBTQI+ Meetup
DESCRIPTION:We are an inclusive social group for LGBTQI+ individuals of all ages in Snohomish County\, Washington. Join us for a free morning meetup at Butter Notes Cafe.
URL:https://cal.everettcommunity.org/event/snoco-lgbtqi-meetup/2026-10-17/
LOCATION:Butter Notes Cafe\, 902 N Broadway\, Unit B\, Everett\, WA\, 98201\, United States
CATEGORIES:Charity & Causes,Food & Drink
ATTACH;FMTTYPE=image/jpeg:https://cal.everettcommunity.org/wp-content/uploads/2026/02/lgbt.jpg
END:VEVENT
BEGIN:VEVENT
DTSTART;TZID=America/Los_Angeles:20261018T103000
DTEND;TZID=America/Los_Angeles:20261018T150000
DTSTAMP:20260419T223703
CREATED:20251231T083720Z
LAST-MODIFIED:20260307T075447Z
UID:10001003-1792319400-1792335600@cal.everettcommunity.org
SUMMARY:Everett Farmers Market
DESCRIPTION:The Everett Farmers Market is located on Wetmore Ave between Hewitt and Pacific\, from 10:30am to 3:00pm on Sundays.
URL:https://cal.everettcommunity.org/event/everett-farmers-market/2026-10-18/
LOCATION:WA
CATEGORIES:Food & Drink
ATTACH;FMTTYPE=image/jpeg:https://cal.everettcommunity.org/wp-content/uploads/2025/12/farmers-mkt.jpg
ORGANIZER;CN="Everett Farmers Market":MAILTO:everettfarmersmarket@gmail.com
END:VEVENT
BEGIN:VEVENT
DTSTART;TZID=America/Los_Angeles:20261024T100000
DTEND;TZID=America/Los_Angeles:20261024T120000
DTSTAMP:20260419T223703
CREATED:20260223T191403Z
LAST-MODIFIED:20260301T082630Z
UID:10001970-1792836000-1792843200@cal.everettcommunity.org
SUMMARY:SnoCo LGBTQI+ Meetup
DESCRIPTION:We are an inclusive social group for LGBTQI+ individuals of all ages in Snohomish County\, Washington. Join us for a free morning meetup at Butter Notes Cafe.
URL:https://cal.everettcommunity.org/event/snoco-lgbtqi-meetup/2026-10-24/
LOCATION:Butter Notes Cafe\, 902 N Broadway\, Unit B\, Everett\, WA\, 98201\, United States
CATEGORIES:Charity & Causes,Food & Drink
ATTACH;FMTTYPE=image/jpeg:https://cal.everettcommunity.org/wp-content/uploads/2026/02/lgbt.jpg
END:VEVENT
BEGIN:VEVENT
DTSTART;TZID=America/Los_Angeles:20261025T103000
DTEND;TZID=America/Los_Angeles:20261025T150000
DTSTAMP:20260419T223703
CREATED:20251231T083720Z
LAST-MODIFIED:20260307T075447Z
UID:10001004-1792924200-1792940400@cal.everettcommunity.org
SUMMARY:Everett Farmers Market
DESCRIPTION:The Everett Farmers Market is located on Wetmore Ave between Hewitt and Pacific\, from 10:30am to 3:00pm on Sundays.
URL:https://cal.everettcommunity.org/event/everett-farmers-market/2026-10-25/
LOCATION:WA
CATEGORIES:Food & Drink
ATTACH;FMTTYPE=image/jpeg:https://cal.everettcommunity.org/wp-content/uploads/2025/12/farmers-mkt.jpg
ORGANIZER;CN="Everett Farmers Market":MAILTO:everettfarmersmarket@gmail.com
END:VEVENT
BEGIN:VEVENT
DTSTART;TZID=America/Los_Angeles:20261031T100000
DTEND;TZID=America/Los_Angeles:20261031T120000
DTSTAMP:20260419T223703
CREATED:20260223T191403Z
LAST-MODIFIED:20260301T082630Z
UID:10001971-1793440800-1793448000@cal.everettcommunity.org
SUMMARY:SnoCo LGBTQI+ Meetup
DESCRIPTION:We are an inclusive social group for LGBTQI+ individuals of all ages in Snohomish County\, Washington. Join us for a free morning meetup at Butter Notes Cafe.
URL:https://cal.everettcommunity.org/event/snoco-lgbtqi-meetup/2026-10-31/
LOCATION:Butter Notes Cafe\, 902 N Broadway\, Unit B\, Everett\, WA\, 98201\, United States
CATEGORIES:Charity & Causes,Food & Drink
ATTACH;FMTTYPE=image/jpeg:https://cal.everettcommunity.org/wp-content/uploads/2026/02/lgbt.jpg
END:VEVENT
END:VCALENDAR