BEGIN:VCALENDAR
VERSION:2.0
PRODID:-//Everett Community - ECPv6.15.20//NONSGML v1.0//EN
CALSCALE:GREGORIAN
METHOD:PUBLISH
X-WR-CALNAME:Everett Community
X-ORIGINAL-URL:https://cal.everettcommunity.org
X-WR-CALDESC:Events for Everett Community
REFRESH-INTERVAL;VALUE=DURATION:PT1H
X-Robots-Tag:noindex
X-PUBLISHED-TTL:PT1H
BEGIN:VTIMEZONE
TZID:America/Los_Angeles
BEGIN:DAYLIGHT
TZOFFSETFROM:-0800
TZOFFSETTO:-0700
TZNAME:PDT
DTSTART:20250309T100000
END:DAYLIGHT
BEGIN:STANDARD
TZOFFSETFROM:-0700
TZOFFSETTO:-0800
TZNAME:PST
DTSTART:20251102T090000
END:STANDARD
BEGIN:DAYLIGHT
TZOFFSETFROM:-0800
TZOFFSETTO:-0700
TZNAME:PDT
DTSTART:20260308T100000
END:DAYLIGHT
BEGIN:STANDARD
TZOFFSETFROM:-0700
TZOFFSETTO:-0800
TZNAME:PST
DTSTART:20261101T090000
END:STANDARD
BEGIN:DAYLIGHT
TZOFFSETFROM:-0800
TZOFFSETTO:-0700
TZNAME:PDT
DTSTART:20270314T100000
END:DAYLIGHT
BEGIN:STANDARD
TZOFFSETFROM:-0700
TZOFFSETTO:-0800
TZNAME:PST
DTSTART:20271107T090000
END:STANDARD
END:VTIMEZONE
BEGIN:VEVENT
DTSTART;TZID=America/Los_Angeles:20260606T100000
DTEND;TZID=America/Los_Angeles:20260606T120000
DTSTAMP:20260419T162945
CREATED:20260223T191403Z
LAST-MODIFIED:20260301T082630Z
UID:10001950-1780740000-1780747200@cal.everettcommunity.org
SUMMARY:SnoCo LGBTQI+ Meetup
DESCRIPTION:We are an inclusive social group for LGBTQI+ individuals of all ages in Snohomish County\, Washington. Join us for a free morning meetup at Butter Notes Cafe.
URL:https://cal.everettcommunity.org/event/snoco-lgbtqi-meetup/2026-06-06/
LOCATION:Butter Notes Cafe\, 902 N Broadway\, Unit B\, Everett\, WA\, 98201\, United States
CATEGORIES:Charity & Causes,Food & Drink
ATTACH;FMTTYPE=image/jpeg:https://cal.everettcommunity.org/wp-content/uploads/2026/02/lgbt.jpg
END:VEVENT
BEGIN:VEVENT
DTSTART;TZID=America/Los_Angeles:20260607T103000
DTEND;TZID=America/Los_Angeles:20260607T150000
DTSTAMP:20260419T162945
CREATED:20251231T083720Z
LAST-MODIFIED:20260307T075447Z
UID:10000984-1780828200-1780844400@cal.everettcommunity.org
SUMMARY:Everett Farmers Market
DESCRIPTION:The Everett Farmers Market is located on Wetmore Ave between Hewitt and Pacific\, from 10:30am to 3:00pm on Sundays.
URL:https://cal.everettcommunity.org/event/everett-farmers-market/2026-06-07/
LOCATION:WA
CATEGORIES:Food & Drink
ATTACH;FMTTYPE=image/jpeg:https://cal.everettcommunity.org/wp-content/uploads/2025/12/farmers-mkt.jpg
ORGANIZER;CN="Everett Farmers Market":MAILTO:everettfarmersmarket@gmail.com
END:VEVENT
BEGIN:VEVENT
DTSTART;TZID=America/Los_Angeles:20260613T100000
DTEND;TZID=America/Los_Angeles:20260613T120000
DTSTAMP:20260419T162945
CREATED:20260223T191403Z
LAST-MODIFIED:20260301T082630Z
UID:10001951-1781344800-1781352000@cal.everettcommunity.org
SUMMARY:SnoCo LGBTQI+ Meetup
DESCRIPTION:We are an inclusive social group for LGBTQI+ individuals of all ages in Snohomish County\, Washington. Join us for a free morning meetup at Butter Notes Cafe.
URL:https://cal.everettcommunity.org/event/snoco-lgbtqi-meetup/2026-06-13/
LOCATION:Butter Notes Cafe\, 902 N Broadway\, Unit B\, Everett\, WA\, 98201\, United States
CATEGORIES:Charity & Causes,Food & Drink
ATTACH;FMTTYPE=image/jpeg:https://cal.everettcommunity.org/wp-content/uploads/2026/02/lgbt.jpg
END:VEVENT
BEGIN:VEVENT
DTSTART;TZID=America/Los_Angeles:20260614T103000
DTEND;TZID=America/Los_Angeles:20260614T150000
DTSTAMP:20260419T162945
CREATED:20251231T083720Z
LAST-MODIFIED:20260307T075447Z
UID:10000985-1781433000-1781449200@cal.everettcommunity.org
SUMMARY:Everett Farmers Market
DESCRIPTION:The Everett Farmers Market is located on Wetmore Ave between Hewitt and Pacific\, from 10:30am to 3:00pm on Sundays.
URL:https://cal.everettcommunity.org/event/everett-farmers-market/2026-06-14/
LOCATION:WA
CATEGORIES:Food & Drink
ATTACH;FMTTYPE=image/jpeg:https://cal.everettcommunity.org/wp-content/uploads/2025/12/farmers-mkt.jpg
ORGANIZER;CN="Everett Farmers Market":MAILTO:everettfarmersmarket@gmail.com
END:VEVENT
BEGIN:VEVENT
DTSTART;TZID=America/Los_Angeles:20260620T100000
DTEND;TZID=America/Los_Angeles:20260620T120000
DTSTAMP:20260419T162945
CREATED:20260223T191403Z
LAST-MODIFIED:20260301T082630Z
UID:10001952-1781949600-1781956800@cal.everettcommunity.org
SUMMARY:SnoCo LGBTQI+ Meetup
DESCRIPTION:We are an inclusive social group for LGBTQI+ individuals of all ages in Snohomish County\, Washington. Join us for a free morning meetup at Butter Notes Cafe.
URL:https://cal.everettcommunity.org/event/snoco-lgbtqi-meetup/2026-06-20/
LOCATION:Butter Notes Cafe\, 902 N Broadway\, Unit B\, Everett\, WA\, 98201\, United States
CATEGORIES:Charity & Causes,Food & Drink
ATTACH;FMTTYPE=image/jpeg:https://cal.everettcommunity.org/wp-content/uploads/2026/02/lgbt.jpg
END:VEVENT
BEGIN:VEVENT
DTSTART;TZID=America/Los_Angeles:20260621T103000
DTEND;TZID=America/Los_Angeles:20260621T150000
DTSTAMP:20260419T162945
CREATED:20251231T083720Z
LAST-MODIFIED:20260307T075447Z
UID:10000986-1782037800-1782054000@cal.everettcommunity.org
SUMMARY:Everett Farmers Market
DESCRIPTION:The Everett Farmers Market is located on Wetmore Ave between Hewitt and Pacific\, from 10:30am to 3:00pm on Sundays.
URL:https://cal.everettcommunity.org/event/everett-farmers-market/2026-06-21/
LOCATION:WA
CATEGORIES:Food & Drink
ATTACH;FMTTYPE=image/jpeg:https://cal.everettcommunity.org/wp-content/uploads/2025/12/farmers-mkt.jpg
ORGANIZER;CN="Everett Farmers Market":MAILTO:everettfarmersmarket@gmail.com
END:VEVENT
BEGIN:VEVENT
DTSTART;TZID=America/Los_Angeles:20260627T100000
DTEND;TZID=America/Los_Angeles:20260627T120000
DTSTAMP:20260419T162945
CREATED:20260223T191403Z
LAST-MODIFIED:20260301T082630Z
UID:10001953-1782554400-1782561600@cal.everettcommunity.org
SUMMARY:SnoCo LGBTQI+ Meetup
DESCRIPTION:We are an inclusive social group for LGBTQI+ individuals of all ages in Snohomish County\, Washington. Join us for a free morning meetup at Butter Notes Cafe.
URL:https://cal.everettcommunity.org/event/snoco-lgbtqi-meetup/2026-06-27/
LOCATION:Butter Notes Cafe\, 902 N Broadway\, Unit B\, Everett\, WA\, 98201\, United States
CATEGORIES:Charity & Causes,Food & Drink
ATTACH;FMTTYPE=image/jpeg:https://cal.everettcommunity.org/wp-content/uploads/2026/02/lgbt.jpg
END:VEVENT
BEGIN:VEVENT
DTSTART;TZID=America/Los_Angeles:20260628T103000
DTEND;TZID=America/Los_Angeles:20260628T150000
DTSTAMP:20260419T162945
CREATED:20251231T083720Z
LAST-MODIFIED:20260307T075447Z
UID:10000987-1782642600-1782658800@cal.everettcommunity.org
SUMMARY:Everett Farmers Market
DESCRIPTION:The Everett Farmers Market is located on Wetmore Ave between Hewitt and Pacific\, from 10:30am to 3:00pm on Sundays.
URL:https://cal.everettcommunity.org/event/everett-farmers-market/2026-06-28/
LOCATION:WA
CATEGORIES:Food & Drink
ATTACH;FMTTYPE=image/jpeg:https://cal.everettcommunity.org/wp-content/uploads/2025/12/farmers-mkt.jpg
ORGANIZER;CN="Everett Farmers Market":MAILTO:everettfarmersmarket@gmail.com
END:VEVENT
END:VCALENDAR