BEGIN:VCALENDAR
VERSION:2.0
PRODID:-//Everett Community - ECPv6.15.20//NONSGML v1.0//EN
CALSCALE:GREGORIAN
METHOD:PUBLISH
X-ORIGINAL-URL:https://cal.everettcommunity.org
X-WR-CALDESC:Events for Everett Community
REFRESH-INTERVAL;VALUE=DURATION:PT1H
X-Robots-Tag:noindex
X-PUBLISHED-TTL:PT1H
BEGIN:VTIMEZONE
TZID:America/Los_Angeles
BEGIN:DAYLIGHT
TZOFFSETFROM:-0800
TZOFFSETTO:-0700
TZNAME:PDT
DTSTART:20250309T100000
END:DAYLIGHT
BEGIN:STANDARD
TZOFFSETFROM:-0700
TZOFFSETTO:-0800
TZNAME:PST
DTSTART:20251102T090000
END:STANDARD
BEGIN:DAYLIGHT
TZOFFSETFROM:-0800
TZOFFSETTO:-0700
TZNAME:PDT
DTSTART:20260308T100000
END:DAYLIGHT
BEGIN:STANDARD
TZOFFSETFROM:-0700
TZOFFSETTO:-0800
TZNAME:PST
DTSTART:20261101T090000
END:STANDARD
BEGIN:DAYLIGHT
TZOFFSETFROM:-0800
TZOFFSETTO:-0700
TZNAME:PDT
DTSTART:20270314T100000
END:DAYLIGHT
BEGIN:STANDARD
TZOFFSETFROM:-0700
TZOFFSETTO:-0800
TZNAME:PST
DTSTART:20271107T090000
END:STANDARD
END:VTIMEZONE
BEGIN:VEVENT
DTSTART;TZID=America/Los_Angeles:20260307T100000
DTEND;TZID=America/Los_Angeles:20260307T120000
DTSTAMP:20260419T145912
CREATED:20260223T191403Z
LAST-MODIFIED:20260301T082630Z
UID:10001937-1772877600-1772884800@cal.everettcommunity.org
SUMMARY:SnoCo LGBTQI+ Meetup
DESCRIPTION:We are an inclusive social group for LGBTQI+ individuals of all ages in Snohomish County\, Washington. Join us for a free morning meetup at Butter Notes Cafe.
URL:https://cal.everettcommunity.org/event/snoco-lgbtqi-meetup/2026-03-07/
LOCATION:Butter Notes Cafe\, 902 N Broadway\, Unit B\, Everett\, WA\, 98201\, United States
CATEGORIES:Charity & Causes,Food & Drink
ATTACH;FMTTYPE=image/jpeg:https://cal.everettcommunity.org/wp-content/uploads/2026/02/lgbt.jpg
END:VEVENT
BEGIN:VEVENT
DTSTART;TZID=America/Los_Angeles:20260310T180000
DTEND;TZID=America/Los_Angeles:20260310T200000
DTSTAMP:20260419T145912
CREATED:20260302T225038Z
LAST-MODIFIED:20260302T231059Z
UID:10002207-1773165600-1773172800@cal.everettcommunity.org
SUMMARY:Washington Wolfpack: Own The Den Night
DESCRIPTION:Come join the Pack for Own the Den Night as we gather for food & drink specials\, plus some great deals on season ticket packages. Come on out\, get your season tickets and get ready to become part of the Pack!
URL:https://cal.everettcommunity.org/event/washington-wolfpack-own-the-den-night/
LOCATION:Fresa Mexican Kitchen & Tequila Bar\, 620 SE Everett Mall Way #200\, Everett\, WA\, 98208\, United States
CATEGORIES:Food & Drink,Sports & Fitness
ATTACH;FMTTYPE=image/jpeg:https://cal.everettcommunity.org/wp-content/uploads/2026/03/own-den-1.jpg
END:VEVENT
BEGIN:VEVENT
DTSTART;TZID=America/Los_Angeles:20260314T100000
DTEND;TZID=America/Los_Angeles:20260314T120000
DTSTAMP:20260419T145912
CREATED:20260223T191403Z
LAST-MODIFIED:20260301T082630Z
UID:10001938-1773482400-1773489600@cal.everettcommunity.org
SUMMARY:SnoCo LGBTQI+ Meetup
DESCRIPTION:We are an inclusive social group for LGBTQI+ individuals of all ages in Snohomish County\, Washington. Join us for a free morning meetup at Butter Notes Cafe.
URL:https://cal.everettcommunity.org/event/snoco-lgbtqi-meetup/2026-03-14/
LOCATION:Butter Notes Cafe\, 902 N Broadway\, Unit B\, Everett\, WA\, 98201\, United States
CATEGORIES:Charity & Causes,Food & Drink
ATTACH;FMTTYPE=image/jpeg:https://cal.everettcommunity.org/wp-content/uploads/2026/02/lgbt.jpg
END:VEVENT
BEGIN:VEVENT
DTSTART;TZID=America/Los_Angeles:20260317T170000
DTEND;TZID=America/Los_Angeles:20260317T210000
DTSTAMP:20260419T145912
CREATED:20260223T065029Z
LAST-MODIFIED:20260223T065029Z
UID:10001545-1773766800-1773781200@cal.everettcommunity.org
SUMMARY:Eat Good\, Do Good
DESCRIPTION:Looking for a meaningful way to spend St. Patrick’s Day? Eat at The New Mexicans! 15% of every sale goes directly to the Everett Recovery Cafe. They are opening their doors for a private evening exclusively to support the organization – a community of belonging for those navigating substance use\, mental health challenges\, and the journey toward healing.
URL:https://cal.everettcommunity.org/event/eat-good-do-good/
LOCATION:The New Mexicans Restaurant\, 1416 Hewitt Ave\, Everett\, WA\, 98201\, United States
CATEGORIES:Charity & Causes,Food & Drink
ATTACH;FMTTYPE=image/jpeg:https://cal.everettcommunity.org/wp-content/uploads/2026/02/MexRecovery.jpg
END:VEVENT
BEGIN:VEVENT
DTSTART;TZID=America/Los_Angeles:20260321T100000
DTEND;TZID=America/Los_Angeles:20260321T120000
DTSTAMP:20260419T145912
CREATED:20260223T191403Z
LAST-MODIFIED:20260301T082630Z
UID:10001939-1774087200-1774094400@cal.everettcommunity.org
SUMMARY:SnoCo LGBTQI+ Meetup
DESCRIPTION:We are an inclusive social group for LGBTQI+ individuals of all ages in Snohomish County\, Washington. Join us for a free morning meetup at Butter Notes Cafe.
URL:https://cal.everettcommunity.org/event/snoco-lgbtqi-meetup/2026-03-21/
LOCATION:Butter Notes Cafe\, 902 N Broadway\, Unit B\, Everett\, WA\, 98201\, United States
CATEGORIES:Charity & Causes,Food & Drink
ATTACH;FMTTYPE=image/jpeg:https://cal.everettcommunity.org/wp-content/uploads/2026/02/lgbt.jpg
END:VEVENT
BEGIN:VEVENT
DTSTART;TZID=America/Los_Angeles:20260322T103000
DTEND;TZID=America/Los_Angeles:20260322T150000
DTSTAMP:20260419T145912
CREATED:20251231T083720Z
LAST-MODIFIED:20260307T075447Z
UID:10002216-1774175400-1774191600@cal.everettcommunity.org
SUMMARY:Everett Farmers Market
DESCRIPTION:The Everett Farmers Market is located on Wetmore Ave between Hewitt and Pacific\, from 10:30am to 3:00pm on Sundays.
URL:https://cal.everettcommunity.org/event/everett-farmers-market/2026-03-22/
LOCATION:WA
CATEGORIES:Food & Drink
ATTACH;FMTTYPE=image/jpeg:https://cal.everettcommunity.org/wp-content/uploads/2025/12/farmers-mkt.jpg
ORGANIZER;CN="Everett Farmers Market":MAILTO:everettfarmersmarket@gmail.com
END:VEVENT
BEGIN:VEVENT
DTSTART;TZID=America/Los_Angeles:20260328T100000
DTEND;TZID=America/Los_Angeles:20260328T120000
DTSTAMP:20260419T145912
CREATED:20260223T191403Z
LAST-MODIFIED:20260301T082630Z
UID:10001940-1774692000-1774699200@cal.everettcommunity.org
SUMMARY:SnoCo LGBTQI+ Meetup
DESCRIPTION:We are an inclusive social group for LGBTQI+ individuals of all ages in Snohomish County\, Washington. Join us for a free morning meetup at Butter Notes Cafe.
URL:https://cal.everettcommunity.org/event/snoco-lgbtqi-meetup/2026-03-28/
LOCATION:Butter Notes Cafe\, 902 N Broadway\, Unit B\, Everett\, WA\, 98201\, United States
CATEGORIES:Charity & Causes,Food & Drink
ATTACH;FMTTYPE=image/jpeg:https://cal.everettcommunity.org/wp-content/uploads/2026/02/lgbt.jpg
END:VEVENT
END:VCALENDAR