BEGIN:VCALENDAR
VERSION:2.0
PRODID:-//Everett Community - ECPv6.15.20//NONSGML v1.0//EN
CALSCALE:GREGORIAN
METHOD:PUBLISH
X-ORIGINAL-URL:https://cal.everettcommunity.org
X-WR-CALDESC:Events for Everett Community
REFRESH-INTERVAL;VALUE=DURATION:PT1H
X-Robots-Tag:noindex
X-PUBLISHED-TTL:PT1H
BEGIN:VTIMEZONE
TZID:America/Los_Angeles
BEGIN:DAYLIGHT
TZOFFSETFROM:-0800
TZOFFSETTO:-0700
TZNAME:PDT
DTSTART:20240310T100000
END:DAYLIGHT
BEGIN:STANDARD
TZOFFSETFROM:-0700
TZOFFSETTO:-0800
TZNAME:PST
DTSTART:20241103T090000
END:STANDARD
BEGIN:DAYLIGHT
TZOFFSETFROM:-0800
TZOFFSETTO:-0700
TZNAME:PDT
DTSTART:20250309T100000
END:DAYLIGHT
BEGIN:STANDARD
TZOFFSETFROM:-0700
TZOFFSETTO:-0800
TZNAME:PST
DTSTART:20251102T090000
END:STANDARD
BEGIN:DAYLIGHT
TZOFFSETFROM:-0800
TZOFFSETTO:-0700
TZNAME:PDT
DTSTART:20260308T100000
END:DAYLIGHT
BEGIN:STANDARD
TZOFFSETFROM:-0700
TZOFFSETTO:-0800
TZNAME:PST
DTSTART:20261101T090000
END:STANDARD
BEGIN:DAYLIGHT
TZOFFSETFROM:-0800
TZOFFSETTO:-0700
TZNAME:PDT
DTSTART:20270314T100000
END:DAYLIGHT
BEGIN:STANDARD
TZOFFSETFROM:-0700
TZOFFSETTO:-0800
TZNAME:PST
DTSTART:20271107T090000
END:STANDARD
END:VTIMEZONE
BEGIN:VEVENT
DTSTART;TZID=America/Los_Angeles:20251231T190000
DTEND;TZID=America/Los_Angeles:20260101T010000
DTSTAMP:20260419T180425
CREATED:20251223T075412Z
LAST-MODIFIED:20251223T075412Z
UID:10000841-1767207600-1767229200@cal.everettcommunity.org
SUMMARY:NYE Party at El Sid
DESCRIPTION:Ring in 2026 with style at El Sid! We’re celebrating with craft cocktails\, karaoke that runs all night\, and a dance floor ready for your best (or worst) moves. The party heats up with a DJ set at 10:30 PM\, then we’ll count down to midnight together – cocktails in hand and good vibes all around. RSVP now\, and toast to a fresh year at El Sid!
URL:https://cal.everettcommunity.org/event/nye-party-at-el-sid/
LOCATION:APEX Everett\, 1611 Everett Ave\, Everett\, WA\, 98201\, United States
CATEGORIES:Art & Performances,Food & Drink
ATTACH;FMTTYPE=image/webp:https://cal.everettcommunity.org/wp-content/uploads/2025/12/ELSIDNYEblank-scaled.webp
END:VEVENT
BEGIN:VEVENT
DTSTART;TZID=America/Los_Angeles:20251231T210000
DTEND;TZID=America/Los_Angeles:20260101T003000
DTSTAMP:20260419T180425
CREATED:20251223T075700Z
LAST-MODIFIED:20251223T075846Z
UID:10000842-1767214800-1767227400@cal.everettcommunity.org
SUMMARY:NYE Party at Marcel
DESCRIPTION:Ring in 2026 with a Galactic New Year’s Eve Party at Marcel! Zoom zoom zoom\, make your heart go boom boom boom … Marcel is throwing a full-on galactic celebration! Tickets include two drinks and a midnight toast\, with additional drinks\, food\, and cosmic treats available for purchase. Futuristic outfits are encouraged. Celebrate like you just hacked the mainframe\, saved the space station\, and still made it home before curfew!
URL:https://cal.everettcommunity.org/event/nye-party-at-marcel/
LOCATION:Marcel Bar\, 2814 Rucker Ave\, Everett\, WA\, 98201\, United States
CATEGORIES:Art & Performances,Food & Drink
ATTACH;FMTTYPE=image/webp:https://cal.everettcommunity.org/wp-content/uploads/2025/12/nyemarcel.webp
END:VEVENT
BEGIN:VEVENT
DTSTART;TZID=America/Los_Angeles:20251231T210000
DTEND;TZID=America/Los_Angeles:20260101T010000
DTSTAMP:20260419T180425
CREATED:20251231T074152Z
LAST-MODIFIED:20251231T074204Z
UID:10000849-1767214800-1767229200@cal.everettcommunity.org
SUMMARY:NYE Dance Party at The Horseshoe
DESCRIPTION:Ring in the New Year with FEMME at Horseshoe Bar & Cabaret! Join queens Sara Femme\, Clara Voyance\, Dex Derity\, Edan Parts\, Karma Sutra Stanwyck\, and Everett’s reigning green queen Biskwik for a night of dancing\, signature cocktails\, and surprise pop-up performances throughout the evening. \n$5 entry grants access to both floors\, and don’t miss the midnight toast to welcome 2026! 21+ event.
URL:https://cal.everettcommunity.org/event/nye-dance-party-at-the-horseshoe/
LOCATION:Horseshoe Bar & Cabaret\, 1805 Hewitt Ave\, Everett\, WA\, 98201\, United States
CATEGORIES:Art & Performances,Food & Drink
ATTACH;FMTTYPE=image/png:https://cal.everettcommunity.org/wp-content/uploads/2025/12/horse.png
END:VEVENT
END:VCALENDAR