BEGIN:VCALENDAR
VERSION:2.0
PRODID:-//Everett Community - ECPv6.15.20//NONSGML v1.0//EN
CALSCALE:GREGORIAN
METHOD:PUBLISH
X-ORIGINAL-URL:https://cal.everettcommunity.org
X-WR-CALDESC:Events for Everett Community
REFRESH-INTERVAL;VALUE=DURATION:PT1H
X-Robots-Tag:noindex
X-PUBLISHED-TTL:PT1H
BEGIN:VTIMEZONE
TZID:America/Los_Angeles
BEGIN:DAYLIGHT
TZOFFSETFROM:-0800
TZOFFSETTO:-0700
TZNAME:PDT
DTSTART:20260308T100000
END:DAYLIGHT
BEGIN:STANDARD
TZOFFSETFROM:-0700
TZOFFSETTO:-0800
TZNAME:PST
DTSTART:20261101T090000
END:STANDARD
BEGIN:DAYLIGHT
TZOFFSETFROM:-0800
TZOFFSETTO:-0700
TZNAME:PDT
DTSTART:20270314T100000
END:DAYLIGHT
BEGIN:STANDARD
TZOFFSETFROM:-0700
TZOFFSETTO:-0800
TZNAME:PST
DTSTART:20271107T090000
END:STANDARD
BEGIN:DAYLIGHT
TZOFFSETFROM:-0800
TZOFFSETTO:-0700
TZNAME:PDT
DTSTART:20280312T100000
END:DAYLIGHT
BEGIN:STANDARD
TZOFFSETFROM:-0700
TZOFFSETTO:-0800
TZNAME:PST
DTSTART:20281105T090000
END:STANDARD
END:VTIMEZONE
BEGIN:VEVENT
DTSTART;TZID=America/Los_Angeles:20270626T100000
DTEND;TZID=America/Los_Angeles:20270626T120000
DTSTAMP:20260421T104654
CREATED:20260223T191403Z
LAST-MODIFIED:20260301T082630Z
UID:10002005-1814004000-1814011200@cal.everettcommunity.org
SUMMARY:SnoCo LGBTQI+ Meetup
DESCRIPTION:We are an inclusive social group for LGBTQI+ individuals of all ages in Snohomish County\, Washington. Join us for a free morning meetup at Butter Notes Cafe.
URL:https://cal.everettcommunity.org/event/snoco-lgbtqi-meetup/2027-06-26/
LOCATION:Butter Notes Cafe\, 902 N Broadway\, Unit B\, Everett\, WA\, 98201\, United States
CATEGORIES:Charity & Causes,Food & Drink
ATTACH;FMTTYPE=image/jpeg:https://cal.everettcommunity.org/wp-content/uploads/2026/02/lgbt.jpg
END:VEVENT
BEGIN:VEVENT
DTSTART;TZID=America/Los_Angeles:20270703T100000
DTEND;TZID=America/Los_Angeles:20270703T120000
DTSTAMP:20260421T104654
CREATED:20260223T191403Z
LAST-MODIFIED:20260301T082630Z
UID:10002006-1814608800-1814616000@cal.everettcommunity.org
SUMMARY:SnoCo LGBTQI+ Meetup
DESCRIPTION:We are an inclusive social group for LGBTQI+ individuals of all ages in Snohomish County\, Washington. Join us for a free morning meetup at Butter Notes Cafe.
URL:https://cal.everettcommunity.org/event/snoco-lgbtqi-meetup/2027-07-03/
LOCATION:Butter Notes Cafe\, 902 N Broadway\, Unit B\, Everett\, WA\, 98201\, United States
CATEGORIES:Charity & Causes,Food & Drink
ATTACH;FMTTYPE=image/jpeg:https://cal.everettcommunity.org/wp-content/uploads/2026/02/lgbt.jpg
END:VEVENT
BEGIN:VEVENT
DTSTART;TZID=America/Los_Angeles:20270710T100000
DTEND;TZID=America/Los_Angeles:20270710T120000
DTSTAMP:20260421T104654
CREATED:20260223T191403Z
LAST-MODIFIED:20260301T082630Z
UID:10002007-1815213600-1815220800@cal.everettcommunity.org
SUMMARY:SnoCo LGBTQI+ Meetup
DESCRIPTION:We are an inclusive social group for LGBTQI+ individuals of all ages in Snohomish County\, Washington. Join us for a free morning meetup at Butter Notes Cafe.
URL:https://cal.everettcommunity.org/event/snoco-lgbtqi-meetup/2027-07-10/
LOCATION:Butter Notes Cafe\, 902 N Broadway\, Unit B\, Everett\, WA\, 98201\, United States
CATEGORIES:Charity & Causes,Food & Drink
ATTACH;FMTTYPE=image/jpeg:https://cal.everettcommunity.org/wp-content/uploads/2026/02/lgbt.jpg
END:VEVENT
BEGIN:VEVENT
DTSTART;TZID=America/Los_Angeles:20270715T150000
DTEND;TZID=America/Los_Angeles:20270715T190000
DTSTAMP:20260421T104654
CREATED:20251231T082712Z
LAST-MODIFIED:20251231T082712Z
UID:10000938-1815663600-1815678000@cal.everettcommunity.org
SUMMARY:Free Community Night at Imagine Children's Museum
DESCRIPTION:All families with children ages 12 and under are invited to attend this free event\, and can bring the whole family! Community Access Nights offer families free admission during these special times to strengthen bonds\, promote new friendships\, and spark creativity through playful learning.
URL:https://cal.everettcommunity.org/event/free-community-night-at-imagine-childrens-museum/2027-07-15/
LOCATION:Imagine Children’s Museum\, 1502 Wall St\, Everett\, WA\, 98201\, United States
CATEGORIES:Charity & Causes
ATTACH;FMTTYPE=image/jpeg:https://cal.everettcommunity.org/wp-content/uploads/2025/12/imagine.jpg
END:VEVENT
BEGIN:VEVENT
DTSTART;TZID=America/Los_Angeles:20270717T100000
DTEND;TZID=America/Los_Angeles:20270717T120000
DTSTAMP:20260421T104654
CREATED:20260223T191403Z
LAST-MODIFIED:20260301T082630Z
UID:10002008-1815818400-1815825600@cal.everettcommunity.org
SUMMARY:SnoCo LGBTQI+ Meetup
DESCRIPTION:We are an inclusive social group for LGBTQI+ individuals of all ages in Snohomish County\, Washington. Join us for a free morning meetup at Butter Notes Cafe.
URL:https://cal.everettcommunity.org/event/snoco-lgbtqi-meetup/2027-07-17/
LOCATION:Butter Notes Cafe\, 902 N Broadway\, Unit B\, Everett\, WA\, 98201\, United States
CATEGORIES:Charity & Causes,Food & Drink
ATTACH;FMTTYPE=image/jpeg:https://cal.everettcommunity.org/wp-content/uploads/2026/02/lgbt.jpg
END:VEVENT
BEGIN:VEVENT
DTSTART;TZID=America/Los_Angeles:20270724T100000
DTEND;TZID=America/Los_Angeles:20270724T120000
DTSTAMP:20260421T104654
CREATED:20260223T191403Z
LAST-MODIFIED:20260301T082630Z
UID:10002009-1816423200-1816430400@cal.everettcommunity.org
SUMMARY:SnoCo LGBTQI+ Meetup
DESCRIPTION:We are an inclusive social group for LGBTQI+ individuals of all ages in Snohomish County\, Washington. Join us for a free morning meetup at Butter Notes Cafe.
URL:https://cal.everettcommunity.org/event/snoco-lgbtqi-meetup/2027-07-24/
LOCATION:Butter Notes Cafe\, 902 N Broadway\, Unit B\, Everett\, WA\, 98201\, United States
CATEGORIES:Charity & Causes,Food & Drink
ATTACH;FMTTYPE=image/jpeg:https://cal.everettcommunity.org/wp-content/uploads/2026/02/lgbt.jpg
END:VEVENT
BEGIN:VEVENT
DTSTART;TZID=America/Los_Angeles:20270731T100000
DTEND;TZID=America/Los_Angeles:20270731T120000
DTSTAMP:20260421T104654
CREATED:20260223T191403Z
LAST-MODIFIED:20260301T082630Z
UID:10002010-1817028000-1817035200@cal.everettcommunity.org
SUMMARY:SnoCo LGBTQI+ Meetup
DESCRIPTION:We are an inclusive social group for LGBTQI+ individuals of all ages in Snohomish County\, Washington. Join us for a free morning meetup at Butter Notes Cafe.
URL:https://cal.everettcommunity.org/event/snoco-lgbtqi-meetup/2027-07-31/
LOCATION:Butter Notes Cafe\, 902 N Broadway\, Unit B\, Everett\, WA\, 98201\, United States
CATEGORIES:Charity & Causes,Food & Drink
ATTACH;FMTTYPE=image/jpeg:https://cal.everettcommunity.org/wp-content/uploads/2026/02/lgbt.jpg
END:VEVENT
BEGIN:VEVENT
DTSTART;TZID=America/Los_Angeles:20270807T100000
DTEND;TZID=America/Los_Angeles:20270807T120000
DTSTAMP:20260421T104654
CREATED:20260223T191403Z
LAST-MODIFIED:20260301T082630Z
UID:10002011-1817632800-1817640000@cal.everettcommunity.org
SUMMARY:SnoCo LGBTQI+ Meetup
DESCRIPTION:We are an inclusive social group for LGBTQI+ individuals of all ages in Snohomish County\, Washington. Join us for a free morning meetup at Butter Notes Cafe.
URL:https://cal.everettcommunity.org/event/snoco-lgbtqi-meetup/2027-08-07/
LOCATION:Butter Notes Cafe\, 902 N Broadway\, Unit B\, Everett\, WA\, 98201\, United States
CATEGORIES:Charity & Causes,Food & Drink
ATTACH;FMTTYPE=image/jpeg:https://cal.everettcommunity.org/wp-content/uploads/2026/02/lgbt.jpg
END:VEVENT
BEGIN:VEVENT
DTSTART;TZID=America/Los_Angeles:20270814T100000
DTEND;TZID=America/Los_Angeles:20270814T120000
DTSTAMP:20260421T104654
CREATED:20260223T191403Z
LAST-MODIFIED:20260301T082630Z
UID:10002012-1818237600-1818244800@cal.everettcommunity.org
SUMMARY:SnoCo LGBTQI+ Meetup
DESCRIPTION:We are an inclusive social group for LGBTQI+ individuals of all ages in Snohomish County\, Washington. Join us for a free morning meetup at Butter Notes Cafe.
URL:https://cal.everettcommunity.org/event/snoco-lgbtqi-meetup/2027-08-14/
LOCATION:Butter Notes Cafe\, 902 N Broadway\, Unit B\, Everett\, WA\, 98201\, United States
CATEGORIES:Charity & Causes,Food & Drink
ATTACH;FMTTYPE=image/jpeg:https://cal.everettcommunity.org/wp-content/uploads/2026/02/lgbt.jpg
END:VEVENT
BEGIN:VEVENT
DTSTART;TZID=America/Los_Angeles:20270819T150000
DTEND;TZID=America/Los_Angeles:20270819T190000
DTSTAMP:20260421T104654
CREATED:20251231T082712Z
LAST-MODIFIED:20251231T082712Z
UID:10000939-1818687600-1818702000@cal.everettcommunity.org
SUMMARY:Free Community Night at Imagine Children's Museum
DESCRIPTION:All families with children ages 12 and under are invited to attend this free event\, and can bring the whole family! Community Access Nights offer families free admission during these special times to strengthen bonds\, promote new friendships\, and spark creativity through playful learning.
URL:https://cal.everettcommunity.org/event/free-community-night-at-imagine-childrens-museum/2027-08-19/
LOCATION:Imagine Children’s Museum\, 1502 Wall St\, Everett\, WA\, 98201\, United States
CATEGORIES:Charity & Causes
ATTACH;FMTTYPE=image/jpeg:https://cal.everettcommunity.org/wp-content/uploads/2025/12/imagine.jpg
END:VEVENT
BEGIN:VEVENT
DTSTART;TZID=America/Los_Angeles:20270821T100000
DTEND;TZID=America/Los_Angeles:20270821T120000
DTSTAMP:20260421T104654
CREATED:20260223T191403Z
LAST-MODIFIED:20260301T082630Z
UID:10002013-1818842400-1818849600@cal.everettcommunity.org
SUMMARY:SnoCo LGBTQI+ Meetup
DESCRIPTION:We are an inclusive social group for LGBTQI+ individuals of all ages in Snohomish County\, Washington. Join us for a free morning meetup at Butter Notes Cafe.
URL:https://cal.everettcommunity.org/event/snoco-lgbtqi-meetup/2027-08-21/
LOCATION:Butter Notes Cafe\, 902 N Broadway\, Unit B\, Everett\, WA\, 98201\, United States
CATEGORIES:Charity & Causes,Food & Drink
ATTACH;FMTTYPE=image/jpeg:https://cal.everettcommunity.org/wp-content/uploads/2026/02/lgbt.jpg
END:VEVENT
BEGIN:VEVENT
DTSTART;TZID=America/Los_Angeles:20270828T100000
DTEND;TZID=America/Los_Angeles:20270828T120000
DTSTAMP:20260421T104654
CREATED:20260223T191403Z
LAST-MODIFIED:20260301T082630Z
UID:10002014-1819447200-1819454400@cal.everettcommunity.org
SUMMARY:SnoCo LGBTQI+ Meetup
DESCRIPTION:We are an inclusive social group for LGBTQI+ individuals of all ages in Snohomish County\, Washington. Join us for a free morning meetup at Butter Notes Cafe.
URL:https://cal.everettcommunity.org/event/snoco-lgbtqi-meetup/2027-08-28/
LOCATION:Butter Notes Cafe\, 902 N Broadway\, Unit B\, Everett\, WA\, 98201\, United States
CATEGORIES:Charity & Causes,Food & Drink
ATTACH;FMTTYPE=image/jpeg:https://cal.everettcommunity.org/wp-content/uploads/2026/02/lgbt.jpg
END:VEVENT
BEGIN:VEVENT
DTSTART;TZID=America/Los_Angeles:20270904T100000
DTEND;TZID=America/Los_Angeles:20270904T120000
DTSTAMP:20260421T104654
CREATED:20260223T191403Z
LAST-MODIFIED:20260301T082630Z
UID:10002015-1820052000-1820059200@cal.everettcommunity.org
SUMMARY:SnoCo LGBTQI+ Meetup
DESCRIPTION:We are an inclusive social group for LGBTQI+ individuals of all ages in Snohomish County\, Washington. Join us for a free morning meetup at Butter Notes Cafe.
URL:https://cal.everettcommunity.org/event/snoco-lgbtqi-meetup/2027-09-04/
LOCATION:Butter Notes Cafe\, 902 N Broadway\, Unit B\, Everett\, WA\, 98201\, United States
CATEGORIES:Charity & Causes,Food & Drink
ATTACH;FMTTYPE=image/jpeg:https://cal.everettcommunity.org/wp-content/uploads/2026/02/lgbt.jpg
END:VEVENT
BEGIN:VEVENT
DTSTART;TZID=America/Los_Angeles:20270911T100000
DTEND;TZID=America/Los_Angeles:20270911T120000
DTSTAMP:20260421T104654
CREATED:20260223T191403Z
LAST-MODIFIED:20260301T082630Z
UID:10002016-1820656800-1820664000@cal.everettcommunity.org
SUMMARY:SnoCo LGBTQI+ Meetup
DESCRIPTION:We are an inclusive social group for LGBTQI+ individuals of all ages in Snohomish County\, Washington. Join us for a free morning meetup at Butter Notes Cafe.
URL:https://cal.everettcommunity.org/event/snoco-lgbtqi-meetup/2027-09-11/
LOCATION:Butter Notes Cafe\, 902 N Broadway\, Unit B\, Everett\, WA\, 98201\, United States
CATEGORIES:Charity & Causes,Food & Drink
ATTACH;FMTTYPE=image/jpeg:https://cal.everettcommunity.org/wp-content/uploads/2026/02/lgbt.jpg
END:VEVENT
BEGIN:VEVENT
DTSTART;TZID=America/Los_Angeles:20270916T150000
DTEND;TZID=America/Los_Angeles:20270916T190000
DTSTAMP:20260421T104654
CREATED:20251231T082712Z
LAST-MODIFIED:20251231T082712Z
UID:10000940-1821106800-1821121200@cal.everettcommunity.org
SUMMARY:Free Community Night at Imagine Children's Museum
DESCRIPTION:All families with children ages 12 and under are invited to attend this free event\, and can bring the whole family! Community Access Nights offer families free admission during these special times to strengthen bonds\, promote new friendships\, and spark creativity through playful learning.
URL:https://cal.everettcommunity.org/event/free-community-night-at-imagine-childrens-museum/2027-09-16/
LOCATION:Imagine Children’s Museum\, 1502 Wall St\, Everett\, WA\, 98201\, United States
CATEGORIES:Charity & Causes
ATTACH;FMTTYPE=image/jpeg:https://cal.everettcommunity.org/wp-content/uploads/2025/12/imagine.jpg
END:VEVENT
BEGIN:VEVENT
DTSTART;TZID=America/Los_Angeles:20270918T100000
DTEND;TZID=America/Los_Angeles:20270918T120000
DTSTAMP:20260421T104654
CREATED:20260223T191403Z
LAST-MODIFIED:20260301T082630Z
UID:10002017-1821261600-1821268800@cal.everettcommunity.org
SUMMARY:SnoCo LGBTQI+ Meetup
DESCRIPTION:We are an inclusive social group for LGBTQI+ individuals of all ages in Snohomish County\, Washington. Join us for a free morning meetup at Butter Notes Cafe.
URL:https://cal.everettcommunity.org/event/snoco-lgbtqi-meetup/2027-09-18/
LOCATION:Butter Notes Cafe\, 902 N Broadway\, Unit B\, Everett\, WA\, 98201\, United States
CATEGORIES:Charity & Causes,Food & Drink
ATTACH;FMTTYPE=image/jpeg:https://cal.everettcommunity.org/wp-content/uploads/2026/02/lgbt.jpg
END:VEVENT
BEGIN:VEVENT
DTSTART;TZID=America/Los_Angeles:20270925T100000
DTEND;TZID=America/Los_Angeles:20270925T120000
DTSTAMP:20260421T104654
CREATED:20260223T191403Z
LAST-MODIFIED:20260301T082630Z
UID:10002018-1821866400-1821873600@cal.everettcommunity.org
SUMMARY:SnoCo LGBTQI+ Meetup
DESCRIPTION:We are an inclusive social group for LGBTQI+ individuals of all ages in Snohomish County\, Washington. Join us for a free morning meetup at Butter Notes Cafe.
URL:https://cal.everettcommunity.org/event/snoco-lgbtqi-meetup/2027-09-25/
LOCATION:Butter Notes Cafe\, 902 N Broadway\, Unit B\, Everett\, WA\, 98201\, United States
CATEGORIES:Charity & Causes,Food & Drink
ATTACH;FMTTYPE=image/jpeg:https://cal.everettcommunity.org/wp-content/uploads/2026/02/lgbt.jpg
END:VEVENT
BEGIN:VEVENT
DTSTART;TZID=America/Los_Angeles:20271002T100000
DTEND;TZID=America/Los_Angeles:20271002T120000
DTSTAMP:20260421T104654
CREATED:20260223T191403Z
LAST-MODIFIED:20260301T082630Z
UID:10002019-1822471200-1822478400@cal.everettcommunity.org
SUMMARY:SnoCo LGBTQI+ Meetup
DESCRIPTION:We are an inclusive social group for LGBTQI+ individuals of all ages in Snohomish County\, Washington. Join us for a free morning meetup at Butter Notes Cafe.
URL:https://cal.everettcommunity.org/event/snoco-lgbtqi-meetup/2027-10-02/
LOCATION:Butter Notes Cafe\, 902 N Broadway\, Unit B\, Everett\, WA\, 98201\, United States
CATEGORIES:Charity & Causes,Food & Drink
ATTACH;FMTTYPE=image/jpeg:https://cal.everettcommunity.org/wp-content/uploads/2026/02/lgbt.jpg
END:VEVENT
BEGIN:VEVENT
DTSTART;TZID=America/Los_Angeles:20271009T100000
DTEND;TZID=America/Los_Angeles:20271009T120000
DTSTAMP:20260421T104654
CREATED:20260223T191403Z
LAST-MODIFIED:20260301T082630Z
UID:10002020-1823076000-1823083200@cal.everettcommunity.org
SUMMARY:SnoCo LGBTQI+ Meetup
DESCRIPTION:We are an inclusive social group for LGBTQI+ individuals of all ages in Snohomish County\, Washington. Join us for a free morning meetup at Butter Notes Cafe.
URL:https://cal.everettcommunity.org/event/snoco-lgbtqi-meetup/2027-10-09/
LOCATION:Butter Notes Cafe\, 902 N Broadway\, Unit B\, Everett\, WA\, 98201\, United States
CATEGORIES:Charity & Causes,Food & Drink
ATTACH;FMTTYPE=image/jpeg:https://cal.everettcommunity.org/wp-content/uploads/2026/02/lgbt.jpg
END:VEVENT
BEGIN:VEVENT
DTSTART;TZID=America/Los_Angeles:20271016T100000
DTEND;TZID=America/Los_Angeles:20271016T120000
DTSTAMP:20260421T104654
CREATED:20260223T191403Z
LAST-MODIFIED:20260301T082630Z
UID:10002021-1823680800-1823688000@cal.everettcommunity.org
SUMMARY:SnoCo LGBTQI+ Meetup
DESCRIPTION:We are an inclusive social group for LGBTQI+ individuals of all ages in Snohomish County\, Washington. Join us for a free morning meetup at Butter Notes Cafe.
URL:https://cal.everettcommunity.org/event/snoco-lgbtqi-meetup/2027-10-16/
LOCATION:Butter Notes Cafe\, 902 N Broadway\, Unit B\, Everett\, WA\, 98201\, United States
CATEGORIES:Charity & Causes,Food & Drink
ATTACH;FMTTYPE=image/jpeg:https://cal.everettcommunity.org/wp-content/uploads/2026/02/lgbt.jpg
END:VEVENT
BEGIN:VEVENT
DTSTART;TZID=America/Los_Angeles:20271021T150000
DTEND;TZID=America/Los_Angeles:20271021T190000
DTSTAMP:20260421T104654
CREATED:20251231T082712Z
LAST-MODIFIED:20251231T082712Z
UID:10000941-1824130800-1824145200@cal.everettcommunity.org
SUMMARY:Free Community Night at Imagine Children's Museum
DESCRIPTION:All families with children ages 12 and under are invited to attend this free event\, and can bring the whole family! Community Access Nights offer families free admission during these special times to strengthen bonds\, promote new friendships\, and spark creativity through playful learning.
URL:https://cal.everettcommunity.org/event/free-community-night-at-imagine-childrens-museum/2027-10-21/
LOCATION:Imagine Children’s Museum\, 1502 Wall St\, Everett\, WA\, 98201\, United States
CATEGORIES:Charity & Causes
ATTACH;FMTTYPE=image/jpeg:https://cal.everettcommunity.org/wp-content/uploads/2025/12/imagine.jpg
END:VEVENT
BEGIN:VEVENT
DTSTART;TZID=America/Los_Angeles:20271023T100000
DTEND;TZID=America/Los_Angeles:20271023T120000
DTSTAMP:20260421T104654
CREATED:20260223T191403Z
LAST-MODIFIED:20260301T082630Z
UID:10002022-1824285600-1824292800@cal.everettcommunity.org
SUMMARY:SnoCo LGBTQI+ Meetup
DESCRIPTION:We are an inclusive social group for LGBTQI+ individuals of all ages in Snohomish County\, Washington. Join us for a free morning meetup at Butter Notes Cafe.
URL:https://cal.everettcommunity.org/event/snoco-lgbtqi-meetup/2027-10-23/
LOCATION:Butter Notes Cafe\, 902 N Broadway\, Unit B\, Everett\, WA\, 98201\, United States
CATEGORIES:Charity & Causes,Food & Drink
ATTACH;FMTTYPE=image/jpeg:https://cal.everettcommunity.org/wp-content/uploads/2026/02/lgbt.jpg
END:VEVENT
BEGIN:VEVENT
DTSTART;TZID=America/Los_Angeles:20271030T100000
DTEND;TZID=America/Los_Angeles:20271030T120000
DTSTAMP:20260421T104654
CREATED:20260223T191403Z
LAST-MODIFIED:20260301T082630Z
UID:10002023-1824890400-1824897600@cal.everettcommunity.org
SUMMARY:SnoCo LGBTQI+ Meetup
DESCRIPTION:We are an inclusive social group for LGBTQI+ individuals of all ages in Snohomish County\, Washington. Join us for a free morning meetup at Butter Notes Cafe.
URL:https://cal.everettcommunity.org/event/snoco-lgbtqi-meetup/2027-10-30/
LOCATION:Butter Notes Cafe\, 902 N Broadway\, Unit B\, Everett\, WA\, 98201\, United States
CATEGORIES:Charity & Causes,Food & Drink
ATTACH;FMTTYPE=image/jpeg:https://cal.everettcommunity.org/wp-content/uploads/2026/02/lgbt.jpg
END:VEVENT
BEGIN:VEVENT
DTSTART;TZID=America/Los_Angeles:20271106T100000
DTEND;TZID=America/Los_Angeles:20271106T120000
DTSTAMP:20260421T104654
CREATED:20260223T191403Z
LAST-MODIFIED:20260301T082630Z
UID:10002024-1825495200-1825502400@cal.everettcommunity.org
SUMMARY:SnoCo LGBTQI+ Meetup
DESCRIPTION:We are an inclusive social group for LGBTQI+ individuals of all ages in Snohomish County\, Washington. Join us for a free morning meetup at Butter Notes Cafe.
URL:https://cal.everettcommunity.org/event/snoco-lgbtqi-meetup/2027-11-06/
LOCATION:Butter Notes Cafe\, 902 N Broadway\, Unit B\, Everett\, WA\, 98201\, United States
CATEGORIES:Charity & Causes,Food & Drink
ATTACH;FMTTYPE=image/jpeg:https://cal.everettcommunity.org/wp-content/uploads/2026/02/lgbt.jpg
END:VEVENT
BEGIN:VEVENT
DTSTART;TZID=America/Los_Angeles:20271113T100000
DTEND;TZID=America/Los_Angeles:20271113T120000
DTSTAMP:20260421T104654
CREATED:20260223T191403Z
LAST-MODIFIED:20260301T082630Z
UID:10002025-1826100000-1826107200@cal.everettcommunity.org
SUMMARY:SnoCo LGBTQI+ Meetup
DESCRIPTION:We are an inclusive social group for LGBTQI+ individuals of all ages in Snohomish County\, Washington. Join us for a free morning meetup at Butter Notes Cafe.
URL:https://cal.everettcommunity.org/event/snoco-lgbtqi-meetup/2027-11-13/
LOCATION:Butter Notes Cafe\, 902 N Broadway\, Unit B\, Everett\, WA\, 98201\, United States
CATEGORIES:Charity & Causes,Food & Drink
ATTACH;FMTTYPE=image/jpeg:https://cal.everettcommunity.org/wp-content/uploads/2026/02/lgbt.jpg
END:VEVENT
BEGIN:VEVENT
DTSTART;TZID=America/Los_Angeles:20271118T150000
DTEND;TZID=America/Los_Angeles:20271118T190000
DTSTAMP:20260421T104654
CREATED:20251231T082712Z
LAST-MODIFIED:20251231T082712Z
UID:10000942-1826550000-1826564400@cal.everettcommunity.org
SUMMARY:Free Community Night at Imagine Children's Museum
DESCRIPTION:All families with children ages 12 and under are invited to attend this free event\, and can bring the whole family! Community Access Nights offer families free admission during these special times to strengthen bonds\, promote new friendships\, and spark creativity through playful learning.
URL:https://cal.everettcommunity.org/event/free-community-night-at-imagine-childrens-museum/2027-11-18/
LOCATION:Imagine Children’s Museum\, 1502 Wall St\, Everett\, WA\, 98201\, United States
CATEGORIES:Charity & Causes
ATTACH;FMTTYPE=image/jpeg:https://cal.everettcommunity.org/wp-content/uploads/2025/12/imagine.jpg
END:VEVENT
BEGIN:VEVENT
DTSTART;TZID=America/Los_Angeles:20271120T100000
DTEND;TZID=America/Los_Angeles:20271120T120000
DTSTAMP:20260421T104654
CREATED:20260223T191403Z
LAST-MODIFIED:20260301T082630Z
UID:10002026-1826704800-1826712000@cal.everettcommunity.org
SUMMARY:SnoCo LGBTQI+ Meetup
DESCRIPTION:We are an inclusive social group for LGBTQI+ individuals of all ages in Snohomish County\, Washington. Join us for a free morning meetup at Butter Notes Cafe.
URL:https://cal.everettcommunity.org/event/snoco-lgbtqi-meetup/2027-11-20/
LOCATION:Butter Notes Cafe\, 902 N Broadway\, Unit B\, Everett\, WA\, 98201\, United States
CATEGORIES:Charity & Causes,Food & Drink
ATTACH;FMTTYPE=image/jpeg:https://cal.everettcommunity.org/wp-content/uploads/2026/02/lgbt.jpg
END:VEVENT
BEGIN:VEVENT
DTSTART;TZID=America/Los_Angeles:20271127T100000
DTEND;TZID=America/Los_Angeles:20271127T120000
DTSTAMP:20260421T104654
CREATED:20260223T191403Z
LAST-MODIFIED:20260301T082630Z
UID:10002027-1827309600-1827316800@cal.everettcommunity.org
SUMMARY:SnoCo LGBTQI+ Meetup
DESCRIPTION:We are an inclusive social group for LGBTQI+ individuals of all ages in Snohomish County\, Washington. Join us for a free morning meetup at Butter Notes Cafe.
URL:https://cal.everettcommunity.org/event/snoco-lgbtqi-meetup/2027-11-27/
LOCATION:Butter Notes Cafe\, 902 N Broadway\, Unit B\, Everett\, WA\, 98201\, United States
CATEGORIES:Charity & Causes,Food & Drink
ATTACH;FMTTYPE=image/jpeg:https://cal.everettcommunity.org/wp-content/uploads/2026/02/lgbt.jpg
END:VEVENT
BEGIN:VEVENT
DTSTART;TZID=America/Los_Angeles:20271204T100000
DTEND;TZID=America/Los_Angeles:20271204T120000
DTSTAMP:20260421T104654
CREATED:20260223T191403Z
LAST-MODIFIED:20260301T082630Z
UID:10002028-1827914400-1827921600@cal.everettcommunity.org
SUMMARY:SnoCo LGBTQI+ Meetup
DESCRIPTION:We are an inclusive social group for LGBTQI+ individuals of all ages in Snohomish County\, Washington. Join us for a free morning meetup at Butter Notes Cafe.
URL:https://cal.everettcommunity.org/event/snoco-lgbtqi-meetup/2027-12-04/
LOCATION:Butter Notes Cafe\, 902 N Broadway\, Unit B\, Everett\, WA\, 98201\, United States
CATEGORIES:Charity & Causes,Food & Drink
ATTACH;FMTTYPE=image/jpeg:https://cal.everettcommunity.org/wp-content/uploads/2026/02/lgbt.jpg
END:VEVENT
BEGIN:VEVENT
DTSTART;TZID=America/Los_Angeles:20271211T100000
DTEND;TZID=America/Los_Angeles:20271211T120000
DTSTAMP:20260421T104654
CREATED:20260223T191403Z
LAST-MODIFIED:20260301T082630Z
UID:10002029-1828519200-1828526400@cal.everettcommunity.org
SUMMARY:SnoCo LGBTQI+ Meetup
DESCRIPTION:We are an inclusive social group for LGBTQI+ individuals of all ages in Snohomish County\, Washington. Join us for a free morning meetup at Butter Notes Cafe.
URL:https://cal.everettcommunity.org/event/snoco-lgbtqi-meetup/2027-12-11/
LOCATION:Butter Notes Cafe\, 902 N Broadway\, Unit B\, Everett\, WA\, 98201\, United States
CATEGORIES:Charity & Causes,Food & Drink
ATTACH;FMTTYPE=image/jpeg:https://cal.everettcommunity.org/wp-content/uploads/2026/02/lgbt.jpg
END:VEVENT
END:VCALENDAR