BEGIN:VCALENDAR
VERSION:2.0
PRODID:-//Everett Community - ECPv6.15.20//NONSGML v1.0//EN
CALSCALE:GREGORIAN
METHOD:PUBLISH
X-ORIGINAL-URL:https://cal.everettcommunity.org
X-WR-CALDESC:Events for Everett Community
REFRESH-INTERVAL;VALUE=DURATION:PT1H
X-Robots-Tag:noindex
X-PUBLISHED-TTL:PT1H
BEGIN:VTIMEZONE
TZID:America/Los_Angeles
BEGIN:DAYLIGHT
TZOFFSETFROM:-0800
TZOFFSETTO:-0700
TZNAME:PDT
DTSTART:20270314T100000
END:DAYLIGHT
BEGIN:STANDARD
TZOFFSETFROM:-0700
TZOFFSETTO:-0800
TZNAME:PST
DTSTART:20271107T090000
END:STANDARD
BEGIN:DAYLIGHT
TZOFFSETFROM:-0800
TZOFFSETTO:-0700
TZNAME:PDT
DTSTART:20280312T100000
END:DAYLIGHT
BEGIN:STANDARD
TZOFFSETFROM:-0700
TZOFFSETTO:-0800
TZNAME:PST
DTSTART:20281105T090000
END:STANDARD
BEGIN:DAYLIGHT
TZOFFSETFROM:-0800
TZOFFSETTO:-0700
TZNAME:PDT
DTSTART:20290311T100000
END:DAYLIGHT
BEGIN:STANDARD
TZOFFSETFROM:-0700
TZOFFSETTO:-0800
TZNAME:PST
DTSTART:20291104T090000
END:STANDARD
BEGIN:DAYLIGHT
TZOFFSETFROM:-0800
TZOFFSETTO:-0700
TZNAME:PDT
DTSTART:20300310T100000
END:DAYLIGHT
BEGIN:STANDARD
TZOFFSETFROM:-0700
TZOFFSETTO:-0800
TZNAME:PST
DTSTART:20301103T090000
END:STANDARD
END:VTIMEZONE
BEGIN:VEVENT
DTSTART;TZID=America/Los_Angeles:20280722T100000
DTEND;TZID=America/Los_Angeles:20280722T120000
DTSTAMP:20260422T155210
CREATED:20260223T191403Z
LAST-MODIFIED:20260301T082630Z
UID:10002061-1847872800-1847880000@cal.everettcommunity.org
SUMMARY:SnoCo LGBTQI+ Meetup
DESCRIPTION:We are an inclusive social group for LGBTQI+ individuals of all ages in Snohomish County\, Washington. Join us for a free morning meetup at Butter Notes Cafe.
URL:https://cal.everettcommunity.org/event/snoco-lgbtqi-meetup/2028-07-22/
LOCATION:Butter Notes Cafe\, 902 N Broadway\, Unit B\, Everett\, WA\, 98201\, United States
CATEGORIES:Charity & Causes,Food & Drink
ATTACH;FMTTYPE=image/jpeg:https://cal.everettcommunity.org/wp-content/uploads/2026/02/lgbt.jpg
END:VEVENT
BEGIN:VEVENT
DTSTART;TZID=America/Los_Angeles:20280729T100000
DTEND;TZID=America/Los_Angeles:20280729T120000
DTSTAMP:20260422T155210
CREATED:20260223T191403Z
LAST-MODIFIED:20260301T082630Z
UID:10002062-1848477600-1848484800@cal.everettcommunity.org
SUMMARY:SnoCo LGBTQI+ Meetup
DESCRIPTION:We are an inclusive social group for LGBTQI+ individuals of all ages in Snohomish County\, Washington. Join us for a free morning meetup at Butter Notes Cafe.
URL:https://cal.everettcommunity.org/event/snoco-lgbtqi-meetup/2028-07-29/
LOCATION:Butter Notes Cafe\, 902 N Broadway\, Unit B\, Everett\, WA\, 98201\, United States
CATEGORIES:Charity & Causes,Food & Drink
ATTACH;FMTTYPE=image/jpeg:https://cal.everettcommunity.org/wp-content/uploads/2026/02/lgbt.jpg
END:VEVENT
BEGIN:VEVENT
DTSTART;TZID=America/Los_Angeles:20280805T100000
DTEND;TZID=America/Los_Angeles:20280805T120000
DTSTAMP:20260422T155210
CREATED:20260223T191403Z
LAST-MODIFIED:20260301T082630Z
UID:10002063-1849082400-1849089600@cal.everettcommunity.org
SUMMARY:SnoCo LGBTQI+ Meetup
DESCRIPTION:We are an inclusive social group for LGBTQI+ individuals of all ages in Snohomish County\, Washington. Join us for a free morning meetup at Butter Notes Cafe.
URL:https://cal.everettcommunity.org/event/snoco-lgbtqi-meetup/2028-08-05/
LOCATION:Butter Notes Cafe\, 902 N Broadway\, Unit B\, Everett\, WA\, 98201\, United States
CATEGORIES:Charity & Causes,Food & Drink
ATTACH;FMTTYPE=image/jpeg:https://cal.everettcommunity.org/wp-content/uploads/2026/02/lgbt.jpg
END:VEVENT
BEGIN:VEVENT
DTSTART;TZID=America/Los_Angeles:20280812T100000
DTEND;TZID=America/Los_Angeles:20280812T120000
DTSTAMP:20260422T155210
CREATED:20260223T191403Z
LAST-MODIFIED:20260301T082630Z
UID:10002064-1849687200-1849694400@cal.everettcommunity.org
SUMMARY:SnoCo LGBTQI+ Meetup
DESCRIPTION:We are an inclusive social group for LGBTQI+ individuals of all ages in Snohomish County\, Washington. Join us for a free morning meetup at Butter Notes Cafe.
URL:https://cal.everettcommunity.org/event/snoco-lgbtqi-meetup/2028-08-12/
LOCATION:Butter Notes Cafe\, 902 N Broadway\, Unit B\, Everett\, WA\, 98201\, United States
CATEGORIES:Charity & Causes,Food & Drink
ATTACH;FMTTYPE=image/jpeg:https://cal.everettcommunity.org/wp-content/uploads/2026/02/lgbt.jpg
END:VEVENT
BEGIN:VEVENT
DTSTART;TZID=America/Los_Angeles:20280817T150000
DTEND;TZID=America/Los_Angeles:20280817T190000
DTSTAMP:20260422T155210
CREATED:20251231T082712Z
LAST-MODIFIED:20251231T082712Z
UID:10000951-1850137200-1850151600@cal.everettcommunity.org
SUMMARY:Free Community Night at Imagine Children's Museum
DESCRIPTION:All families with children ages 12 and under are invited to attend this free event\, and can bring the whole family! Community Access Nights offer families free admission during these special times to strengthen bonds\, promote new friendships\, and spark creativity through playful learning.
URL:https://cal.everettcommunity.org/event/free-community-night-at-imagine-childrens-museum/2028-08-17/
LOCATION:Imagine Children’s Museum\, 1502 Wall St\, Everett\, WA\, 98201\, United States
CATEGORIES:Charity & Causes
ATTACH;FMTTYPE=image/jpeg:https://cal.everettcommunity.org/wp-content/uploads/2025/12/imagine.jpg
END:VEVENT
BEGIN:VEVENT
DTSTART;TZID=America/Los_Angeles:20280819T100000
DTEND;TZID=America/Los_Angeles:20280819T120000
DTSTAMP:20260422T155210
CREATED:20260223T191403Z
LAST-MODIFIED:20260301T082630Z
UID:10002065-1850292000-1850299200@cal.everettcommunity.org
SUMMARY:SnoCo LGBTQI+ Meetup
DESCRIPTION:We are an inclusive social group for LGBTQI+ individuals of all ages in Snohomish County\, Washington. Join us for a free morning meetup at Butter Notes Cafe.
URL:https://cal.everettcommunity.org/event/snoco-lgbtqi-meetup/2028-08-19/
LOCATION:Butter Notes Cafe\, 902 N Broadway\, Unit B\, Everett\, WA\, 98201\, United States
CATEGORIES:Charity & Causes,Food & Drink
ATTACH;FMTTYPE=image/jpeg:https://cal.everettcommunity.org/wp-content/uploads/2026/02/lgbt.jpg
END:VEVENT
BEGIN:VEVENT
DTSTART;TZID=America/Los_Angeles:20280826T100000
DTEND;TZID=America/Los_Angeles:20280826T120000
DTSTAMP:20260422T155210
CREATED:20260223T191403Z
LAST-MODIFIED:20260301T082630Z
UID:10002066-1850896800-1850904000@cal.everettcommunity.org
SUMMARY:SnoCo LGBTQI+ Meetup
DESCRIPTION:We are an inclusive social group for LGBTQI+ individuals of all ages in Snohomish County\, Washington. Join us for a free morning meetup at Butter Notes Cafe.
URL:https://cal.everettcommunity.org/event/snoco-lgbtqi-meetup/2028-08-26/
LOCATION:Butter Notes Cafe\, 902 N Broadway\, Unit B\, Everett\, WA\, 98201\, United States
CATEGORIES:Charity & Causes,Food & Drink
ATTACH;FMTTYPE=image/jpeg:https://cal.everettcommunity.org/wp-content/uploads/2026/02/lgbt.jpg
END:VEVENT
BEGIN:VEVENT
DTSTART;TZID=America/Los_Angeles:20280902T100000
DTEND;TZID=America/Los_Angeles:20280902T120000
DTSTAMP:20260422T155210
CREATED:20260223T191403Z
LAST-MODIFIED:20260301T082630Z
UID:10002067-1851501600-1851508800@cal.everettcommunity.org
SUMMARY:SnoCo LGBTQI+ Meetup
DESCRIPTION:We are an inclusive social group for LGBTQI+ individuals of all ages in Snohomish County\, Washington. Join us for a free morning meetup at Butter Notes Cafe.
URL:https://cal.everettcommunity.org/event/snoco-lgbtqi-meetup/2028-09-02/
LOCATION:Butter Notes Cafe\, 902 N Broadway\, Unit B\, Everett\, WA\, 98201\, United States
CATEGORIES:Charity & Causes,Food & Drink
ATTACH;FMTTYPE=image/jpeg:https://cal.everettcommunity.org/wp-content/uploads/2026/02/lgbt.jpg
END:VEVENT
BEGIN:VEVENT
DTSTART;TZID=America/Los_Angeles:20280909T100000
DTEND;TZID=America/Los_Angeles:20280909T120000
DTSTAMP:20260422T155210
CREATED:20260223T191403Z
LAST-MODIFIED:20260301T082630Z
UID:10002068-1852106400-1852113600@cal.everettcommunity.org
SUMMARY:SnoCo LGBTQI+ Meetup
DESCRIPTION:We are an inclusive social group for LGBTQI+ individuals of all ages in Snohomish County\, Washington. Join us for a free morning meetup at Butter Notes Cafe.
URL:https://cal.everettcommunity.org/event/snoco-lgbtqi-meetup/2028-09-09/
LOCATION:Butter Notes Cafe\, 902 N Broadway\, Unit B\, Everett\, WA\, 98201\, United States
CATEGORIES:Charity & Causes,Food & Drink
ATTACH;FMTTYPE=image/jpeg:https://cal.everettcommunity.org/wp-content/uploads/2026/02/lgbt.jpg
END:VEVENT
BEGIN:VEVENT
DTSTART;TZID=America/Los_Angeles:20280916T100000
DTEND;TZID=America/Los_Angeles:20280916T120000
DTSTAMP:20260422T155210
CREATED:20260223T191403Z
LAST-MODIFIED:20260301T082630Z
UID:10002069-1852711200-1852718400@cal.everettcommunity.org
SUMMARY:SnoCo LGBTQI+ Meetup
DESCRIPTION:We are an inclusive social group for LGBTQI+ individuals of all ages in Snohomish County\, Washington. Join us for a free morning meetup at Butter Notes Cafe.
URL:https://cal.everettcommunity.org/event/snoco-lgbtqi-meetup/2028-09-16/
LOCATION:Butter Notes Cafe\, 902 N Broadway\, Unit B\, Everett\, WA\, 98201\, United States
CATEGORIES:Charity & Causes,Food & Drink
ATTACH;FMTTYPE=image/jpeg:https://cal.everettcommunity.org/wp-content/uploads/2026/02/lgbt.jpg
END:VEVENT
BEGIN:VEVENT
DTSTART;TZID=America/Los_Angeles:20280921T150000
DTEND;TZID=America/Los_Angeles:20280921T190000
DTSTAMP:20260422T155210
CREATED:20251231T082712Z
LAST-MODIFIED:20251231T082712Z
UID:10000952-1853161200-1853175600@cal.everettcommunity.org
SUMMARY:Free Community Night at Imagine Children's Museum
DESCRIPTION:All families with children ages 12 and under are invited to attend this free event\, and can bring the whole family! Community Access Nights offer families free admission during these special times to strengthen bonds\, promote new friendships\, and spark creativity through playful learning.
URL:https://cal.everettcommunity.org/event/free-community-night-at-imagine-childrens-museum/2028-09-21/
LOCATION:Imagine Children’s Museum\, 1502 Wall St\, Everett\, WA\, 98201\, United States
CATEGORIES:Charity & Causes
ATTACH;FMTTYPE=image/jpeg:https://cal.everettcommunity.org/wp-content/uploads/2025/12/imagine.jpg
END:VEVENT
BEGIN:VEVENT
DTSTART;TZID=America/Los_Angeles:20280923T100000
DTEND;TZID=America/Los_Angeles:20280923T120000
DTSTAMP:20260422T155210
CREATED:20260223T191403Z
LAST-MODIFIED:20260301T082630Z
UID:10002070-1853316000-1853323200@cal.everettcommunity.org
SUMMARY:SnoCo LGBTQI+ Meetup
DESCRIPTION:We are an inclusive social group for LGBTQI+ individuals of all ages in Snohomish County\, Washington. Join us for a free morning meetup at Butter Notes Cafe.
URL:https://cal.everettcommunity.org/event/snoco-lgbtqi-meetup/2028-09-23/
LOCATION:Butter Notes Cafe\, 902 N Broadway\, Unit B\, Everett\, WA\, 98201\, United States
CATEGORIES:Charity & Causes,Food & Drink
ATTACH;FMTTYPE=image/jpeg:https://cal.everettcommunity.org/wp-content/uploads/2026/02/lgbt.jpg
END:VEVENT
BEGIN:VEVENT
DTSTART;TZID=America/Los_Angeles:20280930T100000
DTEND;TZID=America/Los_Angeles:20280930T120000
DTSTAMP:20260422T155210
CREATED:20260223T191403Z
LAST-MODIFIED:20260301T082630Z
UID:10002071-1853920800-1853928000@cal.everettcommunity.org
SUMMARY:SnoCo LGBTQI+ Meetup
DESCRIPTION:We are an inclusive social group for LGBTQI+ individuals of all ages in Snohomish County\, Washington. Join us for a free morning meetup at Butter Notes Cafe.
URL:https://cal.everettcommunity.org/event/snoco-lgbtqi-meetup/2028-09-30/
LOCATION:Butter Notes Cafe\, 902 N Broadway\, Unit B\, Everett\, WA\, 98201\, United States
CATEGORIES:Charity & Causes,Food & Drink
ATTACH;FMTTYPE=image/jpeg:https://cal.everettcommunity.org/wp-content/uploads/2026/02/lgbt.jpg
END:VEVENT
BEGIN:VEVENT
DTSTART;TZID=America/Los_Angeles:20281007T100000
DTEND;TZID=America/Los_Angeles:20281007T120000
DTSTAMP:20260422T155210
CREATED:20260223T191403Z
LAST-MODIFIED:20260301T082630Z
UID:10002072-1854525600-1854532800@cal.everettcommunity.org
SUMMARY:SnoCo LGBTQI+ Meetup
DESCRIPTION:We are an inclusive social group for LGBTQI+ individuals of all ages in Snohomish County\, Washington. Join us for a free morning meetup at Butter Notes Cafe.
URL:https://cal.everettcommunity.org/event/snoco-lgbtqi-meetup/2028-10-07/
LOCATION:Butter Notes Cafe\, 902 N Broadway\, Unit B\, Everett\, WA\, 98201\, United States
CATEGORIES:Charity & Causes,Food & Drink
ATTACH;FMTTYPE=image/jpeg:https://cal.everettcommunity.org/wp-content/uploads/2026/02/lgbt.jpg
END:VEVENT
BEGIN:VEVENT
DTSTART;TZID=America/Los_Angeles:20281014T100000
DTEND;TZID=America/Los_Angeles:20281014T120000
DTSTAMP:20260422T155210
CREATED:20260223T191403Z
LAST-MODIFIED:20260301T082630Z
UID:10002073-1855130400-1855137600@cal.everettcommunity.org
SUMMARY:SnoCo LGBTQI+ Meetup
DESCRIPTION:We are an inclusive social group for LGBTQI+ individuals of all ages in Snohomish County\, Washington. Join us for a free morning meetup at Butter Notes Cafe.
URL:https://cal.everettcommunity.org/event/snoco-lgbtqi-meetup/2028-10-14/
LOCATION:Butter Notes Cafe\, 902 N Broadway\, Unit B\, Everett\, WA\, 98201\, United States
CATEGORIES:Charity & Causes,Food & Drink
ATTACH;FMTTYPE=image/jpeg:https://cal.everettcommunity.org/wp-content/uploads/2026/02/lgbt.jpg
END:VEVENT
BEGIN:VEVENT
DTSTART;TZID=America/Los_Angeles:20281019T150000
DTEND;TZID=America/Los_Angeles:20281019T190000
DTSTAMP:20260422T155210
CREATED:20251231T082712Z
LAST-MODIFIED:20251231T082712Z
UID:10000953-1855580400-1855594800@cal.everettcommunity.org
SUMMARY:Free Community Night at Imagine Children's Museum
DESCRIPTION:All families with children ages 12 and under are invited to attend this free event\, and can bring the whole family! Community Access Nights offer families free admission during these special times to strengthen bonds\, promote new friendships\, and spark creativity through playful learning.
URL:https://cal.everettcommunity.org/event/free-community-night-at-imagine-childrens-museum/2028-10-19/
LOCATION:Imagine Children’s Museum\, 1502 Wall St\, Everett\, WA\, 98201\, United States
CATEGORIES:Charity & Causes
ATTACH;FMTTYPE=image/jpeg:https://cal.everettcommunity.org/wp-content/uploads/2025/12/imagine.jpg
END:VEVENT
BEGIN:VEVENT
DTSTART;TZID=America/Los_Angeles:20281021T100000
DTEND;TZID=America/Los_Angeles:20281021T120000
DTSTAMP:20260422T155210
CREATED:20260223T191403Z
LAST-MODIFIED:20260301T082630Z
UID:10002074-1855735200-1855742400@cal.everettcommunity.org
SUMMARY:SnoCo LGBTQI+ Meetup
DESCRIPTION:We are an inclusive social group for LGBTQI+ individuals of all ages in Snohomish County\, Washington. Join us for a free morning meetup at Butter Notes Cafe.
URL:https://cal.everettcommunity.org/event/snoco-lgbtqi-meetup/2028-10-21/
LOCATION:Butter Notes Cafe\, 902 N Broadway\, Unit B\, Everett\, WA\, 98201\, United States
CATEGORIES:Charity & Causes,Food & Drink
ATTACH;FMTTYPE=image/jpeg:https://cal.everettcommunity.org/wp-content/uploads/2026/02/lgbt.jpg
END:VEVENT
BEGIN:VEVENT
DTSTART;TZID=America/Los_Angeles:20281028T100000
DTEND;TZID=America/Los_Angeles:20281028T120000
DTSTAMP:20260422T155210
CREATED:20260223T191403Z
LAST-MODIFIED:20260301T082630Z
UID:10002075-1856340000-1856347200@cal.everettcommunity.org
SUMMARY:SnoCo LGBTQI+ Meetup
DESCRIPTION:We are an inclusive social group for LGBTQI+ individuals of all ages in Snohomish County\, Washington. Join us for a free morning meetup at Butter Notes Cafe.
URL:https://cal.everettcommunity.org/event/snoco-lgbtqi-meetup/2028-10-28/
LOCATION:Butter Notes Cafe\, 902 N Broadway\, Unit B\, Everett\, WA\, 98201\, United States
CATEGORIES:Charity & Causes,Food & Drink
ATTACH;FMTTYPE=image/jpeg:https://cal.everettcommunity.org/wp-content/uploads/2026/02/lgbt.jpg
END:VEVENT
BEGIN:VEVENT
DTSTART;TZID=America/Los_Angeles:20281104T100000
DTEND;TZID=America/Los_Angeles:20281104T120000
DTSTAMP:20260422T155210
CREATED:20260223T191403Z
LAST-MODIFIED:20260301T082630Z
UID:10002076-1856944800-1856952000@cal.everettcommunity.org
SUMMARY:SnoCo LGBTQI+ Meetup
DESCRIPTION:We are an inclusive social group for LGBTQI+ individuals of all ages in Snohomish County\, Washington. Join us for a free morning meetup at Butter Notes Cafe.
URL:https://cal.everettcommunity.org/event/snoco-lgbtqi-meetup/2028-11-04/
LOCATION:Butter Notes Cafe\, 902 N Broadway\, Unit B\, Everett\, WA\, 98201\, United States
CATEGORIES:Charity & Causes,Food & Drink
ATTACH;FMTTYPE=image/jpeg:https://cal.everettcommunity.org/wp-content/uploads/2026/02/lgbt.jpg
END:VEVENT
BEGIN:VEVENT
DTSTART;TZID=America/Los_Angeles:20281111T100000
DTEND;TZID=America/Los_Angeles:20281111T120000
DTSTAMP:20260422T155210
CREATED:20260223T191403Z
LAST-MODIFIED:20260301T082630Z
UID:10002077-1857549600-1857556800@cal.everettcommunity.org
SUMMARY:SnoCo LGBTQI+ Meetup
DESCRIPTION:We are an inclusive social group for LGBTQI+ individuals of all ages in Snohomish County\, Washington. Join us for a free morning meetup at Butter Notes Cafe.
URL:https://cal.everettcommunity.org/event/snoco-lgbtqi-meetup/2028-11-11/
LOCATION:Butter Notes Cafe\, 902 N Broadway\, Unit B\, Everett\, WA\, 98201\, United States
CATEGORIES:Charity & Causes,Food & Drink
ATTACH;FMTTYPE=image/jpeg:https://cal.everettcommunity.org/wp-content/uploads/2026/02/lgbt.jpg
END:VEVENT
BEGIN:VEVENT
DTSTART;TZID=America/Los_Angeles:20281116T150000
DTEND;TZID=America/Los_Angeles:20281116T190000
DTSTAMP:20260422T155210
CREATED:20251231T082712Z
LAST-MODIFIED:20251231T082712Z
UID:10000954-1857999600-1858014000@cal.everettcommunity.org
SUMMARY:Free Community Night at Imagine Children's Museum
DESCRIPTION:All families with children ages 12 and under are invited to attend this free event\, and can bring the whole family! Community Access Nights offer families free admission during these special times to strengthen bonds\, promote new friendships\, and spark creativity through playful learning.
URL:https://cal.everettcommunity.org/event/free-community-night-at-imagine-childrens-museum/2028-11-16/
LOCATION:Imagine Children’s Museum\, 1502 Wall St\, Everett\, WA\, 98201\, United States
CATEGORIES:Charity & Causes
ATTACH;FMTTYPE=image/jpeg:https://cal.everettcommunity.org/wp-content/uploads/2025/12/imagine.jpg
END:VEVENT
BEGIN:VEVENT
DTSTART;TZID=America/Los_Angeles:20281118T100000
DTEND;TZID=America/Los_Angeles:20281118T120000
DTSTAMP:20260422T155210
CREATED:20260223T191403Z
LAST-MODIFIED:20260301T082630Z
UID:10002078-1858154400-1858161600@cal.everettcommunity.org
SUMMARY:SnoCo LGBTQI+ Meetup
DESCRIPTION:We are an inclusive social group for LGBTQI+ individuals of all ages in Snohomish County\, Washington. Join us for a free morning meetup at Butter Notes Cafe.
URL:https://cal.everettcommunity.org/event/snoco-lgbtqi-meetup/2028-11-18/
LOCATION:Butter Notes Cafe\, 902 N Broadway\, Unit B\, Everett\, WA\, 98201\, United States
CATEGORIES:Charity & Causes,Food & Drink
ATTACH;FMTTYPE=image/jpeg:https://cal.everettcommunity.org/wp-content/uploads/2026/02/lgbt.jpg
END:VEVENT
BEGIN:VEVENT
DTSTART;TZID=America/Los_Angeles:20281125T100000
DTEND;TZID=America/Los_Angeles:20281125T120000
DTSTAMP:20260422T155210
CREATED:20260223T191403Z
LAST-MODIFIED:20260301T082630Z
UID:10002079-1858759200-1858766400@cal.everettcommunity.org
SUMMARY:SnoCo LGBTQI+ Meetup
DESCRIPTION:We are an inclusive social group for LGBTQI+ individuals of all ages in Snohomish County\, Washington. Join us for a free morning meetup at Butter Notes Cafe.
URL:https://cal.everettcommunity.org/event/snoco-lgbtqi-meetup/2028-11-25/
LOCATION:Butter Notes Cafe\, 902 N Broadway\, Unit B\, Everett\, WA\, 98201\, United States
CATEGORIES:Charity & Causes,Food & Drink
ATTACH;FMTTYPE=image/jpeg:https://cal.everettcommunity.org/wp-content/uploads/2026/02/lgbt.jpg
END:VEVENT
BEGIN:VEVENT
DTSTART;TZID=America/Los_Angeles:20281202T100000
DTEND;TZID=America/Los_Angeles:20281202T120000
DTSTAMP:20260422T155210
CREATED:20260223T191403Z
LAST-MODIFIED:20260301T082630Z
UID:10002080-1859364000-1859371200@cal.everettcommunity.org
SUMMARY:SnoCo LGBTQI+ Meetup
DESCRIPTION:We are an inclusive social group for LGBTQI+ individuals of all ages in Snohomish County\, Washington. Join us for a free morning meetup at Butter Notes Cafe.
URL:https://cal.everettcommunity.org/event/snoco-lgbtqi-meetup/2028-12-02/
LOCATION:Butter Notes Cafe\, 902 N Broadway\, Unit B\, Everett\, WA\, 98201\, United States
CATEGORIES:Charity & Causes,Food & Drink
ATTACH;FMTTYPE=image/jpeg:https://cal.everettcommunity.org/wp-content/uploads/2026/02/lgbt.jpg
END:VEVENT
BEGIN:VEVENT
DTSTART;TZID=America/Los_Angeles:20281209T100000
DTEND;TZID=America/Los_Angeles:20281209T120000
DTSTAMP:20260422T155210
CREATED:20260223T191403Z
LAST-MODIFIED:20260301T082630Z
UID:10002081-1859968800-1859976000@cal.everettcommunity.org
SUMMARY:SnoCo LGBTQI+ Meetup
DESCRIPTION:We are an inclusive social group for LGBTQI+ individuals of all ages in Snohomish County\, Washington. Join us for a free morning meetup at Butter Notes Cafe.
URL:https://cal.everettcommunity.org/event/snoco-lgbtqi-meetup/2028-12-09/
LOCATION:Butter Notes Cafe\, 902 N Broadway\, Unit B\, Everett\, WA\, 98201\, United States
CATEGORIES:Charity & Causes,Food & Drink
ATTACH;FMTTYPE=image/jpeg:https://cal.everettcommunity.org/wp-content/uploads/2026/02/lgbt.jpg
END:VEVENT
BEGIN:VEVENT
DTSTART;TZID=America/Los_Angeles:20281216T100000
DTEND;TZID=America/Los_Angeles:20281216T120000
DTSTAMP:20260422T155210
CREATED:20260223T191403Z
LAST-MODIFIED:20260301T082630Z
UID:10002082-1860573600-1860580800@cal.everettcommunity.org
SUMMARY:SnoCo LGBTQI+ Meetup
DESCRIPTION:We are an inclusive social group for LGBTQI+ individuals of all ages in Snohomish County\, Washington. Join us for a free morning meetup at Butter Notes Cafe.
URL:https://cal.everettcommunity.org/event/snoco-lgbtqi-meetup/2028-12-16/
LOCATION:Butter Notes Cafe\, 902 N Broadway\, Unit B\, Everett\, WA\, 98201\, United States
CATEGORIES:Charity & Causes,Food & Drink
ATTACH;FMTTYPE=image/jpeg:https://cal.everettcommunity.org/wp-content/uploads/2026/02/lgbt.jpg
END:VEVENT
BEGIN:VEVENT
DTSTART;TZID=America/Los_Angeles:20281221T150000
DTEND;TZID=America/Los_Angeles:20281221T190000
DTSTAMP:20260422T155210
CREATED:20251231T082712Z
LAST-MODIFIED:20251231T082712Z
UID:10000955-1861023600-1861038000@cal.everettcommunity.org
SUMMARY:Free Community Night at Imagine Children's Museum
DESCRIPTION:All families with children ages 12 and under are invited to attend this free event\, and can bring the whole family! Community Access Nights offer families free admission during these special times to strengthen bonds\, promote new friendships\, and spark creativity through playful learning.
URL:https://cal.everettcommunity.org/event/free-community-night-at-imagine-childrens-museum/2028-12-21/
LOCATION:Imagine Children’s Museum\, 1502 Wall St\, Everett\, WA\, 98201\, United States
CATEGORIES:Charity & Causes
ATTACH;FMTTYPE=image/jpeg:https://cal.everettcommunity.org/wp-content/uploads/2025/12/imagine.jpg
END:VEVENT
BEGIN:VEVENT
DTSTART;TZID=America/Los_Angeles:20281223T100000
DTEND;TZID=America/Los_Angeles:20281223T120000
DTSTAMP:20260422T155210
CREATED:20260223T191403Z
LAST-MODIFIED:20260301T082630Z
UID:10002083-1861178400-1861185600@cal.everettcommunity.org
SUMMARY:SnoCo LGBTQI+ Meetup
DESCRIPTION:We are an inclusive social group for LGBTQI+ individuals of all ages in Snohomish County\, Washington. Join us for a free morning meetup at Butter Notes Cafe.
URL:https://cal.everettcommunity.org/event/snoco-lgbtqi-meetup/2028-12-23/
LOCATION:Butter Notes Cafe\, 902 N Broadway\, Unit B\, Everett\, WA\, 98201\, United States
CATEGORIES:Charity & Causes,Food & Drink
ATTACH;FMTTYPE=image/jpeg:https://cal.everettcommunity.org/wp-content/uploads/2026/02/lgbt.jpg
END:VEVENT
BEGIN:VEVENT
DTSTART;TZID=America/Los_Angeles:20281230T100000
DTEND;TZID=America/Los_Angeles:20281230T120000
DTSTAMP:20260422T155210
CREATED:20260223T191403Z
LAST-MODIFIED:20260301T082630Z
UID:10002084-1861783200-1861790400@cal.everettcommunity.org
SUMMARY:SnoCo LGBTQI+ Meetup
DESCRIPTION:We are an inclusive social group for LGBTQI+ individuals of all ages in Snohomish County\, Washington. Join us for a free morning meetup at Butter Notes Cafe.
URL:https://cal.everettcommunity.org/event/snoco-lgbtqi-meetup/2028-12-30/
LOCATION:Butter Notes Cafe\, 902 N Broadway\, Unit B\, Everett\, WA\, 98201\, United States
CATEGORIES:Charity & Causes,Food & Drink
ATTACH;FMTTYPE=image/jpeg:https://cal.everettcommunity.org/wp-content/uploads/2026/02/lgbt.jpg
END:VEVENT
BEGIN:VEVENT
DTSTART;TZID=America/Los_Angeles:20290106T100000
DTEND;TZID=America/Los_Angeles:20290106T120000
DTSTAMP:20260422T155210
CREATED:20260223T191403Z
LAST-MODIFIED:20260301T082630Z
UID:10002085-1862388000-1862395200@cal.everettcommunity.org
SUMMARY:SnoCo LGBTQI+ Meetup
DESCRIPTION:We are an inclusive social group for LGBTQI+ individuals of all ages in Snohomish County\, Washington. Join us for a free morning meetup at Butter Notes Cafe.
URL:https://cal.everettcommunity.org/event/snoco-lgbtqi-meetup/2029-01-06/
LOCATION:Butter Notes Cafe\, 902 N Broadway\, Unit B\, Everett\, WA\, 98201\, United States
CATEGORIES:Charity & Causes,Food & Drink
ATTACH;FMTTYPE=image/jpeg:https://cal.everettcommunity.org/wp-content/uploads/2026/02/lgbt.jpg
END:VEVENT
END:VCALENDAR