BEGIN:VCALENDAR
VERSION:2.0
PRODID:-//Everett Community - ECPv6.15.20//NONSGML v1.0//EN
CALSCALE:GREGORIAN
METHOD:PUBLISH
X-WR-CALNAME:Everett Community
X-ORIGINAL-URL:https://cal.everettcommunity.org
X-WR-CALDESC:Events for Everett Community
REFRESH-INTERVAL;VALUE=DURATION:PT1H
X-Robots-Tag:noindex
X-PUBLISHED-TTL:PT1H
BEGIN:VTIMEZONE
TZID:America/Los_Angeles
BEGIN:DAYLIGHT
TZOFFSETFROM:-0800
TZOFFSETTO:-0700
TZNAME:PDT
DTSTART:20240310T100000
END:DAYLIGHT
BEGIN:STANDARD
TZOFFSETFROM:-0700
TZOFFSETTO:-0800
TZNAME:PST
DTSTART:20241103T090000
END:STANDARD
BEGIN:DAYLIGHT
TZOFFSETFROM:-0800
TZOFFSETTO:-0700
TZNAME:PDT
DTSTART:20250309T100000
END:DAYLIGHT
BEGIN:STANDARD
TZOFFSETFROM:-0700
TZOFFSETTO:-0800
TZNAME:PST
DTSTART:20251102T090000
END:STANDARD
BEGIN:DAYLIGHT
TZOFFSETFROM:-0800
TZOFFSETTO:-0700
TZNAME:PDT
DTSTART:20260308T100000
END:DAYLIGHT
BEGIN:STANDARD
TZOFFSETFROM:-0700
TZOFFSETTO:-0800
TZNAME:PST
DTSTART:20261101T090000
END:STANDARD
BEGIN:DAYLIGHT
TZOFFSETFROM:-0800
TZOFFSETTO:-0700
TZNAME:PDT
DTSTART:20270314T100000
END:DAYLIGHT
BEGIN:STANDARD
TZOFFSETFROM:-0700
TZOFFSETTO:-0800
TZNAME:PST
DTSTART:20271107T090000
END:STANDARD
END:VTIMEZONE
BEGIN:VEVENT
DTSTART;TZID=America/Los_Angeles:20260307T100000
DTEND;TZID=America/Los_Angeles:20260307T120000
DTSTAMP:20260421T014241
CREATED:20260223T191403Z
LAST-MODIFIED:20260301T082630Z
UID:10001937-1772877600-1772884800@cal.everettcommunity.org
SUMMARY:SnoCo LGBTQI+ Meetup
DESCRIPTION:We are an inclusive social group for LGBTQI+ individuals of all ages in Snohomish County\, Washington. Join us for a free morning meetup at Butter Notes Cafe.
URL:https://cal.everettcommunity.org/event/snoco-lgbtqi-meetup/2026-03-07/
LOCATION:Butter Notes Cafe\, 902 N Broadway\, Unit B\, Everett\, WA\, 98201\, United States
CATEGORIES:Charity & Causes,Food & Drink
ATTACH;FMTTYPE=image/jpeg:https://cal.everettcommunity.org/wp-content/uploads/2026/02/lgbt.jpg
END:VEVENT
BEGIN:VEVENT
DTSTART;TZID=America/Los_Angeles:20260228T100000
DTEND;TZID=America/Los_Angeles:20260228T120000
DTSTAMP:20260421T014242
CREATED:20260223T191403Z
LAST-MODIFIED:20260301T082630Z
UID:10001675-1772272800-1772280000@cal.everettcommunity.org
SUMMARY:SnoCo LGBTQI+ Meetup
DESCRIPTION:We are an inclusive social group for LGBTQI+ individuals of all ages in Snohomish County\, Washington. Join us for a free morning meetup at Butter Notes Cafe.
URL:https://cal.everettcommunity.org/event/snoco-lgbtqi-meetup/2026-02-28/
LOCATION:Butter Notes Cafe\, 902 N Broadway\, Unit B\, Everett\, WA\, 98201\, United States
CATEGORIES:Charity & Causes,Food & Drink
ATTACH;FMTTYPE=image/jpeg:https://cal.everettcommunity.org/wp-content/uploads/2026/02/lgbt.jpg
END:VEVENT
BEGIN:VEVENT
DTSTART;TZID=America/Los_Angeles:20260219T150000
DTEND;TZID=America/Los_Angeles:20260219T190000
DTSTAMP:20260421T014242
CREATED:20251231T082712Z
LAST-MODIFIED:20251231T082712Z
UID:10000921-1771513200-1771527600@cal.everettcommunity.org
SUMMARY:Free Community Night at Imagine Children's Museum
DESCRIPTION:All families with children ages 12 and under are invited to attend this free event\, and can bring the whole family! Community Access Nights offer families free admission during these special times to strengthen bonds\, promote new friendships\, and spark creativity through playful learning.
URL:https://cal.everettcommunity.org/event/free-community-night-at-imagine-childrens-museum/2026-02-19/
LOCATION:Imagine Children’s Museum\, 1502 Wall St\, Everett\, WA\, 98201\, United States
CATEGORIES:Charity & Causes
ATTACH;FMTTYPE=image/jpeg:https://cal.everettcommunity.org/wp-content/uploads/2025/12/imagine.jpg
END:VEVENT
BEGIN:VEVENT
DTSTART;TZID=America/Los_Angeles:20260205T170000
DTEND;TZID=America/Los_Angeles:20260205T183000
DTSTAMP:20260421T014242
CREATED:20260115T175031Z
LAST-MODIFIED:20260115T175031Z
UID:10001339-1770310800-1770316200@cal.everettcommunity.org
SUMMARY:Cocoon House Quarterly Community Forum
DESCRIPTION:Cocoon House forums provide an opportunity to learn more about our work\, hear from staff and engage in meaningful conversation about youth homelessness and prevention. These events are complementary; however\, reservations are recommended to ensure adequate seating and refreshments.
URL:https://cal.everettcommunity.org/event/cocoon-house-quarterly-community-forum/
LOCATION:Lynnwood Neighborhood Center\, 19511 64th Ave W\, Lynnwood\, WA\, 98036\, United States
CATEGORIES:Charity & Causes
ATTACH;FMTTYPE=image/jpeg:https://cal.everettcommunity.org/wp-content/uploads/2026/01/cocoon-flyer.jpg
END:VEVENT
BEGIN:VEVENT
DTSTART;TZID=America/Los_Angeles:20260119T110000
DTEND;TZID=America/Los_Angeles:20260119T140000
DTSTAMP:20260421T014242
CREATED:20260113T034226Z
LAST-MODIFIED:20260113T034226Z
UID:10001334-1768820400-1768831200@cal.everettcommunity.org
SUMMARY:MLK March & Rally
DESCRIPTION:Honor the legacy of Rev. Dr. Martin Luther King Jr. with the Greater Everett Area MLK March from Everett Memorial Stadium to VOAWW Carl Gipson Center. Hosted by the Snohomish County Black Heritage Committee.
URL:https://cal.everettcommunity.org/event/mlk-march-rally/
LOCATION:Everett Memorial Stadium\, 3900 Broadway\, Everett\, WA\, 98201\, United States
CATEGORIES:Charity & Causes
ATTACH;FMTTYPE=image/jpeg:https://cal.everettcommunity.org/wp-content/uploads/2026/01/mlk.jpg
END:VEVENT
BEGIN:VEVENT
DTSTART;TZID=America/Los_Angeles:20260115T150000
DTEND;TZID=America/Los_Angeles:20260115T190000
DTSTAMP:20260421T014242
CREATED:20251231T082712Z
LAST-MODIFIED:20251231T082712Z
UID:10000920-1768489200-1768503600@cal.everettcommunity.org
SUMMARY:Free Community Night at Imagine Children's Museum
DESCRIPTION:All families with children ages 12 and under are invited to attend this free event\, and can bring the whole family! Community Access Nights offer families free admission during these special times to strengthen bonds\, promote new friendships\, and spark creativity through playful learning.
URL:https://cal.everettcommunity.org/event/free-community-night-at-imagine-childrens-museum/2026-01-15/
LOCATION:Imagine Children’s Museum\, 1502 Wall St\, Everett\, WA\, 98201\, United States
CATEGORIES:Charity & Causes
ATTACH;FMTTYPE=image/jpeg:https://cal.everettcommunity.org/wp-content/uploads/2025/12/imagine.jpg
END:VEVENT
BEGIN:VEVENT
DTSTART;TZID=America/Los_Angeles:20251220T163000
DTEND;TZID=America/Los_Angeles:20251220T180000
DTSTAMP:20260421T014242
CREATED:20251223T060340Z
LAST-MODIFIED:20251223T063045Z
UID:10000001-1766248200-1766253600@cal.everettcommunity.org
SUMMARY:Wrestling Fundraiser
DESCRIPTION:Join Peak Sports Entertainment and the Everett Recovery Cafe\, December 20th at 5pm at the VFW Post 2100 on 2711 Oakes Ave for an unforgettable wrestling event to BODY SLAM ADDICTION! \nAll proceeds go directly to the Everett Recovery Cafe where they will support healing\, recovery\, and community right here in Snohomish County. General admission is $20\, front row seats are $30. Doors at 4:30pm\, bell at 5pm.
URL:https://cal.everettcommunity.org/event/wrestling-fundraiser/
LOCATION:VFW Post 2100\, 2711 Oakes Ave\, Everett\, WA\, 98201\, United States
CATEGORIES:Charity & Causes
ATTACH;FMTTYPE=image/jpeg:https://cal.everettcommunity.org/wp-content/uploads/2025/12/wrestle.jpg
END:VEVENT
END:VCALENDAR