BEGIN:VCALENDAR
VERSION:2.0
PRODID:-//Everett Community - ECPv6.15.20//NONSGML v1.0//EN
CALSCALE:GREGORIAN
METHOD:PUBLISH
X-WR-CALNAME:Everett Community
X-ORIGINAL-URL:https://cal.everettcommunity.org
X-WR-CALDESC:Events for Everett Community
REFRESH-INTERVAL;VALUE=DURATION:PT1H
X-Robots-Tag:noindex
X-PUBLISHED-TTL:PT1H
BEGIN:VTIMEZONE
TZID:America/Los_Angeles
BEGIN:DAYLIGHT
TZOFFSETFROM:-0800
TZOFFSETTO:-0700
TZNAME:PDT
DTSTART:20250309T100000
END:DAYLIGHT
BEGIN:STANDARD
TZOFFSETFROM:-0700
TZOFFSETTO:-0800
TZNAME:PST
DTSTART:20251102T090000
END:STANDARD
BEGIN:DAYLIGHT
TZOFFSETFROM:-0800
TZOFFSETTO:-0700
TZNAME:PDT
DTSTART:20260308T100000
END:DAYLIGHT
BEGIN:STANDARD
TZOFFSETFROM:-0700
TZOFFSETTO:-0800
TZNAME:PST
DTSTART:20261101T090000
END:STANDARD
BEGIN:DAYLIGHT
TZOFFSETFROM:-0800
TZOFFSETTO:-0700
TZNAME:PDT
DTSTART:20270314T100000
END:DAYLIGHT
BEGIN:STANDARD
TZOFFSETFROM:-0700
TZOFFSETTO:-0800
TZNAME:PST
DTSTART:20271107T090000
END:STANDARD
END:VTIMEZONE
BEGIN:VEVENT
DTSTART;TZID=America/Los_Angeles:20260316T180000
DTEND;TZID=America/Los_Angeles:20260316T200000
DTSTAMP:20260421T062619
CREATED:20260205T005555Z
LAST-MODIFIED:20260205T005555Z
UID:10001540-1773684000-1773691200@cal.everettcommunity.org
SUMMARY:Everett Schools BIG Give Showdown
DESCRIPTION:The BIG Give Showdown will bring the community together for an evening of fun\, food\, and philanthropy. It’s a chance to give\, cheer loudly\, and celebrate the great work happening in schools every day. Each donation\, no matter the size\, helps meet urgent needs\, expand learning opportunities\, and strengthen programs that benefit students across Everett Public Schools. Parents\, guardians\, and families are encouraged to attend the event where their student’s school is competing. Members of the public are invited to attend. \nMarch 16th: Cascade High School Cafeteria\nMarch 18th: Everett High School Gym\nMarch 31st: Jackson High School Commons \nPRE-GAME STARTS AT 6:00 PM \n\nVisit classroom grant recipient booths\nExplore Foundation pillars and program showcases\nEnjoy food trucks (prices will vary)\, interactive activities\, and community connection\nEnter the raffles\n\nGAME SHOW BEGINS AT 7:00 PM \n\nSchool teams compete in the game show\nOne team at each event will win the inaugural “Everett Cup”
URL:https://cal.everettcommunity.org/event/everett-schools-big-give-showdown/2026-03-16/
LOCATION:WA
CATEGORIES:Charity & Causes
ATTACH;FMTTYPE=image/jpeg:https://cal.everettcommunity.org/wp-content/uploads/2026/02/showdown.jpg
END:VEVENT
BEGIN:VEVENT
DTSTART;TZID=America/Los_Angeles:20260317T170000
DTEND;TZID=America/Los_Angeles:20260317T210000
DTSTAMP:20260421T062619
CREATED:20260223T065029Z
LAST-MODIFIED:20260223T065029Z
UID:10001545-1773766800-1773781200@cal.everettcommunity.org
SUMMARY:Eat Good\, Do Good
DESCRIPTION:Looking for a meaningful way to spend St. Patrick’s Day? Eat at The New Mexicans! 15% of every sale goes directly to the Everett Recovery Cafe. They are opening their doors for a private evening exclusively to support the organization – a community of belonging for those navigating substance use\, mental health challenges\, and the journey toward healing.
URL:https://cal.everettcommunity.org/event/eat-good-do-good/
LOCATION:The New Mexicans Restaurant\, 1416 Hewitt Ave\, Everett\, WA\, 98201\, United States
CATEGORIES:Charity & Causes,Food & Drink
ATTACH;FMTTYPE=image/jpeg:https://cal.everettcommunity.org/wp-content/uploads/2026/02/MexRecovery.jpg
END:VEVENT
BEGIN:VEVENT
DTSTART;TZID=America/Los_Angeles:20260318T180000
DTEND;TZID=America/Los_Angeles:20260318T200000
DTSTAMP:20260421T062619
CREATED:20260205T005555Z
LAST-MODIFIED:20260205T005555Z
UID:10001541-1773856800-1773864000@cal.everettcommunity.org
SUMMARY:Everett Schools BIG Give Showdown
DESCRIPTION:The BIG Give Showdown will bring the community together for an evening of fun\, food\, and philanthropy. It’s a chance to give\, cheer loudly\, and celebrate the great work happening in schools every day. Each donation\, no matter the size\, helps meet urgent needs\, expand learning opportunities\, and strengthen programs that benefit students across Everett Public Schools. Parents\, guardians\, and families are encouraged to attend the event where their student’s school is competing. Members of the public are invited to attend. \nMarch 16th: Cascade High School Cafeteria\nMarch 18th: Everett High School Gym\nMarch 31st: Jackson High School Commons \nPRE-GAME STARTS AT 6:00 PM \n\nVisit classroom grant recipient booths\nExplore Foundation pillars and program showcases\nEnjoy food trucks (prices will vary)\, interactive activities\, and community connection\nEnter the raffles\n\nGAME SHOW BEGINS AT 7:00 PM \n\nSchool teams compete in the game show\nOne team at each event will win the inaugural “Everett Cup”
URL:https://cal.everettcommunity.org/event/everett-schools-big-give-showdown/2026-03-18/
LOCATION:WA
CATEGORIES:Charity & Causes
ATTACH;FMTTYPE=image/jpeg:https://cal.everettcommunity.org/wp-content/uploads/2026/02/showdown.jpg
END:VEVENT
BEGIN:VEVENT
DTSTART;TZID=America/Los_Angeles:20260319T150000
DTEND;TZID=America/Los_Angeles:20260319T190000
DTSTAMP:20260421T062619
CREATED:20251231T082712Z
LAST-MODIFIED:20251231T082712Z
UID:10000922-1773932400-1773946800@cal.everettcommunity.org
SUMMARY:Free Community Night at Imagine Children's Museum
DESCRIPTION:All families with children ages 12 and under are invited to attend this free event\, and can bring the whole family! Community Access Nights offer families free admission during these special times to strengthen bonds\, promote new friendships\, and spark creativity through playful learning.
URL:https://cal.everettcommunity.org/event/free-community-night-at-imagine-childrens-museum/2026-03-19/
LOCATION:Imagine Children’s Museum\, 1502 Wall St\, Everett\, WA\, 98201\, United States
CATEGORIES:Charity & Causes
ATTACH;FMTTYPE=image/jpeg:https://cal.everettcommunity.org/wp-content/uploads/2025/12/imagine.jpg
END:VEVENT
BEGIN:VEVENT
DTSTART;TZID=America/Los_Angeles:20260321T100000
DTEND;TZID=America/Los_Angeles:20260321T120000
DTSTAMP:20260421T062619
CREATED:20260223T191403Z
LAST-MODIFIED:20260301T082630Z
UID:10001939-1774087200-1774094400@cal.everettcommunity.org
SUMMARY:SnoCo LGBTQI+ Meetup
DESCRIPTION:We are an inclusive social group for LGBTQI+ individuals of all ages in Snohomish County\, Washington. Join us for a free morning meetup at Butter Notes Cafe.
URL:https://cal.everettcommunity.org/event/snoco-lgbtqi-meetup/2026-03-21/
LOCATION:Butter Notes Cafe\, 902 N Broadway\, Unit B\, Everett\, WA\, 98201\, United States
CATEGORIES:Charity & Causes,Food & Drink
ATTACH;FMTTYPE=image/jpeg:https://cal.everettcommunity.org/wp-content/uploads/2026/02/lgbt.jpg
END:VEVENT
BEGIN:VEVENT
DTSTART;TZID=America/Los_Angeles:20260322T130000
DTEND;TZID=America/Los_Angeles:20260322T160000
DTSTAMP:20260421T062619
CREATED:20260302T215254Z
LAST-MODIFIED:20260302T215254Z
UID:10002199-1774184400-1774195200@cal.everettcommunity.org
SUMMARY:Everett Pride Silent Auction
DESCRIPTION:Join the Everett community for a silent auction benefitting Everett Pride! Event tickets\, original artwork\, and more will be available for bids. The event will be livestreamed for virtual attendees.
URL:https://cal.everettcommunity.org/event/everett-pride-silent-auction/
LOCATION:Lucky Dime\, 1618 Hewitt Ave\, Everett\, WA\, 98201\, United States
CATEGORIES:Charity & Causes
ATTACH;FMTTYPE=image/jpeg:https://cal.everettcommunity.org/wp-content/uploads/2026/03/pride-auction.jpg
END:VEVENT
BEGIN:VEVENT
DTSTART;TZID=America/Los_Angeles:20260328T100000
DTEND;TZID=America/Los_Angeles:20260328T120000
DTSTAMP:20260421T062619
CREATED:20260223T191403Z
LAST-MODIFIED:20260301T082630Z
UID:10001940-1774692000-1774699200@cal.everettcommunity.org
SUMMARY:SnoCo LGBTQI+ Meetup
DESCRIPTION:We are an inclusive social group for LGBTQI+ individuals of all ages in Snohomish County\, Washington. Join us for a free morning meetup at Butter Notes Cafe.
URL:https://cal.everettcommunity.org/event/snoco-lgbtqi-meetup/2026-03-28/
LOCATION:Butter Notes Cafe\, 902 N Broadway\, Unit B\, Everett\, WA\, 98201\, United States
CATEGORIES:Charity & Causes,Food & Drink
ATTACH;FMTTYPE=image/jpeg:https://cal.everettcommunity.org/wp-content/uploads/2026/02/lgbt.jpg
END:VEVENT
BEGIN:VEVENT
DTSTART;TZID=America/Los_Angeles:20260329T080000
DTEND;TZID=America/Los_Angeles:20260329T120000
DTSTAMP:20260421T062619
CREATED:20260327T230444Z
LAST-MODIFIED:20260327T230444Z
UID:10002243-1774771200-1774785600@cal.everettcommunity.org
SUMMARY:Mill Town Half Marathon\, 10K\, 5K
DESCRIPTION:The Everett Half and 10k is now the Mill Town Marathon. The event will feature a 10k and a half marathon\, and a new 5K\, all of which will offer participants beautiful views of the Puget Sound\, the Cascade Mountains\, the Snohomish Valley\, and PNW beauty. All distances will start and finish at the Port of Everett. Enjoy a well-marked course and roads closed to vehicular traffic. All active-duty military and veterans are welcome to register at a discounted military rate.
URL:https://cal.everettcommunity.org/event/mill-town-half-marathon-10k-5k/
LOCATION:The Muse Whiskey & Coffee\, 615 Millwright Lp W\, Everett\, WA\, 98201\, United States
CATEGORIES:Charity & Causes,Sports & Fitness
ATTACH;FMTTYPE=image/jpeg:https://cal.everettcommunity.org/wp-content/uploads/2026/03/milltownhalf.jpg
END:VEVENT
BEGIN:VEVENT
DTSTART;TZID=America/Los_Angeles:20260329T170000
DTEND;TZID=America/Los_Angeles:20260329T203000
DTSTAMP:20260421T062619
CREATED:20260223T073242Z
LAST-MODIFIED:20260223T073242Z
UID:10001552-1774803600-1774816200@cal.everettcommunity.org
SUMMARY:Everett Philharmonic Orchestra Gala
DESCRIPTION:Join the gala event to benefit the Everett Philharmonic Orchestra\, featuring Dr Paul-Elliott Cobbs\, Music Director Emeritus. Enjoy dinner catered by Alexa’s Cafe & Catering\, classic Broadway show tunes\, a silent and live auction\, and live piano music by Robert Knoll\, all hosted by guest emcee Sean MacLean from KING-FM. \nThe gala will take place at the Rosehill Community Center in Mukilteo.
URL:https://cal.everettcommunity.org/event/everett-philharmonic-orchestra-gala/
LOCATION:WA
CATEGORIES:Art & Performances,Charity & Causes
ATTACH;FMTTYPE=image/jpeg:https://cal.everettcommunity.org/wp-content/uploads/2026/02/‎GalaBroch26.jpg
END:VEVENT
BEGIN:VEVENT
DTSTART;TZID=America/Los_Angeles:20260331T180000
DTEND;TZID=America/Los_Angeles:20260331T200000
DTSTAMP:20260421T062619
CREATED:20260205T005555Z
LAST-MODIFIED:20260205T005555Z
UID:10001542-1774980000-1774987200@cal.everettcommunity.org
SUMMARY:Everett Schools BIG Give Showdown
DESCRIPTION:The BIG Give Showdown will bring the community together for an evening of fun\, food\, and philanthropy. It’s a chance to give\, cheer loudly\, and celebrate the great work happening in schools every day. Each donation\, no matter the size\, helps meet urgent needs\, expand learning opportunities\, and strengthen programs that benefit students across Everett Public Schools. Parents\, guardians\, and families are encouraged to attend the event where their student’s school is competing. Members of the public are invited to attend. \nMarch 16th: Cascade High School Cafeteria\nMarch 18th: Everett High School Gym\nMarch 31st: Jackson High School Commons \nPRE-GAME STARTS AT 6:00 PM \n\nVisit classroom grant recipient booths\nExplore Foundation pillars and program showcases\nEnjoy food trucks (prices will vary)\, interactive activities\, and community connection\nEnter the raffles\n\nGAME SHOW BEGINS AT 7:00 PM \n\nSchool teams compete in the game show\nOne team at each event will win the inaugural “Everett Cup”
URL:https://cal.everettcommunity.org/event/everett-schools-big-give-showdown/2026-03-31/
LOCATION:WA
CATEGORIES:Charity & Causes
ATTACH;FMTTYPE=image/jpeg:https://cal.everettcommunity.org/wp-content/uploads/2026/02/showdown.jpg
END:VEVENT
BEGIN:VEVENT
DTSTART;TZID=America/Los_Angeles:20260404T100000
DTEND;TZID=America/Los_Angeles:20260404T120000
DTSTAMP:20260421T062619
CREATED:20260223T191403Z
LAST-MODIFIED:20260301T082630Z
UID:10001941-1775296800-1775304000@cal.everettcommunity.org
SUMMARY:SnoCo LGBTQI+ Meetup
DESCRIPTION:We are an inclusive social group for LGBTQI+ individuals of all ages in Snohomish County\, Washington. Join us for a free morning meetup at Butter Notes Cafe.
URL:https://cal.everettcommunity.org/event/snoco-lgbtqi-meetup/2026-04-04/
LOCATION:Butter Notes Cafe\, 902 N Broadway\, Unit B\, Everett\, WA\, 98201\, United States
CATEGORIES:Charity & Causes,Food & Drink
ATTACH;FMTTYPE=image/jpeg:https://cal.everettcommunity.org/wp-content/uploads/2026/02/lgbt.jpg
END:VEVENT
BEGIN:VEVENT
DTSTART;TZID=America/Los_Angeles:20260407T170000
DTEND;TZID=America/Los_Angeles:20260407T200000
DTSTAMP:20260421T062619
CREATED:20260106T183640Z
LAST-MODIFIED:20260127T005349Z
UID:10001329-1775581200-1775592000@cal.everettcommunity.org
SUMMARY:CommonUnity Emerging Leaders Award Ceremony
DESCRIPTION:For 11 years\, we’ve been recognizing the voices shaping Snohomish County’s tomorrow. As we celebrate all those who have been a part of these last years\, we’re not just honoring leadership – we’re transforming the tables where decisions are made. Today’s emerging leaders are tomorrow’s architects of change. Join us for an incredible award ceremony to usher in a bright future for Snohomish County!
URL:https://cal.everettcommunity.org/event/comonunity-emerging-leaders-award-ceremony/
LOCATION:APEX Everett\, 1611 Everett Ave\, Everett\, WA\, 98201\, United States
CATEGORIES:Charity & Causes
ATTACH;FMTTYPE=image/jpeg:https://cal.everettcommunity.org/wp-content/uploads/2026/01/CommonUnity.jpg
END:VEVENT
BEGIN:VEVENT
DTSTART;TZID=America/Los_Angeles:20260411T100000
DTEND;TZID=America/Los_Angeles:20260411T120000
DTSTAMP:20260421T062619
CREATED:20260223T191403Z
LAST-MODIFIED:20260301T082630Z
UID:10001942-1775901600-1775908800@cal.everettcommunity.org
SUMMARY:SnoCo LGBTQI+ Meetup
DESCRIPTION:We are an inclusive social group for LGBTQI+ individuals of all ages in Snohomish County\, Washington. Join us for a free morning meetup at Butter Notes Cafe.
URL:https://cal.everettcommunity.org/event/snoco-lgbtqi-meetup/2026-04-11/
LOCATION:Butter Notes Cafe\, 902 N Broadway\, Unit B\, Everett\, WA\, 98201\, United States
CATEGORIES:Charity & Causes,Food & Drink
ATTACH;FMTTYPE=image/jpeg:https://cal.everettcommunity.org/wp-content/uploads/2026/02/lgbt.jpg
END:VEVENT
BEGIN:VEVENT
DTSTART;TZID=America/Los_Angeles:20260416T150000
DTEND;TZID=America/Los_Angeles:20260416T190000
DTSTAMP:20260421T062619
CREATED:20251231T082712Z
LAST-MODIFIED:20251231T082712Z
UID:10000923-1776351600-1776366000@cal.everettcommunity.org
SUMMARY:Free Community Night at Imagine Children's Museum
DESCRIPTION:All families with children ages 12 and under are invited to attend this free event\, and can bring the whole family! Community Access Nights offer families free admission during these special times to strengthen bonds\, promote new friendships\, and spark creativity through playful learning.
URL:https://cal.everettcommunity.org/event/free-community-night-at-imagine-childrens-museum/2026-04-16/
LOCATION:Imagine Children’s Museum\, 1502 Wall St\, Everett\, WA\, 98201\, United States
CATEGORIES:Charity & Causes
ATTACH;FMTTYPE=image/jpeg:https://cal.everettcommunity.org/wp-content/uploads/2025/12/imagine.jpg
END:VEVENT
BEGIN:VEVENT
DTSTART;TZID=America/Los_Angeles:20260418T090000
DTEND;TZID=America/Los_Angeles:20260418T120000
DTSTAMP:20260421T062619
CREATED:20260318T175419Z
LAST-MODIFIED:20260318T175419Z
UID:10002222-1776502800-1776513600@cal.everettcommunity.org
SUMMARY:Marina/Jetty Island Cleanup Day
DESCRIPTION:Every April\, more than 100 volunteers come together for the annual Marina and Jetty Island Cleanup Day to give back to their community and make our waterfront a beautiful and clean space. See below for information on this year’s event and how you can get involved!
URL:https://cal.everettcommunity.org/event/marina-jetty-island-cleanup-day/
LOCATION:WA
CATEGORIES:Charity & Causes
ATTACH;FMTTYPE=image/jpeg:https://cal.everettcommunity.org/wp-content/uploads/2026/03/cleanup.jpg
END:VEVENT
BEGIN:VEVENT
DTSTART;TZID=America/Los_Angeles:20260418T100000
DTEND;TZID=America/Los_Angeles:20260418T120000
DTSTAMP:20260421T062619
CREATED:20260223T191403Z
LAST-MODIFIED:20260301T082630Z
UID:10001943-1776506400-1776513600@cal.everettcommunity.org
SUMMARY:SnoCo LGBTQI+ Meetup
DESCRIPTION:We are an inclusive social group for LGBTQI+ individuals of all ages in Snohomish County\, Washington. Join us for a free morning meetup at Butter Notes Cafe.
URL:https://cal.everettcommunity.org/event/snoco-lgbtqi-meetup/2026-04-18/
LOCATION:Butter Notes Cafe\, 902 N Broadway\, Unit B\, Everett\, WA\, 98201\, United States
CATEGORIES:Charity & Causes,Food & Drink
ATTACH;FMTTYPE=image/jpeg:https://cal.everettcommunity.org/wp-content/uploads/2026/02/lgbt.jpg
END:VEVENT
BEGIN:VEVENT
DTSTART;TZID=America/Los_Angeles:20260423T180000
DTEND;TZID=America/Los_Angeles:20260423T210000
DTSTAMP:20260421T062619
CREATED:20260417T035636Z
LAST-MODIFIED:20260417T035636Z
UID:10002258-1776967200-1776978000@cal.everettcommunity.org
SUMMARY:The Wendt & Mayor's Arts Awards
DESCRIPTION:The City of Everett Cultural Arts Commission and Mayor Cassie Franklin invite you to join us to honor and celebrate the following individuals and organizations at the Wendt Awards on April 23\, 2026\, at the Everett Performing Arts Center / Village Theatre.
URL:https://cal.everettcommunity.org/event/the-wendt-mayors-arts-awards/
LOCATION:Everett Performing Arts Center\, 2710 Wetmore Ave\, Everett\, WA\, 98201\, United States
CATEGORIES:Art & Performances,Charity & Causes
ATTACH;FMTTYPE=image/jpeg:https://cal.everettcommunity.org/wp-content/uploads/2026/04/wendt.jpg
END:VEVENT
BEGIN:VEVENT
DTSTART;TZID=America/Los_Angeles:20260425T093000
DTEND;TZID=America/Los_Angeles:20260425T140000
DTSTAMP:20260421T062619
CREATED:20260126T080404Z
LAST-MODIFIED:20260126T080404Z
UID:10001357-1777109400-1777125600@cal.everettcommunity.org
SUMMARY:2026 Planting Day
DESCRIPTION:Join us for our seventh annual Downtown Planting Day on April 25! Volunteers will spend around 2 hours planting flowers in the street planters. You’re welcome to stay the entire time\, or just long enough to plant one planter. \nIf you own a gardening cart/wheelbarrow/wagon and can feasibly transport it downtown\, we encourage you to bring it for easier transportation of plants from Wetmore Plaza to your assigned planter(s).
URL:https://cal.everettcommunity.org/event/2026-planting-day/
LOCATION:WA
CATEGORIES:Charity & Causes
ATTACH;FMTTYPE=image/jpeg:https://cal.everettcommunity.org/wp-content/uploads/2026/01/plantingday.jpg
END:VEVENT
BEGIN:VEVENT
DTSTART;TZID=America/Los_Angeles:20260425T100000
DTEND;TZID=America/Los_Angeles:20260425T120000
DTSTAMP:20260421T062619
CREATED:20260223T191403Z
LAST-MODIFIED:20260301T082630Z
UID:10001944-1777111200-1777118400@cal.everettcommunity.org
SUMMARY:SnoCo LGBTQI+ Meetup
DESCRIPTION:We are an inclusive social group for LGBTQI+ individuals of all ages in Snohomish County\, Washington. Join us for a free morning meetup at Butter Notes Cafe.
URL:https://cal.everettcommunity.org/event/snoco-lgbtqi-meetup/2026-04-25/
LOCATION:Butter Notes Cafe\, 902 N Broadway\, Unit B\, Everett\, WA\, 98201\, United States
CATEGORIES:Charity & Causes,Food & Drink
ATTACH;FMTTYPE=image/jpeg:https://cal.everettcommunity.org/wp-content/uploads/2026/02/lgbt.jpg
END:VEVENT
BEGIN:VEVENT
DTSTART;TZID=America/Los_Angeles:20260425T100000
DTEND;TZID=America/Los_Angeles:20260425T140000
DTSTAMP:20260421T062619
CREATED:20260417T031535Z
LAST-MODIFIED:20260417T031535Z
UID:10002251-1777111200-1777125600@cal.everettcommunity.org
SUMMARY:PUD Energy Block Party
DESCRIPTION:Enjoy the food trucks\, and check out the Parachute Drop Challenge\, High Voltage Demo Trailer\, and more for adults and youth.
URL:https://cal.everettcommunity.org/event/pud-energy-block-party/
LOCATION:Snohomish County PUD\, 2320 California St\, Everett\, WA\, 98201\, United States
CATEGORIES:Charity & Causes
ATTACH;FMTTYPE=image/png:https://cal.everettcommunity.org/wp-content/uploads/2026/04/EBP-PUD.png
END:VEVENT
BEGIN:VEVENT
DTSTART;TZID=America/Los_Angeles:20260425T110000
DTEND;TZID=America/Los_Angeles:20260425T170000
DTSTAMP:20260421T062619
CREATED:20260421T052705Z
LAST-MODIFIED:20260421T052705Z
UID:10002259-1777114800-1777136400@cal.everettcommunity.org
SUMMARY:Anarchist Book Fair
DESCRIPTION:The Everett Anarchist Book Fair works to showcase literature by independent authors and encourages various businesses – who routinely work to build their community – to table at the event.
URL:https://cal.everettcommunity.org/event/anarchist-book-fair/
LOCATION:Charm & Strange\, 2913 W Marine View Dr\, Everett\, WA\, 98201\, United States
CATEGORIES:Art & Performances,Charity & Causes
ATTACH;FMTTYPE=image/jpeg:https://cal.everettcommunity.org/wp-content/uploads/2026/04/AABF.jpg
END:VEVENT
BEGIN:VEVENT
DTSTART;TZID=America/Los_Angeles:20260502T100000
DTEND;TZID=America/Los_Angeles:20260502T120000
DTSTAMP:20260421T062619
CREATED:20260223T191403Z
LAST-MODIFIED:20260301T082630Z
UID:10001945-1777716000-1777723200@cal.everettcommunity.org
SUMMARY:SnoCo LGBTQI+ Meetup
DESCRIPTION:We are an inclusive social group for LGBTQI+ individuals of all ages in Snohomish County\, Washington. Join us for a free morning meetup at Butter Notes Cafe.
URL:https://cal.everettcommunity.org/event/snoco-lgbtqi-meetup/2026-05-02/
LOCATION:Butter Notes Cafe\, 902 N Broadway\, Unit B\, Everett\, WA\, 98201\, United States
CATEGORIES:Charity & Causes,Food & Drink
ATTACH;FMTTYPE=image/jpeg:https://cal.everettcommunity.org/wp-content/uploads/2026/02/lgbt.jpg
END:VEVENT
BEGIN:VEVENT
DTSTART;TZID=America/Los_Angeles:20260509T100000
DTEND;TZID=America/Los_Angeles:20260509T120000
DTSTAMP:20260421T062619
CREATED:20260223T191403Z
LAST-MODIFIED:20260301T082630Z
UID:10001946-1778320800-1778328000@cal.everettcommunity.org
SUMMARY:SnoCo LGBTQI+ Meetup
DESCRIPTION:We are an inclusive social group for LGBTQI+ individuals of all ages in Snohomish County\, Washington. Join us for a free morning meetup at Butter Notes Cafe.
URL:https://cal.everettcommunity.org/event/snoco-lgbtqi-meetup/2026-05-09/
LOCATION:Butter Notes Cafe\, 902 N Broadway\, Unit B\, Everett\, WA\, 98201\, United States
CATEGORIES:Charity & Causes,Food & Drink
ATTACH;FMTTYPE=image/jpeg:https://cal.everettcommunity.org/wp-content/uploads/2026/02/lgbt.jpg
END:VEVENT
BEGIN:VEVENT
DTSTART;TZID=America/Los_Angeles:20260516T100000
DTEND;TZID=America/Los_Angeles:20260516T120000
DTSTAMP:20260421T062619
CREATED:20260223T191403Z
LAST-MODIFIED:20260301T082630Z
UID:10001947-1778925600-1778932800@cal.everettcommunity.org
SUMMARY:SnoCo LGBTQI+ Meetup
DESCRIPTION:We are an inclusive social group for LGBTQI+ individuals of all ages in Snohomish County\, Washington. Join us for a free morning meetup at Butter Notes Cafe.
URL:https://cal.everettcommunity.org/event/snoco-lgbtqi-meetup/2026-05-16/
LOCATION:Butter Notes Cafe\, 902 N Broadway\, Unit B\, Everett\, WA\, 98201\, United States
CATEGORIES:Charity & Causes,Food & Drink
ATTACH;FMTTYPE=image/jpeg:https://cal.everettcommunity.org/wp-content/uploads/2026/02/lgbt.jpg
END:VEVENT
BEGIN:VEVENT
DTSTART;TZID=America/Los_Angeles:20260521T150000
DTEND;TZID=America/Los_Angeles:20260521T190000
DTSTAMP:20260421T062619
CREATED:20251231T082712Z
LAST-MODIFIED:20251231T082712Z
UID:10000924-1779375600-1779390000@cal.everettcommunity.org
SUMMARY:Free Community Night at Imagine Children's Museum
DESCRIPTION:All families with children ages 12 and under are invited to attend this free event\, and can bring the whole family! Community Access Nights offer families free admission during these special times to strengthen bonds\, promote new friendships\, and spark creativity through playful learning.
URL:https://cal.everettcommunity.org/event/free-community-night-at-imagine-childrens-museum/2026-05-21/
LOCATION:Imagine Children’s Museum\, 1502 Wall St\, Everett\, WA\, 98201\, United States
CATEGORIES:Charity & Causes
ATTACH;FMTTYPE=image/jpeg:https://cal.everettcommunity.org/wp-content/uploads/2025/12/imagine.jpg
END:VEVENT
BEGIN:VEVENT
DTSTART;TZID=America/Los_Angeles:20260523T100000
DTEND;TZID=America/Los_Angeles:20260523T120000
DTSTAMP:20260421T062620
CREATED:20260223T191403Z
LAST-MODIFIED:20260301T082630Z
UID:10001948-1779530400-1779537600@cal.everettcommunity.org
SUMMARY:SnoCo LGBTQI+ Meetup
DESCRIPTION:We are an inclusive social group for LGBTQI+ individuals of all ages in Snohomish County\, Washington. Join us for a free morning meetup at Butter Notes Cafe.
URL:https://cal.everettcommunity.org/event/snoco-lgbtqi-meetup/2026-05-23/
LOCATION:Butter Notes Cafe\, 902 N Broadway\, Unit B\, Everett\, WA\, 98201\, United States
CATEGORIES:Charity & Causes,Food & Drink
ATTACH;FMTTYPE=image/jpeg:https://cal.everettcommunity.org/wp-content/uploads/2026/02/lgbt.jpg
END:VEVENT
BEGIN:VEVENT
DTSTART;TZID=America/Los_Angeles:20260530T100000
DTEND;TZID=America/Los_Angeles:20260530T120000
DTSTAMP:20260421T062620
CREATED:20260223T191403Z
LAST-MODIFIED:20260301T082630Z
UID:10001949-1780135200-1780142400@cal.everettcommunity.org
SUMMARY:SnoCo LGBTQI+ Meetup
DESCRIPTION:We are an inclusive social group for LGBTQI+ individuals of all ages in Snohomish County\, Washington. Join us for a free morning meetup at Butter Notes Cafe.
URL:https://cal.everettcommunity.org/event/snoco-lgbtqi-meetup/2026-05-30/
LOCATION:Butter Notes Cafe\, 902 N Broadway\, Unit B\, Everett\, WA\, 98201\, United States
CATEGORIES:Charity & Causes,Food & Drink
ATTACH;FMTTYPE=image/jpeg:https://cal.everettcommunity.org/wp-content/uploads/2026/02/lgbt.jpg
END:VEVENT
BEGIN:VEVENT
DTSTART;TZID=America/Los_Angeles:20260606T100000
DTEND;TZID=America/Los_Angeles:20260606T120000
DTSTAMP:20260421T062620
CREATED:20260223T191403Z
LAST-MODIFIED:20260301T082630Z
UID:10001950-1780740000-1780747200@cal.everettcommunity.org
SUMMARY:SnoCo LGBTQI+ Meetup
DESCRIPTION:We are an inclusive social group for LGBTQI+ individuals of all ages in Snohomish County\, Washington. Join us for a free morning meetup at Butter Notes Cafe.
URL:https://cal.everettcommunity.org/event/snoco-lgbtqi-meetup/2026-06-06/
LOCATION:Butter Notes Cafe\, 902 N Broadway\, Unit B\, Everett\, WA\, 98201\, United States
CATEGORIES:Charity & Causes,Food & Drink
ATTACH;FMTTYPE=image/jpeg:https://cal.everettcommunity.org/wp-content/uploads/2026/02/lgbt.jpg
END:VEVENT
BEGIN:VEVENT
DTSTART;TZID=America/Los_Angeles:20260613T100000
DTEND;TZID=America/Los_Angeles:20260613T120000
DTSTAMP:20260421T062620
CREATED:20260223T191403Z
LAST-MODIFIED:20260301T082630Z
UID:10001951-1781344800-1781352000@cal.everettcommunity.org
SUMMARY:SnoCo LGBTQI+ Meetup
DESCRIPTION:We are an inclusive social group for LGBTQI+ individuals of all ages in Snohomish County\, Washington. Join us for a free morning meetup at Butter Notes Cafe.
URL:https://cal.everettcommunity.org/event/snoco-lgbtqi-meetup/2026-06-13/
LOCATION:Butter Notes Cafe\, 902 N Broadway\, Unit B\, Everett\, WA\, 98201\, United States
CATEGORIES:Charity & Causes,Food & Drink
ATTACH;FMTTYPE=image/jpeg:https://cal.everettcommunity.org/wp-content/uploads/2026/02/lgbt.jpg
END:VEVENT
BEGIN:VEVENT
DTSTART;TZID=America/Los_Angeles:20260618T150000
DTEND;TZID=America/Los_Angeles:20260618T190000
DTSTAMP:20260421T062620
CREATED:20251231T082712Z
LAST-MODIFIED:20251231T082712Z
UID:10000925-1781794800-1781809200@cal.everettcommunity.org
SUMMARY:Free Community Night at Imagine Children's Museum
DESCRIPTION:All families with children ages 12 and under are invited to attend this free event\, and can bring the whole family! Community Access Nights offer families free admission during these special times to strengthen bonds\, promote new friendships\, and spark creativity through playful learning.
URL:https://cal.everettcommunity.org/event/free-community-night-at-imagine-childrens-museum/2026-06-18/
LOCATION:Imagine Children’s Museum\, 1502 Wall St\, Everett\, WA\, 98201\, United States
CATEGORIES:Charity & Causes
ATTACH;FMTTYPE=image/jpeg:https://cal.everettcommunity.org/wp-content/uploads/2025/12/imagine.jpg
END:VEVENT
END:VCALENDAR