BEGIN:VCALENDAR
VERSION:2.0
PRODID:-//Everett Community - ECPv6.15.20//NONSGML v1.0//EN
CALSCALE:GREGORIAN
METHOD:PUBLISH
X-WR-CALNAME:Everett Community
X-ORIGINAL-URL:https://cal.everettcommunity.org
X-WR-CALDESC:Events for Everett Community
REFRESH-INTERVAL;VALUE=DURATION:PT1H
X-Robots-Tag:noindex
X-PUBLISHED-TTL:PT1H
BEGIN:VTIMEZONE
TZID:America/Los_Angeles
BEGIN:DAYLIGHT
TZOFFSETFROM:-0800
TZOFFSETTO:-0700
TZNAME:PDT
DTSTART:20250309T100000
END:DAYLIGHT
BEGIN:STANDARD
TZOFFSETFROM:-0700
TZOFFSETTO:-0800
TZNAME:PST
DTSTART:20251102T090000
END:STANDARD
BEGIN:DAYLIGHT
TZOFFSETFROM:-0800
TZOFFSETTO:-0700
TZNAME:PDT
DTSTART:20260308T100000
END:DAYLIGHT
BEGIN:STANDARD
TZOFFSETFROM:-0700
TZOFFSETTO:-0800
TZNAME:PST
DTSTART:20261101T090000
END:STANDARD
BEGIN:DAYLIGHT
TZOFFSETFROM:-0800
TZOFFSETTO:-0700
TZNAME:PDT
DTSTART:20270314T100000
END:DAYLIGHT
BEGIN:STANDARD
TZOFFSETFROM:-0700
TZOFFSETTO:-0800
TZNAME:PST
DTSTART:20271107T090000
END:STANDARD
END:VTIMEZONE
BEGIN:VEVENT
DTSTART;TZID=America/Los_Angeles:20260423T080000
DTEND;TZID=America/Los_Angeles:20260423T090000
DTSTAMP:20260423T024803
CREATED:20260109T191854Z
LAST-MODIFIED:20260327T221355Z
UID:10000276-1776931200-1776934800@cal.everettcommunity.org
SUMMARY:PNA NW
DESCRIPTION:Professional Networking Association\, NW is a locally-owned business networking organization based on a positive environment\, a weekly meeting format & structure to help business owners and/or employees to interact\, an opportunity to grow their businesses\, and the chance to earn referrals. Members also gain marketing development\, accountability\, encouragement and support during each meeting and outside the chapters.
URL:https://cal.everettcommunity.org/event/pna-nw-2/2026-04-23/
LOCATION:Calrose Insurance\, 2231 Broadway\, Everett\, WA\, 98201\, United States
CATEGORIES:Business & Professional
ATTACH;FMTTYPE=image/png:https://cal.everettcommunity.org/wp-content/uploads/2025/12/Group-99.png
END:VEVENT
BEGIN:VEVENT
DTSTART;TZID=America/Los_Angeles:20260423T180000
DTEND;TZID=America/Los_Angeles:20260423T210000
DTSTAMP:20260423T024803
CREATED:20260417T035636Z
LAST-MODIFIED:20260417T035636Z
UID:10002258-1776967200-1776978000@cal.everettcommunity.org
SUMMARY:The Wendt & Mayor's Arts Awards
DESCRIPTION:The City of Everett Cultural Arts Commission and Mayor Cassie Franklin invite you to join us to honor and celebrate the following individuals and organizations at the Wendt Awards on April 23\, 2026\, at the Everett Performing Arts Center / Village Theatre.
URL:https://cal.everettcommunity.org/event/the-wendt-mayors-arts-awards/
LOCATION:Everett Performing Arts Center\, 2710 Wetmore Ave\, Everett\, WA\, 98201\, United States
CATEGORIES:Art & Performances,Charity & Causes
ATTACH;FMTTYPE=image/jpeg:https://cal.everettcommunity.org/wp-content/uploads/2026/04/wendt.jpg
END:VEVENT
END:VCALENDAR